Workbook
Name fhdata_Query: #REF!
Name PARKS_Query: #REF!
Name sum_data: #REF!
Name sum_data: #REF!

Sheet Annual Report
A1: 2012 Aerial Overview Summary for British Columbia
B2: Forest Regions | J2: Provincial
B3: South Coast | C3: West Coast | D3: Cariboo | E3: Thompson/ Okanagan | F3: Kootenay/ Boundary | G3: Skeena | H3: Omineca | I3: Northeast | J3: Total
A5: Bark Beetles
A6: IBM=Mountain Pine Beetle | B6: =Master!Y6 -> 5116.1692 | C6: =Master!BI6 -> 341.97093 | D6: =Master!CG6 -> 13313.889 | E6: =Master!DP6 -> 58727.643 | F6: =Master!FL6 -> 38110.947 | G6: =Master!HN6 -> 331200.76 | H6: =Master!IL6 -> 1488084.2 | I6: =Master!JJ6 -> 1081332.6 | J6: =SUM(B6:I6) -> 3016228.2
A7: IBS=Spruce Beetle | B7: =Master!Y7 -> 854.47858 | C7: =Master!BI7 -> 60.260712 | D7: =Master!CG7 -> 30127.429 | E7: =Master!DP7 -> 3632.4984 | F7: =Master!FL7 -> 650.04782 | G7: =Master!HN7 -> 254.07074 | H7: =Master!IL7 -> 1165.2845 | I7: =Master!JJ7 -> 6118.191 | J7: =SUM(B7:I7) -> 42862.26
A8: IBB=Western Balsam Bark Beetle | B8: =Master!Y8 -> 3855.1638 | C8: =Master!BI8 -> 4859.2998 | D8: =Master!CG8 -> 48340.856 | E8: =Master!DP8 -> 157284.36 | F8: =Master!FL8 -> 6965.927 | G8: =Master!HN8 -> 350633.26 | H8: =Master!IL8 -> 120547.44 | I8: =Master!JJ8 -> 29942.612 | J8: =SUM(B8:I8) -> 722428.92
A9: IBD=Douglas-fir Beetle | B9: =Master!Y9 -> 1606.5076 | C9: =Master!BI9 -> 1106.5252 | D9: =Master!CG9 -> 12096.19 | E9: =Master!DP9 -> 1663.6992 | F9: =Master!FL9 -> 1375.632 | G9: =Master!HN9 -> 949.61591 | H9: =Master!IL9 -> 2203.227 | I9: =Master!JJ9 -> 0 | J9: =SUM(B9:I9) -> 21001.397
A10: IBF=Fir engraver beetle | B10: =Master!Y10 -> 0 | C10: =Master!BI10 -> 0 | D10: =Master!CG10 -> 0 | E10: =Master!DP10 -> 0 | F10: =Master!FL10 -> 0 | G10: =Master!HN10 -> 0 | H10: =Master!IL10 -> 0 | I10: =Master!JJ10 -> 0 | J10: =SUM(B10:I10) -> 0
A11: IBP=Twig beetle | B11: =Master!Y11 -> 0 | C11: =Master!BI11 -> 0 | D11: =Master!CG11 -> 0 | E11: =Master!DP11 -> 0 | F11: =Master!FL11 -> 0 | G11: =Master!HN11 -> 0 | H11: =Master!IL11 -> 0 | I11: =Master!JJ11 -> 0 | J11: =SUM(B11:I11) -> 0
A12: IBI=Engraver Beetle (Ips species) | B12: =Master!Y12 -> 0 | C12: =Master!BI12 -> 0 | D12: =Master!CG12 -> 0 | E12: =Master!DP12 -> 0 | F12: =Master!FL12 -> 0 | G12: =Master!HN12 -> 0 | H12: =Master!IL12 -> 0 | I12: =Master!JJ12 -> 0 | J12: =SUM(B12:I12) -> 0
A13: IBW=Western Pine Beetle | B13: =Master!Y13 -> 0 | C13: =Master!BI13 -> 0 | D13: =Master!CG13 -> 0 | E13: =Master!DP13 -> 0 | F13: =Master!FL13 -> 0 | G13: =Master!HN13 -> 0 | H13: =Master!IL13 -> 0 | I13: =Master!JJ13 -> 0 | J13: =SUM(B13:I13) -> 0
A14: IBL=Lodgepole Pine Beetle | B14: =Master!Y14 -> 0 | C14: =Master!BI14 -> 0 | D14: =Master!CG14 -> 0 | E14: =Master!DP14 -> 0 | F14: =Master!FL14 -> 0 | G14: =Master!HN14 -> 0 | H14: =Master!IL14 -> 0 | I14: =Master!JJ14 -> 0 | J14: =SUM(B14:I14) -> 0
A15: IBT=Red Turpentine Beetle | B15: =Master!Y15 -> 0 | C15: =Master!BI15 -> 0 | D15: =Master!CG15 -> 0 | E15: =Master!DP15 -> 0 | F15: =Master!FL15 -> 0 | G15: =Master!HN15 -> 0 | H15: =Master!IL15 -> 0 | I15: =Master!JJ15 -> 0 | J15: =SUM(B15:I15) -> 0
A16: I?B=Young pine mortality | B16: =Master!Y16 -> 0 | C16: =Master!BI16 -> 0 | D16: =Master!CG16 -> 571.23183 | E16: =Master!DP16 -> 0 | F16: =Master!FL16 -> 0 | G16: =Master!HN16 -> 4306.6484 | H16: =Master!IL16 -> 113.23064 | I16: =Master!JJ16 -> 0 | J16: =SUM(B16:I16) -> 4991.1108
A17: IWW=Warrens Root Collar Weevil | B17: =Master!Y17 -> 0 | C17: =Master!BI17 -> 0 | D17: =Master!CG17 -> 0 | E17: =Master!DP17 -> 0 | F17: =Master!FL17 -> 0 | G17: =Master!HN17 -> 0 | H17: =Master!IL17 -> 0 | I17: =Master!JJ17 -> 0 | J17: =SUM(B17:I17) -> 0
A18: Total All BB= | B18: =Master!Y18 -> 11432.319 | C18: =Master!BI18 -> 6368.0567 | D18: =Master!CG18 -> 104449.59 | E18: =Master!DP18 -> 221308.2 | F18: =Master!FL18 -> 47102.553 | G18: =Master!HN18 -> 687344.36 | H18: =Master!IL18 -> 1612113.4 | I18: =Master!JJ18 -> 1117393.4 | J18: =SUM(B18:I18) -> 3807511.9
A20: Defoliators
A21: ID=Defoliators | B21: =Master!Y21 -> 36.830558 | C21: =Master!BI21 -> 40.720581 | D21: =Master!CG21 -> 0 | E21: =Master!DP21 -> 0 | F21: =Master!FL21 -> 0 | G21: =Master!HN21 -> 9353.2833 | H21: =Master!IL21 -> 20.476539 | I21: =Master!JJ21 -> 0 | J21: =SUM(B21:I21) -> 9451.311
A22: IAB=Balsam Woolly Adelgid | B22: =Master!Y22 -> 310.34239 | C22: =Master!BI22 -> 104.88456 | D22: =Master!CG22 -> 0 | E22: =Master!DP22 -> 0 | F22: =Master!FL22 -> 0 | G22: =Master!HN22 -> 0 | H22: =Master!IL22 -> 0 | I22: =Master!JJ22 -> 0 | J22: =SUM(B22:I22) -> 415.22695
A23: IAS=Green Spruce Aphid | B23: =Master!Y23 -> 0 | C23: =Master!BI23 -> 0 | D23: =Master!CG23 -> 0 | E23: =Master!DP23 -> 0 | F23: =Master!FL23 -> 0 | G23: =Master!HN23 -> 0 | H23: =Master!IL23 -> 0 | I23: =Master!JJ23 -> 0 | J23: =SUM(B23:I23) -> 0
A24: ID2=Bruce spanworm | B24: =Master!Y24 -> 0 | C24: =Master!BI24 -> 0 | D24: =Master!CG24 -> 0 | E24: =Master!DP24 -> 0 | F24: =Master!FL24 -> 0 | G24: =Master!HN24 -> 0 | H24: =Master!IL24 -> 0 | I24: =Master!JJ24 -> 0 | J24: =SUM(B24:I24) -> 0
A25: ID6=Aspen Leaf Miner | B25: =Master!Y25 -> 9.0214893 | C25: =Master!BI25 -> 612.33278 | D25: =Master!CG25 -> 38249.383 | E25: =Master!DP25 -> 36132.338 | F25: =Master!FL25 -> 17774.468 | G25: =Master!HN25 -> 491556.25 | H25: =Master!IL25 -> 218165.52 | I25: =Master!JJ25 -> 369709.86 | J25: =SUM(B25:I25) -> 1172209.2
A26: IDA=Black Army Cutworm | B26: =Master!Y26 -> 0 | C26: =Master!BI26 -> 0 | D26: =Master!CG26 -> 0 | E26: =Master!DP26 -> 0 | F26: =Master!FL26 -> 0 | G26: =Master!HN26 -> 0 | H26: =Master!IL26 -> 0 | I26: =Master!JJ26 -> 0 | J26: =SUM(B26:I26) -> 0
A27: IDB=2-Year Budworm | B27: =Master!Y27 -> 0 | C27: =Master!BI27 -> 0 | D27: =Master!CG27 -> 40505.925 | E27: =Master!DP27 -> 21851.448 | F27: =Master!FL27 -> 0 | G27: =Master!HN27 -> 208.91573 | H27: =Master!IL27 -> 12324.622 | I27: =Master!JJ27 -> 0 | J27: =SUM(B27:I27) -> 74890.911
A28: IDC=Larch casebearer | B28: =Master!Y28 -> 0 | C28: =Master!BI28 -> 0 | D28: =Master!CG28 -> 0 | E28: =Master!DP28 -> 0 | F28: =Master!FL28 -> 0 | G28: =Master!HN28 -> 0 | H28: =Master!IL28 -> 0 | I28: =Master!JJ28 -> 0 | J28: =SUM(B28:I28) -> 0
A29: IDE=Spruce Budworm | B29: =Master!Y29 -> 0 | C29: =Master!BI29 -> 0 | D29: =Master!CG29 -> 0 | E29: =Master!DP29 -> 0 | F29: =Master!FL29 -> 0 | G29: =Master!HN29 -> 0 | H29: =Master!IL29 -> 0 | I29: =Master!JJ29 -> 0 | J29: =SUM(B29:I29) -> 0
A30: IDF=Forest Tent Caterpillar | B30: =Master!Y30 -> 0 | C30: =Master!BI30 -> 0 | D30: =Master!CG30 -> 9251.0923 | E30: =Master!DP30 -> 1305.771 | F30: =Master!FL30 -> 0 | G30: =Master!HN30 -> 746.79668 | H30: =Master!IL30 -> 184264.89 | I30: =Master!JJ30 -> 3363.4825 | J30: =SUM(B30:I30) -> 198932.03
A31: IDH=Western Blackheaded Budworm | B31: =Master!Y31 -> 0 | C31: =Master!BI31 -> 34849.346 | D31: =Master!CG31 -> 0 | E31: =Master!DP31 -> 0 | F31: =Master!FL31 -> 0 | G31: =Master!HN31 -> 0 | H31: =Master!IL31 -> 0 | I31: =Master!JJ31 -> 0 | J31: =SUM(B31:I31) -> 34849.346
A32: IDI=Pine needle sheathminer | B32: =Master!Y32 -> 0 | C32: =Master!BI32 -> 0 | D32: =Master!CG32 -> 174.53847 | E32: =Master!DP32 -> 342.81328 | F32: =Master!FL32 -> 0 | G32: =Master!HN32 -> 0 | H32: =Master!IL32 -> 0 | I32: =Master!JJ32 -> 0 | J32: =SUM(B32:I32) -> 517.35175
... A45: Total Defoliators= | B45: =Master!Y45 -> 1969.506 | C45: =Master!BI45 -> 35607.284 | D45: =Master!CG45 -> 222189.49 | E45: =Master!DP45 -> 340050.11 | F45: =Master!FL45 -> 71660.638 | G45: =Master!HN45 -> 508011.71 | H45: =Master!IL45 -> 414775.51 | I45: =Master!JJ45 -> 373648.43 | J45: =SUM(B45:I45) -> 1967912.7
A47: Other
A48: N | B48: =Master!Y48 -> 0 | C48: =Master!BI48 -> 0 | D48: =Master!CG48 -> 0 | E48: =Master!DP48 -> 0 | F48: =Master!FL48 -> 0 | G48: =Master!HN48 -> 0 | H48: =Master!IL48 -> 0 | I48: =Master!JJ48 -> 0 | J48: =SUM(B48:I48) -> 0
A49: NAV=Avalanche or snow slide | B49: =Master!Y49 -> 11.513724 | C49: =Master!BI49 -> 287.00151 | D49: =Master!CG49 -> 80.154688 | E49: =Master!DP49 -> 10.203574 | F49: =Master!FL49 -> 0 | G49: =Master!HN49 -> 51.678266 | H49: =Master!IL49 -> 70.452992 | I49: =Master!JJ49 -> 0 | J49: =SUM(B49:I49) -> 511.00476
A50: NB=Fire | B50: =Master!Y50 -> 196.85299 | C50: =Master!BI50 -> 400.99252 | D50: =Master!CG50 -> 2486.0172 | E50: =Master!DP50 -> 1815.1115 | F50: =Master!FL50 -> 1414.4242 | G50: =Master!HN50 -> 11533.491 | H50: =Master!IL50 -> 6107.6787 | I50: =Master!JJ50 -> 73489.211 | J50: =SUM(B50:I50) -> 97443.779
A51: NBP=Post Fire | B51: =Master!Y51 -> 0 | C51: =Master!BI51 -> 154.37804 | D51: =Master!CG51 -> 11495.318 | E51: =Master!DP51 -> 0 | F51: =Master!FL51 -> 0 | G51: =Master!HN51 -> 239.61349 | H51: =Master!IL51 -> 2380.1966 | I51: =Master!JJ51 -> 0 | J51: =SUM(B51:I51) -> 14269.506
A52: NCA=Aspen decline | B52: =Master!Y52 -> 0 | C52: =Master!BI52 -> 0 | D52: =Master!CG52 -> 123.63077 | E52: =Master!DP52 -> 4177.1324 | F52: =Master!FL52 -> 0 | G52: =Master!HN52 -> 0 | H52: =Master!IL52 -> 7.4524087 | I52: =Master!JJ52 -> 0 | J52: =SUM(B52:I52) -> 4308.2156
A53: NCB=Birch decline | B53: =Master!Y53 -> 0 | C53: =Master!BI53 -> 0 | D53: =Master!CG53 -> 0 | E53: =Master!DP53 -> 125.29601 | F53: =Master!FL53 -> 0 | G53: =Master!HN53 -> 0 | H53: =Master!IL53 -> 0 | I53: =Master!JJ53 -> 0 | J53: =SUM(B53:I53) -> 125.29601
A54: NCY=Yellow cedar decline | B54: =Master!Y54 -> 0 | C54: =Master!BI54 -> 6419.7717 | D54: =Master!CG54 -> 0 | E54: =Master!DP54 -> 0 | F54: =Master!FL54 -> 0 | G54: =Master!HN54 -> 3105.396 | H54: =Master!IL54 -> 0 | I54: =Master!JJ54 -> 0 | J54: =SUM(B54:I54) -> 9525.1677
A55: ND=Drought | B55: =Master!Y55 -> 1 | C55: =Master!BI55 -> 0.5 | D55: =Master!CG55 -> 0 | E55: =Master!DP55 -> 289.08047 | F55: =Master!FL55 -> 0 | G55: =Master!HN55 -> 35264.683 | H55: =Master!IL55 -> 0 | I55: =Master!JJ55 -> 934.34258 | J55: =SUM(B55:I55) -> 36489.606
A56: NF=Flooding | B56: =Master!Y56 -> 63.080238 | C56: =Master!BI56 -> 969.25816 | D56: =Master!CG56 -> 2996.627 | E56: =Master!DP56 -> 40.683737 | F56: =Master!FL56 -> 479.06138 | G56: =Master!HN56 -> 655.3283 | H56: =Master!IL56 -> 600.9039 | I56: =Master!JJ56 -> 13989.185 | J56: =SUM(B56:I56) -> 19794.127
A57: NGK=Shoot/Bud Frost Kill | B57: =Master!Y57 -> 0 | C57: =Master!BI57 -> 0 | D57: =Master!CG57 -> 0 | E57: =Master!DP57 -> 0 | F57: =Master!FL57 -> 0 | G57: =Master!HN57 -> 0 | H57: =Master!IL57 -> 0 | I57: =Master!JJ57 -> 20.634538 | J57: =SUM(B57:I57) -> 20.634538
A58: NH=Hail | B58: =Master!Y58 -> 0 | C58: =Master!BI58 -> 0 | D58: =Master!CG58 -> 0 | E58: =Master!DP58 -> 0 | F58: =Master!FL58 -> 0 | G58: =Master!HN58 -> 205.9409 | H58: =Master!IL58 -> 0 | I58: =Master!JJ58 -> 0 | J58: =SUM(B58:I58) -> 205.9409
A59: NF=Fumekill | B59: =Master!Y59 -> 0 | C59: =Master!BI59 -> 0 | D59: =Master!CG59 -> 0 | E59: =Master!DP59 -> 0 | F59: =Master!FL59 -> 0 | G59: =Master!HN59 -> 390.53055 | H59: =Master!IL59 -> 0 | I59: =Master!JJ59 -> 0 | J59: =SUM(B59:I59) -> 390.53055
... A65: Total Abiotics= | B65: =Master!Y65 -> 279.27424 | C65: =Master!BI65 -> 11471.977 | D65: =Master!CG65 -> 17861.136 | E65: =Master!DP65 -> 6658.3092 | F65: =Master!FL65 -> 3707.0108 | G65: =Master!HN65 -> 53477.581 | H65: =Master!IL65 -> 12741.297 | I65: =Master!JJ65 -> 90518.483 | J65: =SUM(B65:I65) -> 196715.07
A67: Diseases
A68: DF=Diseases | B68: =Master!Y68 -> 0 | C68: =Master!BI68 -> 0 | D68: =Master!CG68 -> 0 | E68: =Master!DP68 -> 0 | F68: =Master!FL68 -> 0 | G68: =Master!HN68 -> 0 | H68: =Master!IL68 -> 0 | I68: =Master!JJ68 -> 0 | J68: =SUM(B68:I68) -> 0
A69: DFB=Delphinella needle cast | B69: =Master!Y69 -> 0 | C69: =Master!BI69 -> 0 | D69: =Master!CG69 -> 0 | E69: =Master!DP69 -> 0 | F69: =Master!FL69 -> 0 | G69: =Master!HN69 -> 0 | H69: =Master!IL69 -> 0 | I69: =Master!JJ69 -> 0 | J69: =SUM(B69:I69) -> 0
A70: DFC=Large-spored Spruce-labrador Tea Rust | B70: =Master!Y70 -> 0 | C70: =Master!BI70 -> 723.33187 | D70: =Master!CG70 -> 0 | E70: =Master!DP70 -> 0 | F70: =Master!FL70 -> 0 | G70: =Master!HN70 -> 25.8603 | H70: =Master!IL70 -> 0 | I70: =Master!JJ70 -> 3353.9922 | J70: =SUM(B70:I70) -> 4103.1844
A71: DFH=Larch Needle Blight | B71: =Master!Y71 -> 0 | C71: =Master!BI71 -> 0 | D71: =Master!CG71 -> 0 | E71: =Master!DP71 -> 364.56867 | F71: =Master!FL71 -> 31330.376 | G71: =Master!HN71 -> 0 | H71: =Master!IL71 -> 0 | I71: =Master!JJ71 -> 0 | J71: =SUM(B71:I71) -> 31694.945
A72: DFL=Lophodermella Needle Cast | B72: =Master!Y72 -> 0 | C72: =Master!BI72 -> 0 | D72: =Master!CG72 -> 0 | E72: =Master!DP72 -> 0 | F72: =Master!FL72 -> 0 | G72: =Master!HN72 -> 180.95915 | H72: =Master!IL72 -> 836.83177 | I72: =Master!JJ72 -> 0 | J72: =SUM(B72:I72) -> 1017.7909
A73: DFG=Cottonwood Leaf Rust | B73: =Master!Y73 -> 0 | C73: =Master!BI73 -> 0 | D73: =Master!CG73 -> 0 | E73: =Master!DP73 -> 158.78978 | F73: =Master!FL73 -> 0 | G73: =Master!HN73 -> 0 | H73: =Master!IL73 -> 0 | I73: =Master!JJ73 -> 0 | J73: =SUM(B73:I73) -> 158.78978
A74: DFM=Larch Needle Cast | B74: =Master!Y74 -> 0 | C74: =Master!BI74 -> 0 | D74: =Master!CG74 -> 0 | E74: =Master!DP74 -> 0 | F74: =Master!FL74 -> 0 | G74: =Master!HN74 -> 0 | H74: =Master!IL74 -> 0 | I74: =Master!JJ74 -> 0 | J74: =SUM(B74:I74) -> 0
A75: DFR-Douglas-fir Needle Cast | B75: =Master!Y75 -> 0 | C75: =Master!BI75 -> 0 | D75: =Master!CG75 -> 0 | E75: =Master!DP75 -> 0 | F75: =Master!FL75 -> 0 | G75: =Master!HN75 -> 0 | H75: =Master!IL75 -> 0 | I75: =Master!JJ75 -> 0 | J75: =SUM(B75:I75) -> 0
A76: DFS=Dothistroma Needle Blight | B76: =Master!Y76 -> 125.50383 | C76: =Master!BI76 -> 0 | D76: =Master!CG76 -> 0 | E76: =Master!DP76 -> 235.25851 | F76: =Master!FL76 -> 0 | G76: =Master!HN76 -> 14007.554 | H76: =Master!IL76 -> 1028.012 | I76: =Master!JJ76 -> 39.03196 | J76: =SUM(B76:I76) -> 15435.36
A77: DFZ=Rhizosphaera Needle Cast | B77: =Master!Y77 -> 0 | C77: =Master!BI77 -> 0 | D77: =Master!CG77 -> 0 | E77: =Master!DP77 -> 0 | F77: =Master!FL77 -> 0 | G77: =Master!HN77 -> 0 | H77: =Master!IL77 -> 0 | I77: =Master!JJ77 -> 0 | J77: =SUM(B77:I77) -> 0
A78: DL=Unknown Dieback | B78: =Master!Y78 -> 0 | C78: =Master!BI78 -> 0 | D78: =Master!CG78 -> 0 | E78: =Master!DP78 -> 0 | F78: =Master!FL78 -> 0 | G78: =Master!HN78 -> 0 | H78: =Master!IL78 -> 0 | I78: =Master!JJ78 -> 0 | J78: =SUM(B78:I78) -> 0
A79: DLV=Venturia Blight | B79: =Master!Y79 -> 0 | C79: =Master!BI79 -> 0 | D79: =Master!CG79 -> 0 | E79: =Master!DP79 -> 0 | F79: =Master!FL79 -> 0 | G79: =Master!HN79 -> 253399.15 | H79: =Master!IL79 -> 6365.5796 | I79: =Master!JJ79 -> 382216.97 | J79: =SUM(B79:I79) -> 641981.7
... A88: Total Diseases= | B88: =Master!Y88 -> 257.5528 | C88: =Master!BI88 -> 2048.5399 | D88: =Master!CG88 -> 0 | E88: =Master!DP88 -> 782.69909 | F88: =Master!FL88 -> 31330.376 | G88: =Master!HN88 -> 267613.52 | H88: =Master!IL88 -> 8230.4233 | I88: =Master!JJ88 -> 385610 | J88: =SUM(B88:I88) -> 695873.11
A90: Animals
A91: A=Animals | B91: =Master!Y91 -> 0 | C91: =Master!BI91 -> 0 | D91: =Master!CG91 -> 0 | E91: =Master!DP91 -> 0 | F91: =Master!FL91 -> 0 | G91: =Master!HN91 -> 0.25 | H91: =Master!IL91 -> 0 | I91: =Master!JJ91 -> 44.073311 | J91: =SUM(B91:I91) -> 44.323311
A92: AB=Bear | B92: =Master!Y92 -> 0 | C92: =Master!BI92 -> 58.861795 | D92: =Master!CG92 -> 0 | E92: =Master!DP92 -> 207.54365 | F92: =Master!FL92 -> 344.98125 | G92: =Master!HN92 -> 0 | H92: =Master!IL92 -> 0 | I92: =Master!JJ92 -> 42.026427 | J92: =SUM(B92:I92) -> 653.41313
A93: AD=Deer | B93: =Master!Y93 -> 0 | C93: =Master!BI93 -> 0 | D93: =Master!CG93 -> 0 | E93: =Master!DP93 -> 0 | F93: =Master!FL93 -> 0 | G93: =Master!HN93 -> 0 | H93: =Master!IL93 -> 0 | I93: =Master!JJ93 -> 0 | J93: =SUM(B93:I93) -> 0
A94: AH=Hare | B94: =Master!Y94 -> 0 | C94: =Master!BI94 -> 0 | D94: =Master!CG94 -> 0 | E94: =Master!DP94 -> 0 | F94: =Master!FL94 -> 0 | G94: =Master!HN94 -> 0 | H94: =Master!IL94 -> 0 | I94: =Master!JJ94 -> 0 | J94: =SUM(B94:I94) -> 0
A95: AP=Porcupine | B95: =Master!Y95 -> 0 | C95: =Master!BI95 -> 0 | D95: =Master!CG95 -> 1076.3486 | E95: =Master!DP95 -> 0 | F95: =Master!FL95 -> 0 | G95: =Master!HN95 -> 1 | H95: =Master!IL95 -> 0 | I95: =Master!JJ95 -> 0 | J95: =SUM(B95:I95) -> 1077.3486
A96: Total Animals= | B96: =Master!Y96 -> 0 | C96: =Master!BI96 -> 58.861795 | D96: =Master!CG96 -> 1076.3486 | E96: =Master!DP96 -> 207.54365 | F96: =Master!FL96 -> 344.98125 | G96: =Master!HN96 -> 1.25 | H96: =Master!IL96 -> 0 | I96: =Master!JJ96 -> 86.099737 | J96: =SUM(B96:I96) -> 1775.085
A98: Total Other= | B98: =Master!Y98 -> 536.82705 | C98: =Master!BI98 -> 13579.379 | D98: =Master!CG98 -> 18937.485 | E98: =Master!DP98 -> 7648.552 | F98: =Master!FL98 -> 35382.368 | G98: =Master!HN98 -> 321092.35 | H98: =Master!IL98 -> 20971.72 | I98: =Master!JJ98 -> 476214.58 | J98: =SUM(B98:I98) -> 894363.26
A100: Total = | B100: =Master!Y100 -> 13938.652 | C100: =Master!BI100 -> 55554.72 | D100: =Master!CG100 -> 345576.57 | E100: =Master!DP100 -> 569006.86 | F100: =Master!FL100 -> 154145.56 | G100: =Master!HN100 -> 1516448.4 | H100: =Master!IL100 -> 2047860.6 | I100: =Master!JJ100 -> 1967256.4 | J100: =Master!$JR$100 -> 6669787.8

Sheet Master
A1: 2012 Aerial Overview Summary for British Columbia by TSA's | HO1: =HO6/HT6 -> 0.46292152 | HP1: =HP6/HT6 -> 0.23788325 | HR1: =HR6/HT6 -> 0.063234951 | HS1: =HS6/HT6 -> 0.00064522563 | IM1: =IM6/IR6 -> 0.77956908 | IN1: =IN6/IR6 -> 0.15240779
A2: Regions | B2: South Coast Forest Region | T2: =T6/Y6 -> 0.84256452 | U2: =U6/Y6 -> 0.099766975 | Z2: West Coast Forest Region | BJ2: Cariboo Forest Region | BV2: =BV6/CA6 -> 0.35042108 | BW2: =BW6/CA6 -> 0.63619329 | CH2: Thompson Okanagan Forest Region | CV2: =CV6/DB6 -> 0.46951773 | CW2: =CW6/DB6 -> 0.49194672 | DL2: =DL6/DP6 -> 0.077148655 | DM2: =DM6/DP6 -> 0.013167085 | DQ2: Kootenay/Boundary Forest Region | FG2: =FG6/FL6 -> 0.38643047 | FH2: =FH6/FL6 -> 0.40225743 | FI2: =FI6/FL6 -> 0.15243679 | FJ2: =FJ6/FL6 -> 0.058011502 | FM2: Skeena Forest Region | GQ2: =GQ6/GV6 -> 0.52140102 | GR2: =GR6/GV6 -> 0.45542873 | HK2: =HK6/HN6 -> 0.049965051 | HO2: Omineca Forest Region | II2: =II6/IL6 -> 0.23602122 | IM2: Northeast Forest Region | IY2: =IY6/JD6 -> 0.26001741 | IZ2: =IZ6/JD6 -> 0.29619471 | JA2: =JA6/JD6 -> 0.34674824 | JB2: =JB6/JD6 -> 0.096514765
A3: TSA's | B3: Fraser | C3: (TFR) | H3: Soo | I3: (TSO) | N3: Sunshine Coast | P3: (TSC) | T3: SOUTH COAST FOREST REGION TOTAL | Z3: Arrowsmith | AB3: (TAS) | AF3: Kingcome | AG3: (TKC) | AL3: Mid Coast | AM3: (TMC) | AR3: Haida Gwaii | AT3: (THG) | AX3: Strathcona | AY3: (TST) | BD3: WEST COAST FOREST REGION TOTAL | BJ3: 100 Mile House | BL3: (TMH) | BP3: Quesnel | BQ3: (TQU) | BV3: Williams Lake | BW3: (TWL) | CB3: CARIBOO FOREST REGION TOTAL | CH3: Kamloops | CI3: (TKA) | CO3: Lillooet | CP3: (TLI) | CV3: Merritt | CW3: (TME) | DC3: Okanagan | DD3: (TOK) | DJ3: THOMPSON/OKANAGAN FOREST REGION TOTAL | DQ3: Arrow | DR3: (TAR) | DW3: Boundary | DX3: (TBO) | EC3: Cranbrook | ED3: (TCB) | EI3: Golden | EJ3: (TGO) | EO3: Invermere | EP3: (TIN) | EU3: Kootenay Lake | EV3: (TKL) | FA3: Revelstoke | FB3: (TRE) | FG3: KOOTENAY/BOUNDRY FOREST REGION | FM3: Bulkley | FN3: (TBU) | FS3: Cassiar | FT3: (TCA) | FY3: Kalum | FZ3: (TKM) | GE3: Kispiox | GF3: (TKI) | GK3: Lakes | GL3: (TLA) | GQ3: Morice | GR3: (TMO) | GW3: Nass | GX3: (TNA) | HC3: North Coast | HD3: (TNC) | HI3: SKEENA FOREST REGION | HO3: MacKenzie | HP3: (TMK) | HU3: Robson Valley | HW3: (TRV) | IA3: Prince George | IC3: (TPG) | IG3: OMINECA FOREST REGION | IM3: Dawson Creek | IO3: (TDC) | IS3: Fort Nelson | IT3: (TFN) | IY3: Fort St. John | JA3: (TJO) | JE3: NORTHEAST FOREST REGION | JL3: GRAND TOTAL
B4: Trace | C4: Light | D4: Moderate | E4: Severe | F4: Very Sev | G4: Total | H4: Trace | I4: Light | J4: Moderate | K4: Severe | L4: Very Sev | M4: Total | N4: Trace | O4: Light | P4: Moderate | Q4: Severe | R4: Very Sev | S4: Total | T4: Trace | U4: Light | V4: Moderate | W4: Severe | X4: Ver Sev | Y4: Total | Z4: Trace | AA4: Light | AB4: Moderate | AC4: Severe | AD4: Very Sev | AE4: Total | AF4: Trace | AG4: Light | AH4: Moderate | AI4: Severe | AJ4: Very Sev | AK4: Total | AL4: Trace | AM4: Light | AN4: Moderate | AO4: Severe | AP4: Very Sev | AQ4: Total | AR4: Trace | AS4: Light | AT4: Moderate | AU4: Severe | AV4: Very Sev | AW4: Total | AX4: Trace | AY4: Light | AZ4: Moderate | BA4: Severe | BB4: Very Sev | BC4: Total | BD4: Trace | BE4: Light | BF4: Moderate | BG4: Severe | BH4: Ver Sev | BI4: Total | BJ4: Trace | BK4: Light | BL4: Moderate | BM4: Severe | BN4: Very Sev | BO4: Total | BP4: Trace | BQ4: Light | BR4: Moderate | BS4: Severe | BT4: Very Sev | BU4: Total | BV4: Trace | BW4: Light | BX4: Moderate | BY4: Severe | BZ4: Very Sev | CA4: Total | CB4: Trace | CC4: Light | CD4: Moderate | CE4: Severe | CF4: Ver Sev | CG4: Total | CH4: Trace | CI4: Light | CJ4: Moderate | CK4: Severe | CL4: Very Sev | CM4: Grey | CN4: Total | CO4: Trace | CP4: Light | CQ4: Moderate | CR4: Severe | CS4: Very Sev | CT4: Grey | CU4: Total | CV4: Trace | CW4: Light | CX4: Moderate | CY4: Severe | CZ4: Very Sev | DA4: Grey | DB4: Total | DC4: Trace | DD4: Light | DE4: Moderate | DF4: Severe | DG4: Very Sev | DH4: Grey | DI4: Total | DJ4: Trace | DK4: Light | DL4: Moderate | DM4: Severe | DN4: Ver Sev | DO4: Grey | DP4: Total | DQ4: Trace | DR4: Light | DS4: Moderate | DT4: Severe | DU4: Very Sev | DV4: Total | DW4: Trace | DX4: Light | DY4: Moderate | DZ4: Severe | EA4: Very Sev | EB4: Total | EC4: Trace | ED4: Light | EE4: Moderate | EF4: Severe | EG4: Very Sev | EH4: Total | EI4: Trace | EJ4: Light | EK4: Moderate | EL4: Severe | EM4: Very Sev | EN4: Total | EO4: Trace | EP4: Light | EQ4: Moderate | ER4: Severe | ES4: Very Sev | ET4: Total | EU4: Trace | EV4: Light | EW4: Moderate | EX4: Severe | EY4: Very Sev | EZ4: Total | FA4: Trace | FB4: Light | FC4: Moderate | FD4: Severe | FE4: Very Sev | FF4: Total | FG4: Trace | FH4: Light | FI4: Moderate | FJ4: Severe | FK4: Very Sev | FL4: TOTAL | FM4: Trace | FN4: Light | FO4: Moderate | FP4: Severe | FQ4: Very Sev | FR4: Total | FS4: Trace | FT4: Light | FU4: Moderate | FV4: Severe | FW4: Very Sev | FX4: Total | FY4: Trace | FZ4: Light | GA4: Moderate | GB4: Severe | GC4: Very Sev | GD4: Total | GE4: Trace | GF4: Light | GG4: Moderate | GH4: Severe | GI4: Very Sev | GJ4: Total | GK4: Trace | GL4: Light | GM4: Moderate | GN4: Severe | GO4: Very Sev | GP4: Total | GQ4: Trace | GR4: Light | GS4: Moderate | GT4: Severe | GU4: Very Sev | GV4: Total | GW4: Trace | GX4: Light | GY4: Moderate | GZ4: Severe | HA4: Very Sev | HB4: Total | HC4: Trace | HD4: Light | HE4: Moderate | HF4: Severe | HG4: Very Sev | HH4: Total | HI4: Trace | HJ4: Light | HK4: Moderate | HL4: Severe | HM4: Very Sev | HN4: TOTAL | HO4: Trace | HP4: Light | HQ4: Moderate | HR4: Severe | HS4: Very Sev | HT4: Total | HU4: Trace | HV4: Light | HW4: Moderate | HX4: Severe | HY4: Very Sev | HZ4: Total | IA4: Trace | IB4: Light | IC4: Moderate | ID4: Severe | IE4: Very Sev | IF4: Total | IG4: Trace | IH4: Light | II4: Moderate | IJ4: Severe | IK4: Very Sev | IL4: TOTAL | IM4: Trace | IN4: Light | IO4: Moderate | IP4: Severe | IQ4: Very Sev | IR4: Total | IS4: Trace | IT4: Light | IU4: Moderate | IV4: Severe | IW4: Very Sev | IX4: Total | IY4: Trace | IZ4: Light | JA4: Moderate | JB4: Severe | JC4: Very Sev | JD4: Total | JE4: Trace | JF4: Light | JG4: Moderate | JH4: Severe | JI4: Very Sev | JJ4: TOTAL | JL4: Trace | JM4: Light | JN4: Moderate | JO4: Severe | JP4: Very Sev | JQ4: Grey | JR4: TOTAL
A5: Bark Beetles
A6: IBM=Mountain Pine Beetle | B6: 2684.3062 | C6: 203.14793 | D6: 69.163967 | E6: 20.5 | G6: =SUM(B6:F6) -> 2977.1181 | H6: 1075.3992 | I6: 307.2768 | J6: 153.24503 | K6: 38 | L6: 14.132837 | M6: =SUM(H6:L6) -> 1588.0539 | N6: 550.99731 | S6: =SUM(N6:R6) -> 550.99731 | T6: =SUM(B6,H6,N6) -> 4310.7027 | U6: =SUM(C6,I6,O6) -> 510.42473 | V6: =SUM(D6,J6,P6) -> 222.409 | W6: =SUM(E6,K6,Q6) -> 58.5 | X6: =SUM(F6,L6,R6) -> 14.132837 | Y6: =SUM(T6:X6) -> 5116.1692 | AE6: =SUM(Z6:AD6) -> 0 | AK6: =SUM(AF6:AJ6) -> 0 | AL6: 177.04011 | AM6: 29.260276 | AO6: 1.5 | AQ6: =SUM(AL6:AP6) -> 207.80039 | AS6: 132.42055 | AU6: 1.75 | AW6: =SUM(AR6:AV6) -> 134.17055 | BC6: =SUM(AX6:BB6) -> 0 | BD6: =SUM(Z6,AF6,AL6,AR6,AX6) -> 177.04011 | BE6: =SUM(AA6,AG6,AM6,AS6,AY6) -> 161.68082 | BF6: =SUM(AB6,AH6,AN6,AT6,AZ6) -> 0 | BG6: =SUM(AC6,AI6,AO6,AU6,BA6) -> 3.25 | BH6: =SUM(AD6,AJ6,AP6,AV6,BB6) -> 0 | BI6: =SUM(BD6:BH6) -> 341.97093 | BJ6: 87.913206 | BK6: 133.57766 | BO6: =SUM(BJ6:BN6) -> 221.49087 | BQ6: 10.037925 | BS6: 2 | BU6: =SUM(BP6:BT6) -> 12.037925 | BV6: 4583.6338 | BW6: 8321.6371 | BX6: 94.53111 | BY6: 80.557694 | CA6: =SUM(BV6:BZ6) -> 13080.36 | CB6: =SUM(BJ6,BP6,BV6) -> 4671.547 | CC6: =SUM(BK6,BQ6,BW6) -> 8465.2527 | CD6: =SUM(BL6,BR6,BX6) -> 94.53111 | CE6: =SUM(BM6,BS6,BY6) -> 82.557694 | CF6: =SUM(BN6,BT6,BZ6) -> 0 | CG6: =SUM(CB6:CF6) -> 13313.889 | CH6: 109.77174 | CI6: 497.54124 | CJ6: 8.3914332 | CK6: 6.25 | CN6: =SUM(CH6:CM6) -> 621.95441 | CO6: 754.15861 | CP6: 3040.6322 | CQ6: 966.22822 | CR6: 158.09326 | CS6: 11.154202 | CU6: =SUM(CO6:CT6) -> 4930.2665 | CV6: 4184.0786 | CW6: 4383.9531 | CX6: 255.55196 | CY6: 80.657997 | CZ6: 7.1972498 | DB6: =SUM(CV6:DA6) -> 8911.4389 | DC6: 14316.156 | DD6: 26064.934 | DE6: 3300.587 | DF6: 528.27063 | DG6: 54.034982 | DI6: =SUM(DC6:DH6) -> 44263.983 | DJ6: =SUM(CH6,CO6,CV6,DC6) -> 19364.165 | DK6: =SUM(CI6,CP6,CW6,DD6) -> 33987.061 | DL6: =SUM(CJ6,CQ6,CX6,DE6) -> 4530.7586 | DM6: =SUM(CK6,CR6,CY6,DF6) -> 773.27188 | DN6: =SUM(CL6,CS6,CZ6,DG6) -> 72.386434 | DO6: =SUM(CM6,CT6,DA6,DH6) -> 0 | DP6: =SUM(DJ6:DO6) -> 58727.643 | DQ6: 998.88831 | DR6: 933.23089 | DS6: 310.86855 | DT6: 83.251168 | DV6: =SUM(DQ6:DU6) -> 2326.2389 | DW6: 4665.2574 | DX6: 6883.1861 | DY6: 1893.8701 | DZ6: 639.69243 | EB6: =SUM(DW6:EA6) -> 14082.006 | EC6: 2450.0487 | ED6: 1396.0066 | EE6: 856.83629 | EF6: 290.57993 | EH6: =SUM(EC6:EG6) -> 4993.4715 | EI6: 2080.1348 | EJ6: 462.79044 | EK6: 289.7691 | EL6: 50.057011 | EN6: =SUM(EI6:EM6) -> 2882.7513 | EO6: 2577.0106 | EP6: 4002.905 | EQ6: 1374.4637 | ER6: 370.16257 | ES6: 32.920452 | ET6: =SUM(EO6:ES6) -> 8357.4622 | EU6: 1907.7245 | EV6: 1620.5363 | EW6: 1075.8034 | EX6: 715.47659 | EZ6: =SUM(EU6:EY6) -> 5319.5408 | FA6: 48.166994 | FB6: 31.75626 | FC6: 7.8991463 | FD6: 61.65357 | FF6: =SUM(FA6:FE6) -> 149.47597 | FG6: =SUM(DQ6,DW6,EC6,EI6,EO6,EU6,FA6) -> 14727.231 | FH6: =SUM(DR6,DX6,ED6,EJ6,EP6,EV6,FB6) -> 15330.412 | FI6: =SUM(DS6,DY6,EE6,EK6,EQ6,EW6,FC6) -> 5809.5103 | FJ6: =SUM(DT6,DZ6,EF6,EL6,ER6,EX6,FD6) -> 2210.8733 | FK6: =SUM(DU6,EA6,EG6,EM6,ES6,EY6,FE6) -> 32.920452 | FL6: =SUM(FG6:FK6) -> 38110.947 | FM6: 61856.082 | FN6: 70085.097 | FO6: 11143.179 | FP6: 1849.9033 | FR6: =SUM(FM6:FQ6) -> 144934.26 | FS6: 4189.2814 | FT6: 547.46424 | FV6: 10.5 | FX6: =SUM(FS6:FW6) -> 4747.2456 | FY6: 1715.672 | FZ6: 1216.7489 | GA6: 14.813397 | GB6: 9.25 | GD6: =SUM(FY6:GC6) -> 2956.4843 | GE6: 14880.713 | GF6: 5392.9426 | GG6: 2001.3667 | GH6: 66.228495 | GJ6: =SUM(GE6:GI6) -> 22341.25 | GK6: 8268.357 | GL6: 797.66966 | GM6: 134.26255 | GN6: 29.25 | GP6: =SUM(GK6:GO6) -> 9229.5392 | GQ6: 76641.637 | GR6: 66944.257 | GS6: 3254.8417 | GT6: 150.99336 | GV6: =SUM(GQ6:GU6) -> 146991.73 | GZ6: 0.25 | HB6: =SUM(GW6:HA6) -> 0.25 | HH6: =SUM(HC6:HG6) -> 0 | HI6: =SUM(FM6,FS6,FY6,GE6,GK6,GQ6,GW6,HC6) -> 167551.74 | HJ6: =SUM(FN6,FT6,FZ6,GF6,GL6,GR6,GX6,HD6) -> 144984.18 | HK6: =SUM(HE6,GY6,GS6,GM6,GG6,GA6,FU6,FO6) -> 16548.463 | HL6: =SUM(HF6,GZ6,GT6,GN6,GH6,GB6,FV6,FP6) -> 2116.3752 | HM6: =SUM(HG6,HA6,GU6,GO6,GI6,GC6,FW6,FQ6) -> 0 | HN6: =SUM(HI6:HM6) -> 331200.76 | HO6: 515930.96 | HP6: 265123.42 | HQ6: 262261.13 | HR6: 70476.027 | HS6: 719.11083 | HT6: =SUM(HO6:HS6) -> 1114510.7 | HU6: 11334.918 | HV6: 28058.572 | HW6: 10134.7 | HX6: 2191.3002 | HZ6: =SUM(HU6:HY6) -> 51719.491 | IA6: 169824.94 | IB6: 53126.247 | IC6: 78823.632 | ID6: 20079.277 | IF6: =SUM(IA6:IE6) -> 321854.1 | IG6: =SUM(HO6,HU6,IA6) -> 697090.83 | IH6: =SUM(HP6,HV6,IB6) -> 346308.24 | II6: =SUM(HQ6,HW6,IC6) -> 351219.46 | IJ6: =SUM(HR6,HX6,ID6) -> 92746.604 | IK6: =SUM(HS6,HY6,IE6) -> 719.11083 | IL6: =SUM(IG6:IK6) -> 1488084.2 | IM6: 325596.1 | IN6: 63654.887 | IO6: 24990.171 | IP6: 3420.4833 | IR6: =SUM(IM6:IQ6) -> 417661.64 | IS6: 11467.491 | IT6: 13160.606 | IU6: 9803.1236 | IV6: 1678.3801 | IX6: =SUM(IS6:IW6) -> 36109.6 | IY6: 163176.87 | IZ6: 185880.34 | JA6: 217605.78 | JB6: 60568.932 | JC6: 329.3905 | JD6: =SUM(IY6:JC6) -> 627561.31 | JE6: =SUM(IM6,IS6,IY6) -> 500240.46 | JF6: =SUM(IN6,IT6,IZ6) -> 262695.83 | JG6: =SUM(IO6,IU6,JA6) -> 252399.08 | JH6: =SUM(IP6,IV6,JB6) -> 65667.796 | JI6: =SUM(IQ6,IW6,JC6) -> 329.3905 | JJ6: =SUM(JE6:JI6) -> 1081332.6 | JL6: =SUM(T6,BD6,CB6,DJ6,FG6,HI6,IG6,JE6) -> 1408133.7 | JM6: =SUM(U6,BE6,CC6,DK6,FH6,HJ6,IH6,JF6) -> 812443.08 | JN6: =SUM(V6,BF6,CD6,DL6,FI6,HK6,II6,JG6) -> 630824.21 | JO6: =SUM(W6,BG6,CE6,DM6,FJ6,HL6,IJ6,JH6) -> 163659.23 | JP6: =SUM(X6,BH6,CF6,DN6,FK6,HM6,IK6,JI6) -> 1167.9411 | JQ6: =SUM(DO6) -> 0 | JR6: =SUM(JL6:JQ6) -> 3016228.2
A7: IBS=Spruce Beetle | B7: 432.59964 | C7: 389.84719 | D7: 30.281745 | E7: 1 | G7: =SUM(B7:F7) -> 853.72858 | M7: =SUM(H7:L7) -> 0 | Q7: 0.75 | S7: =SUM(N7:R7) -> 0.75 | T7: =SUM(B7,H7,N7) -> 432.59964 | U7: =SUM(C7,I7,O7) -> 389.84719 | V7: =SUM(D7,J7,P7) -> 30.281745 | W7: =SUM(E7,K7,Q7) -> 1.75 | X7: =SUM(F7,L7,R7) -> 0 | Y7: =SUM(T7:X7) -> 854.47858 | AE7: =SUM(Z7:AD7) -> 0 | AI7: 3.25 | AK7: =SUM(AF7:AJ7) -> 3.25 | AL7: 22.305035 | AM7: 26.705677 | AO7: 8 | AQ7: =SUM(AL7:AP7) -> 57.010712 | AW7: =SUM(AR7:AV7) -> 0 | BC7: =SUM(AX7:BB7) -> 0 | BD7: =SUM(Z7,AF7,AL7,AR7,AX7) -> 22.305035 | BE7: =SUM(AA7,AG7,AM7,AS7,AY7) -> 26.705677 | BF7: =SUM(AB7,AH7,AN7,AT7,AZ7) -> 0 | BG7: =SUM(AC7,AI7,AO7,AU7,BA7) -> 11.25 | BH7: =SUM(AD7,AJ7,AP7,AV7,BB7) -> 0 | BI7: =SUM(BD7:BH7) -> 60.260712 | BJ7: 665.7946 | BK7: 4961.4053 | BL7: 3845.0573 | BM7: 1360.8756 | BN7: 66.184395 | BO7: =SUM(BJ7:BN7) -> 10899.317 | BP7: 14.664429 | BQ7: 1093.0085 | BS7: 3 | BU7: =SUM(BP7:BT7) -> 1110.673 | BV7: 1804.8092 | BW7: 7380.9943 | BX7: 6058.2858 | BY7: 2873.3492 | CA7: =SUM(BV7:BZ7) -> 18117.438 | CB7: =SUM(BJ7,BP7,BV7) -> 2485.2682 | CC7: =SUM(BK7,BQ7,BW7) -> 13435.408 | CD7: =SUM(BL7,BR7,BX7) -> 9903.3431 | CE7: =SUM(BM7,BS7,BY7) -> 4237.2248 | CF7: =SUM(BN7,BT7,BZ7) -> 66.184395 | CG7: =SUM(CB7:CF7) -> 30127.429 | CI7: 694.66306 | CJ7: 878.88566 | CK7: 313.40579 | CN7: =SUM(CH7:CM7) -> 1886.9545 | CP7: 155.35023 | CQ7: 340.54057 | CR7: 155.38668 | CS7: 9.1717683 | CU7: =SUM(CO7:CT7) -> 660.44925 | CV7: 39.007234 | CW7: 188.51957 | CX7: 547.35858 | CY7: 77.301588 | CZ7: 19.405615 | DB7: =SUM(CV7:DA7) -> 871.59259 | DE7: 213.50208 | DI7: =SUM(DC7:DH7) -> 213.50208 | DJ7: =SUM(CH7,CO7,CV7,DC7) -> 39.007234 | DK7: =SUM(CI7,CP7,CW7,DD7) -> 1038.5329 | DL7: =SUM(CJ7,CQ7,CX7,DE7) -> 1980.2869 | DM7: =SUM(CK7,CR7,CY7,DF7) -> 546.09406 | DN7: =SUM(CL7,CS7,CZ7,DG7) -> 28.577384 | DO7: =SUM(CM7,CT7,DA7,DH7) -> 0 | DP7: =SUM(DJ7:DO7) -> 3632.4984 | DV7: =SUM(DQ7:DU7) -> 0 | EB7: =SUM(DW7:EA7) -> 0 | EH7: =SUM(EC7:EG7) -> 0 | EI7: 28.95566 | EJ7: 22.327759 | EL7: 11.140834 | EN7: =SUM(EI7:EM7) -> 62.424252 | EP7: 146.67911 | EQ7: 243.80555 | ER7: 0.75 | ES7: 159.50294 | ET7: =SUM(EO7:ES7) -> 550.7376 | EV7: 5.6943127 | EW7: 31.191646 | EZ7: =SUM(EU7:EY7) -> 36.885959 | FF7: =SUM(FA7:FE7) -> 0 | FG7: =SUM(DQ7,DW7,EC7,EI7,EO7,EU7,FA7) -> 28.95566 | FH7: =SUM(DR7,DX7,ED7,EJ7,EP7,EV7,FB7) -> 174.70118 | FI7: =SUM(DS7,DY7,EE7,EK7,EQ7,EW7,FC7) -> 274.9972 | FJ7: =SUM(DT7,DZ7,EF7,EL7,ER7,EX7,FD7) -> 11.890834 | FK7: =SUM(DU7,EA7,EG7,EM7,ES7,EY7,FE7) -> 159.50294 | FL7: =SUM(FG7:FK7) -> 650.04782 | FP7: 0.25 | FR7: =SUM(FM7:FQ7) -> 0.25 | FV7: 0.25 | FX7: =SUM(FS7:FW7) -> 0.25 | GB7: 0.25 | GD7: =SUM(FY7:GC7) -> 0.25 | GH7: 0.5 | GJ7: =SUM(GE7:GI7) -> 0.5 | GL7: 120.55018 | GM7: 54.128303 | GN7: 3.25 | GP7: =SUM(GK7:GO7) -> 177.92848 | GQ7: 73.642261 | GT7: 0.5 | GV7: =SUM(GQ7:GU7) -> 74.142261 | GZ7: 0.75 | HB7: =SUM(GW7:HA7) -> 0.75 | HH7: =SUM(HC7:HG7) -> 0 | HI7: =SUM(FM7,FS7,FY7,GE7,GK7,GQ7,GW7,HC7) -> 73.642261 | HJ7: =SUM(FN7,FT7,FZ7,GF7,GL7,GR7,GX7,HD7) -> 120.55018 | HK7: =SUM(HE7,GY7,GS7,GM7,GG7,GA7,FU7,FO7) -> 54.128303 | HL7: =SUM(HF7,GZ7,GT7,GN7,GH7,GB7,FV7,FP7) -> 5.75 | HM7: =SUM(HG7,HA7,GU7,GO7,GI7,GC7,FW7,FQ7) -> 0 | HN7: =SUM(HI7:HM7) -> 254.07074 | HO7: 59.486112 | HT7: =SUM(HO7:HS7) -> 59.486112 | HV7: 133.87017 | HZ7: =SUM(HU7:HY7) -> 133.87017 | IA7: 569.86643 | IB7: 387.06184 | ID7: 15 | IF7: =SUM(IA7:IE7) -> 971.92826 | IG7: =SUM(HO7,HU7,IA7) -> 629.35254 | IH7: =SUM(HP7,HV7,IB7) -> 520.93201 | II7: =SUM(HQ7,HW7,IC7) -> 0 | IJ7: =SUM(HR7,HX7,ID7) -> 15 | IK7: =SUM(HS7,HY7,IE7) -> 0 | IL7: =SUM(IG7:IK7) -> 1165.2845 | IM7: 4685.4521 | IN7: 162.92255 | IR7: =SUM(IM7:IQ7) -> 4848.3746 | IS7: 1242.2514 | IV7: 10.75 | IX7: =SUM(IS7:IW7) -> 1253.0014 | IY7: 16.564918 | JB7: 0.25 | JD7: =SUM(IY7:JC7) -> 16.814918 | JE7: =SUM(IM7,IS7,IY7) -> 5944.2684 | JF7: =SUM(IN7,IT7,IZ7) -> 162.92255 | JG7: =SUM(IO7,IU7,JA7) -> 0 | JH7: =SUM(IP7,IV7,JB7) -> 11 | JI7: =SUM(IQ7,IW7,JC7) -> 0 | JJ7: =SUM(JE7:JI7) -> 6118.191 | JL7: =SUM(T7,BD7,CB7,DJ7,FG7,HI7,IG7,JE7) -> 9655.399 | JM7: =SUM(U7,BE7,CC7,DK7,FH7,HJ7,IH7,JF7) -> 15869.6 | JN7: =SUM(V7,BF7,CD7,DL7,FI7,HK7,II7,JG7) -> 12243.037 | JO7: =SUM(W7,BG7,CE7,DM7,FJ7,HL7,IJ7,JH7) -> 4839.9597 | JP7: =SUM(X7,BH7,CF7,DN7,FK7,HM7,IK7,JI7) -> 254.26472 | JQ7: =SUM(DO7) -> 0 | JR7: =SUM(JL7:JQ7) -> 42862.26
A8: IBB=Western Balsam Bark Beetle | B8: 2627.9677 | C8: 256.46486 | D8: 16.424482 | E8: 50.700875 | G8: =SUM(B8:F8) -> 2951.5579 | H8: 406.10654 | I8: 452.63369 | K8: 5.25 | M8: =SUM(H8:L8) -> 863.99023 | N8: 35.718636 | O8: 3.1469735 | Q8: 0.75 | S8: =SUM(N8:R8) -> 39.615609 | T8: =SUM(B8,H8,N8) -> 3069.7929 | U8: =SUM(C8,I8,O8) -> 712.24552 | V8: =SUM(D8,J8,P8) -> 16.424482 | W8: =SUM(E8,K8,Q8) -> 56.700875 | X8: =SUM(F8,L8,R8) -> 0 | Y8: =SUM(T8:X8) -> 3855.1638 | Z8: 299.50911 | AA8: 183.33762 | AC8: 1.25 | AE8: =SUM(Z8:AD8) -> 484.09673 | AF8: 117.58514 | AI8: 0.5 | AK8: =SUM(AF8:AJ8) -> 118.08514 | AL8: 4179.2549 | AM8: 28.757269 | AO8: 2.5 | AQ8: =SUM(AL8:AP8) -> 4210.5122 | AW8: =SUM(AR8:AV8) -> 0 | AX8: 45.35574 | BA8: 1.25 | BC8: =SUM(AX8:BB8) -> 46.60574 | BD8: =SUM(Z8,AF8,AL8,AR8,AX8) -> 4641.7049 | BE8: =SUM(AA8,AG8,AM8,AS8,AY8) -> 212.09489 | BF8: =SUM(AB8,AH8,AN8,AT8,AZ8) -> 0 | BG8: =SUM(AC8,AI8,AO8,AU8,BA8) -> 5.5 | BH8: =SUM(AD8,AJ8,AP8,AV8,BB8) -> 0 | BI8: =SUM(BD8:BH8) -> 4859.2998 | BJ8: 249.86324 | BK8: 1316.2837 | BL8: 0.91447305 | BM8: 1 | BO8: =SUM(BJ8:BN8) -> 1568.0614 | BP8: 2204.6697 | BQ8: 17431.213 | BS8: 2.25 | BU8: =SUM(BP8:BT8) -> 19638.133 | BV8: 6378.4004 | BW8: 17873.253 | BX8: 2864.0836 | BY8: 18.924478 | CA8: =SUM(BV8:BZ8) -> 27134.662 | CB8: =SUM(BJ8,BP8,BV8) -> 8832.9334 | CC8: =SUM(BK8,BQ8,BW8) -> 36620.75 | CD8: =SUM(BL8,BR8,BX8) -> 2864.9981 | CE8: =SUM(BM8,BS8,BY8) -> 22.174478 | CF8: =SUM(BN8,BT8,BZ8) -> 0 | CG8: =SUM(CB8:CF8) -> 48340.856 | CH8: 79371.352 | CI8: 1673.3624 | CJ8: 7.2564789 | CN8: =SUM(CH8:CM8) -> 81051.97 | CO8: 1601.1269 | CU8: =SUM(CO8:CT8) -> 1601.1269 | CV8: 9132.4137 | CW8: 84.860186 | DB8: =SUM(CV8:DA8) -> 9217.2739 | DC8: 64079.213 | DD8: 1334.7784 | DI8: =SUM(DC8:DH8) -> 65413.991 | DJ8: =SUM(CH8,CO8,CV8,DC8) -> 154184.11 | DK8: =SUM(CI8,CP8,CW8,DD8) -> 3093.0011 | DL8: =SUM(CJ8,CQ8,CX8,DE8) -> 7.2564789 | DM8: =SUM(CK8,CR8,CY8,DF8) -> 0 | DN8: =SUM(CL8,CS8,CZ8,DG8) -> 0 | DO8: =SUM(CM8,CT8,DA8,DH8) -> 0 | DP8: =SUM(DJ8:DO8) -> 157284.36 | DQ8: 1427.3699 | DR8: 319.81239 | DS8: 19.040833 | DT8: 1 | DV8: =SUM(DQ8:DU8) -> 1767.2231 | DW8: 591.65802 | DZ8: 0.75 | EB8: =SUM(DW8:EA8) -> 592.40802 | EC8: 635.56037 | ED8: 114.98919 | EE8: 40.334069 | EF8: 2.5 | EH8: =SUM(EC8:EG8) -> 793.38364 | EI8: 1537.6607 | EJ8: 320.86181 | EK8: 8.5097714 | EL8: 1.5 | EN8: =SUM(EI8:EM8) -> 1868.5323 | EO8: 893.41722 | EP8: 200.02111 | ER8: 2.75 | ET8: =SUM(EO8:ES8) -> 1096.1883 | EU8: 636.51157 | EV8: 130.69369 | EX8: 3.75 | EZ8: =SUM(EU8:EY8) -> 770.95526 | FA8: 39.851933 | FB8: 37.384367 | FF8: =SUM(FA8:FE8) -> 77.236301 | FG8: =SUM(DQ8,DW8,EC8,EI8,EO8,EU8,FA8) -> 5762.0297 | FH8: =SUM(DR8,DX8,ED8,EJ8,EP8,EV8,FB8) -> 1123.7626 | FI8: =SUM(DS8,DY8,EE8,EK8,EQ8,EW8,FC8) -> 67.884673 | FJ8: =SUM(DT8,DZ8,EF8,EL8,ER8,EX8,FD8) -> 12.25 | FK8: =SUM(DU8,EA8,EG8,EM8,ES8,EY8,FE8) -> 0 | FL8: =SUM(FG8:FK8) -> 6965.927 | FM8: 59880.527 | FP8: 14 | FR8: =SUM(FM8:FQ8) -> 59894.527 | FS8: 45146.494 | FT8: 290.01438 | FV8: 15 | FX8: =SUM(FS8:FW8) -> 45451.508 | FY8: 621.86977 | GB8: 2.5 | GD8: =SUM(FY8:GC8) -> 624.36977 | GE8: 58293.658 | GF8: 50.233062 | GG8: 564.23851 | GH8: 32 | GJ8: =SUM(GE8:GI8) -> 58940.129 | GK8: 32750.849 | GL8: 386.56037 | GN8: 20.25 | GP8: =SUM(GK8:GO8) -> 33157.66 | GQ8: 114394.86 | GR8: 4788.42 | GT8: 14.25 | GV8: =SUM(GQ8:GU8) -> 119197.53 | GW8: 33350.285 | GZ8: 17.25 | HB8: =SUM(GW8:HA8) -> 33367.535 | HH8: =SUM(HC8:HG8) -> 0 | HI8: =SUM(FM8,FS8,FY8,GE8,GK8,GQ8,GW8,HC8) -> 344438.55 | HJ8: =SUM(FN8,FT8,FZ8,GF8,GL8,GR8,GX8,HD8) -> 5515.2278 | HK8: =SUM(HE8,GY8,GS8,GM8,GG8,GA8,FU8,FO8) -> 564.23851 | HL8: =SUM(HF8,GZ8,GT8,GN8,GH8,GB8,FV8,FP8) -> 115.25 | HM8: =SUM(HG8,HA8,GU8,GO8,GI8,GC8,FW8,FQ8) -> 0 | HN8: =SUM(HI8:HM8) -> 350633.26 | HO8: 33478.914 | HP8: 763.75711 | HQ8: 102.49454 | HR8: 58 | HT8: =SUM(HO8:HS8) -> 34403.166 | HU8: 1172.6351 | HV8: 10887.361 | HW8: 18.330922 | HX8: 10.75 | HZ8: =SUM(HU8:HY8) -> 12089.077 | IA8: 63891.979 | IB8: 9549.9197 | IC8: 359.54696 | ID8: 253.74671 | IF8: =SUM(IA8:IE8) -> 74055.192 | IG8: =SUM(HO8,HU8,IA8) -> 98543.528 | IH8: =SUM(HP8,HV8,IB8) -> 21201.038 | II8: =SUM(HQ8,HW8,IC8) -> 480.37241 | IJ8: =SUM(HR8,HX8,ID8) -> 322.49671 | IK8: =SUM(HS8,HY8,IE8) -> 0 | IL8: =SUM(IG8:IK8) -> 120547.44 | IM8: 18060.685 | IN8: 280.9637 | IP8: 34 | IR8: =SUM(IM8:IQ8) -> 18375.649 | IS8: 9227.4013 | IT8: 184.45487 | IV8: 33.5 | IX8: =SUM(IS8:IW8) -> 9445.3562 | IY8: 1991.7214 | IZ8: 128.38549 | JB8: 1.5 | JD8: =SUM(IY8:JC8) -> 2121.6069 | JE8: =SUM(IM8,IS8,IY8) -> 29279.808 | JF8: =SUM(IN8,IT8,IZ8) -> 593.80406 | JG8: =SUM(IO8,IU8,JA8) -> 0 | JH8: =SUM(IP8,IV8,JB8) -> 69 | JI8: =SUM(IQ8,IW8,JC8) -> 0 | JJ8: =SUM(JE8:JI8) -> 29942.612 | JL8: =SUM(T8,BD8,CB8,DJ8,FG8,HI8,IG8,JE8) -> 648752.45 | JM8: =SUM(U8,BE8,CC8,DK8,FH8,HJ8,IH8,JF8) -> 69071.924 | JN8: =SUM(V8,BF8,CD8,DL8,FI8,HK8,II8,JG8) -> 4001.1747 | JO8: =SUM(W8,BG8,CE8,DM8,FJ8,HL8,IJ8,JH8) -> 603.37206 | JP8: =SUM(X8,BH8,CF8,DN8,FK8,HM8,IK8,JI8) -> 0 | JQ8: =SUM(DO8) -> 0 | JR8: =SUM(JL8:JQ8) -> 722428.92
A9: IBD=Douglas-fir Beetle | B9: 480.96169 | C9: 453.32481 | E9: 33.25 | G9: =SUM(B9:F9) -> 967.5365 | K9: 2 | M9: =SUM(H9:L9) -> 2 | N9: 271.08547 | O9: 354.38568 | Q9: 11.5 | S9: =SUM(N9:R9) -> 636.97115 | T9: =SUM(B9,H9,N9) -> 752.04716 | U9: =SUM(C9,I9,O9) -> 807.71049 | V9: =SUM(D9,J9,P9) -> 0 | W9: =SUM(E9,K9,Q9) -> 46.75 | X9: =SUM(F9,L9,R9) -> 0 | Y9: =SUM(T9:X9) -> 1606.5076 | Z9: 255.18603 | AA9: 217.48833 | AB9: 205.66466 | AC9: 9.25 | AE9: =SUM(Z9:AD9) -> 687.58902 | AF9: 168.92225 | AG9: 55.553547 | AI9: 2.75 | AK9: =SUM(AF9:AJ9) -> 227.2258 | AM9: 18.413245 | AO9: 4.75 | AQ9: =SUM(AL9:AP9) -> 23.163245 | AW9: =SUM(AR9:AV9) -> 0 | AX9: 152.22539 | AY9: 11.321774 | BA9: 5 | BC9: =SUM(AX9:BB9) -> 168.54717 | BD9: =SUM(Z9,AF9,AL9,AR9,AX9) -> 576.33368 | BE9: =SUM(AA9,AG9,AM9,AS9,AY9) -> 302.77689 | BF9: =SUM(AB9,AH9,AN9,AT9,AZ9) -> 205.66466 | BG9: =SUM(AC9,AI9,AO9,AU9,BA9) -> 21.75 | BH9: =SUM(AD9,AJ9,AP9,AV9,BB9) -> 0 | BI9: =SUM(BD9:BH9) -> 1106.5252 | BJ9: 379.09117 | BK9: 2432.1711 | BL9: 514.54031 | BM9: 105.7307 | BO9: =SUM(BJ9:BN9) -> 3431.5333 | BP9: 271.73021 | BQ9: 1184.1301 | BR9: 115.28178 | BS9: 20.25 | BU9: =SUM(BP9:BT9) -> 1591.3921 | BV9: 3170.5925 | BW9: 3156.2733 | BX9: 524.09314 | BY9: 222.30564 | CA9: =SUM(BV9:BZ9) -> 7073.2646 | CB9: =SUM(BJ9,BP9,BV9) -> 3821.4139 | CC9: =SUM(BK9,BQ9,BW9) -> 6772.5746 | CD9: =SUM(BL9,BR9,BX9) -> 1153.9152 | CE9: =SUM(BM9,BS9,BY9) -> 348.28634 | CF9: =SUM(BN9,BT9,BZ9) -> 0 | CG9: =SUM(CB9:CF9) -> 12096.19 | CI9: 108.09704 | CJ9: 187.47158 | CK9: 106.61712 | CL9: 12.746163 | CN9: =SUM(CH9:CM9) -> 414.9319 | CP9: 264.52065 | CQ9: 95.290382 | CR9: 45.477976 | CS9: 2.4804026 | CU9: =SUM(CO9:CT9) -> 407.76941 | CW9: 54.146484 | CX9: 10.682622 | CY9: 17.900001 | DB9: =SUM(CV9:DA9) -> 82.729107 | DD9: 247.4168 | DE9: 315.67348 | DF9: 139.98427 | DG9: 55.194231 | DI9: =SUM(DC9:DH9) -> 758.26878 | DJ9: =SUM(CH9,CO9,CV9,DC9) -> 0 | DK9: =SUM(CI9,CP9,CW9,DD9) -> 674.18097 | DL9: =SUM(CJ9,CQ9,CX9,DE9) -> 609.11806 | DM9: =SUM(CK9,CR9,CY9,DF9) -> 309.97936 | DN9: =SUM(CL9,CS9,CZ9,DG9) -> 70.420796 | DO9: =SUM(CM9,CT9,DA9,DH9) -> 0 | DP9: =SUM(DJ9:DO9) -> 1663.6992 | DR9: 80.224172 | DS9: 71.533606 | DT9: 13.364524 | DV9: =SUM(DQ9:DU9) -> 165.1223 | DZ9: 3.5 | EB9: =SUM(DW9:EA9) -> 3.5 | EC9: 14.573007 | ED9: 120.98631 | EF9: 14.25 | EH9: =SUM(EC9:EG9) -> 149.80932 | EI9: 30.110424 | EJ9: 64.74576 | EK9: 50.045365 | EL9: 1 | EN9: =SUM(EI9:EM9) -> 145.90155 | EO9: 196.62015 | EP9: 223.13556 | EQ9: 323.16326 | ER9: 18.5 | ET9: =SUM(EO9:ES9) -> 761.41898 | EV9: 122.08684 | EX9: 15 | EZ9: =SUM(EU9:EY9) -> 137.08684 | FB9: 10.792967 | FD9: 2 | FF9: =SUM(FA9:FE9) -> 12.792967 | FG9: =SUM(DQ9,DW9,EC9,EI9,EO9,EU9,FA9) -> 241.30358 | FH9: =SUM(DR9,DX9,ED9,EJ9,EP9,EV9,FB9) -> 621.97161 | FI9: =SUM(DS9,DY9,EE9,EK9,EQ9,EW9,FC9) -> 444.74223 | FJ9: =SUM(DT9,DZ9,EF9,EL9,ER9,EX9,FD9) -> 67.614524 | FK9: =SUM(DU9,EA9,EG9,EM9,ES9,EY9,FE9) -> 0 | FL9: =SUM(FG9:FK9) -> 1375.632 | FR9: =SUM(FM9:FQ9) -> 0 | FX9: =SUM(FS9:FW9) -> 0 | GD9: =SUM(FY9:GC9) -> 0 | GJ9: =SUM(GE9:GI9) -> 0 | GK9: 897.06541 | GL9: 27.419024 | GN9: 25.131478 | GP9: =SUM(GK9:GO9) -> 949.61591 | GV9: =SUM(GQ9:GU9) -> 0 | HB9: =SUM(GW9:HA9) -> 0 | HH9: =SUM(HC9:HG9) -> 0 | HI9: =SUM(FM9,FS9,FY9,GE9,GK9,GQ9,GW9,HC9) -> 897.06541 | HJ9: =SUM(FN9,FT9,FZ9,GF9,GL9,GR9,GX9,HD9) -> 27.419024 | HK9: =SUM(HE9,GY9,GS9,GM9,GG9,GA9,FU9,FO9) -> 0 | HL9: =SUM(HF9,GZ9,GT9,GN9,GH9,GB9,FV9,FP9) -> 25.131478 | HM9: =SUM(HG9,HA9,GU9,GO9,GI9,GC9,FW9,FQ9) -> 0 | HN9: =SUM(HI9:HM9) -> 949.61591 | HT9: =SUM(HO9:HS9) -> 0 | HZ9: =SUM(HU9:HY9) -> 0 | IA9: 350.29744 | IB9: 1692.4361 | IC9: 120.74348 | ID9: 39.75 | IF9: =SUM(IA9:IE9) -> 2203.227 | IG9: =SUM(HO9,HU9,IA9) -> 350.29744 | IH9: =SUM(HP9,HV9,IB9) -> 1692.4361 | II9: =SUM(HQ9,HW9,IC9) -> 120.74348 | IJ9: =SUM(HR9,HX9,ID9) -> 39.75 | IK9: =SUM(HS9,HY9,IE9) -> 0 | IL9: =SUM(IG9:IK9) -> 2203.227 | IR9: =SUM(IM9:IQ9) -> 0 | IX9: =SUM(IS9:IW9) -> 0 | JD9: =SUM(IY9:JC9) -> 0 | JE9: =SUM(IM9,IS9,IY9) -> 0 | JF9: =SUM(IN9,IT9,IZ9) -> 0 | JG9: =SUM(IO9,IU9,JA9) -> 0 | JH9: =SUM(IP9,IV9,JB9) -> 0 | JI9: =SUM(IQ9,IW9,JC9) -> 0 | JJ9: =SUM(JE9:JI9) -> 0 | JL9: =SUM(T9,BD9,CB9,DJ9,FG9,HI9,IG9,JE9) -> 6638.4611 | JM9: =SUM(U9,BE9,CC9,DK9,FH9,HJ9,IH9,JF9) -> 10899.07 | JN9: =SUM(V9,BF9,CD9,DL9,FI9,HK9,II9,JG9) -> 2534.1837 | JO9: =SUM(W9,BG9,CE9,DM9,FJ9,HL9,IJ9,JH9) -> 859.2617 | JP9: =SUM(X9,BH9,CF9,DN9,FK9,HM9,IK9,JI9) -> 70.420796 | JQ9: =SUM(DO9) -> 0 | JR9: =SUM(JL9:JQ9) -> 21001.397
A10: IBF = Fir engraver Beetle | G10: =SUM(B10:F10) -> 0 | M10: =SUM(H10:L10) -> 0 | S10: =SUM(N10:R10) -> 0 | T10: =SUM(B10,H10,N10) -> 0 | U10: =SUM(C10,I10,O10) -> 0 | V10: =SUM(D10,J10,P10) -> 0 | W10: =SUM(E10,K10,Q10) -> 0 | X10: =SUM(F10,L10,R10) -> 0 | Y10: =SUM(T10:X10) -> 0 | AE10: =SUM(Z10:AD10) -> 0 | AK10: =SUM(AF10:AJ10) -> 0 | AQ10: =SUM(AL10:AP10) -> 0 | AW10: =SUM(AR10:AV10) -> 0 | BC10: =SUM(AX10:BB10) -> 0 | BD10: =SUM(Z10,AF10,AL10,AR10,AX10) -> 0 | BE10: =SUM(AA10,AG10,AM10,AS10,AY10) -> 0 | BF10: =SUM(AB10,AH10,AN10,AT10,AZ10) -> 0 | BG10: =SUM(AC10,AI10,AO10,AU10,BA10) -> 0 | BH10: =SUM(AD10,AJ10,AP10,AV10,BB10) -> 0 | BI10: =SUM(BD10:BH10) -> 0 | BO10: =SUM(BJ10:BN10) -> 0 | BU10: =SUM(BP10:BT10) -> 0 | CA10: =SUM(BV10:BZ10) -> 0 | CB10: =SUM(BJ10,BP10,BV10) -> 0 | CC10: =SUM(BK10,BQ10,BW10) -> 0 | CD10: =SUM(BL10,BR10,BX10) -> 0 | CE10: =SUM(BM10,BS10,BY10) -> 0 | CF10: =SUM(BN10,BT10,BZ10) -> 0 | CG10: =SUM(CB10:CF10) -> 0 | CN10: =SUM(CH10:CM10) -> 0 | CU10: =SUM(CO10:CT10) -> 0 | DB10: =SUM(CV10:DA10) -> 0 | DI10: =SUM(DC10:DH10) -> 0 | DJ10: =SUM(CH10,CO10,CV10,DC10) -> 0 | DK10: =SUM(CI10,CP10,CW10,DD10) -> 0 | DL10: =SUM(CJ10,CQ10,CX10,DE10) -> 0 | DM10: =SUM(CK10,CR10,CY10,DF10) -> 0 | DN10: =SUM(CL10,CS10,CZ10,DG10) -> 0 | DO10: =SUM(CM10,CT10,DA10,DH10) -> 0 | DP10: =SUM(DJ10:DO10) -> 0 | DV10: =SUM(DQ10:DU10) -> 0 | EB10: =SUM(DW10:EA10) -> 0 | EH10: =SUM(EC10:EG10) -> 0 | EN10: =SUM(EI10:EM10) -> 0 | ET10: =SUM(EO10:ES10) -> 0 | EZ10: =SUM(EU10:EY10) -> 0 | FF10: =SUM(FA10:FE10) -> 0 | FG10: =SUM(DQ10,DW10,EC10,EI10,EO10,EU10,FA10) -> 0 | FH10: =SUM(DR10,DX10,ED10,EJ10,EP10,EV10,FB10) -> 0 | FI10: =SUM(DS10,DY10,EE10,EK10,EQ10,EW10,FC10) -> 0 | FJ10: =SUM(DT10,DZ10,EF10,EL10,ER10,EX10,FD10) -> 0 | FK10: =SUM(DU10,EA10,EG10,EM10,ES10,EY10,FE10) -> 0 | FL10: =SUM(FG10:FK10) -> 0 | FR10: =SUM(FM10:FQ10) -> 0 | FX10: =SUM(FS10:FW10) -> 0 | GD10: =SUM(FY10:GC10) -> 0 | GJ10: =SUM(GE10:GI10) -> 0 | GP10: =SUM(GK10:GO10) -> 0 | GV10: =SUM(GQ10:GU10) -> 0 | HB10: =SUM(GW10:HA10) -> 0 | HH10: =SUM(HC10:HG10) -> 0 | HI10: =SUM(FM10,FS10,FY10,GE10,GK10,GQ10,GW10,HC10) -> 0 | HJ10: =SUM(FN10,FT10,FZ10,GF10,GL10,GR10,GX10,HD10) -> 0 | HK10: =SUM(HE10,GY10,GS10,GM10,GG10,GA10,FU10,FO10) -> 0 | HL10: =SUM(HF10,GZ10,GT10,GN10,GH10,GB10,FV10,FP10) -> 0 | HM10: =SUM(HG10,HA10,GU10,GO10,GI10,GC10,FW10,FQ10) -> 0 | HN10: =SUM(HI10:HM10) -> 0 | HT10: =SUM(HO10:HS10) -> 0 | HZ10: =SUM(HU10:HY10) -> 0 | IF10: =SUM(IA10:IE10) -> 0 | IG10: =SUM(HO10,HU10,IA10) -> 0 | IH10: =SUM(HP10,HV10,IB10) -> 0 | II10: =SUM(HQ10,HW10,IC10) -> 0 | IJ10: =SUM(HR10,HX10,ID10) -> 0 | IK10: =SUM(HS10,HY10,IE10) -> 0 | IL10: =SUM(IG10:IK10) -> 0 | IR10: =SUM(IM10:IQ10) -> 0 | IX10: =SUM(IS10:IW10) -> 0 | JD10: =SUM(IY10:JC10) -> 0 | JE10: =SUM(IM10,IS10,IY10) -> 0 | JF10: =SUM(IN10,IT10,IZ10) -> 0 | JG10: =SUM(IO10,IU10,JA10) -> 0 | JH10: =SUM(IP10,IV10,JB10) -> 0 | JI10: =SUM(IQ10,IW10,JC10) -> 0 | JJ10: =SUM(JE10:JI10) -> 0 | JL10: =SUM(T10,BD10,CB10,DJ10,FG10,HI10,IG10,JE10) -> 0 | JM10: =SUM(U10,BE10,CC10,DK10,FH10,HJ10,IH10,JF10) -> 0 | JN10: =SUM(V10,BF10,CD10,DL10,FI10,HK10,II10,JG10) -> 0 | JO10: =SUM(W10,BG10,CE10,DM10,FJ10,HL10,IJ10,JH10) -> 0 | JP10: =SUM(X10,BH10,CF10,DN10,FK10,HM10,IK10,JI10) -> 0 | JQ10: =SUM(DO10) -> 0 | JR10: =SUM(JL10:JQ10) -> 0
A11: IBP = Twig Beetle | G11: =SUM(B11:F11) -> 0 | M11: =SUM(H11:L11) -> 0 | S11: =SUM(N11:R11) -> 0 | T11: =SUM(B11,H11,N11) -> 0 | U11: =SUM(C11,I11,O11) -> 0 | V11: =SUM(D11,J11,P11) -> 0 | W11: =SUM(E11,K11,Q11) -> 0 | X11: =SUM(F11,L11,R11) -> 0 | Y11: =SUM(T11:X11) -> 0 | AE11: =SUM(Z11:AD11) -> 0 | AK11: =SUM(AF11:AJ11) -> 0 | AQ11: =SUM(AL11:AP11) -> 0 | AW11: =SUM(AR11:AV11) -> 0 | BC11: =SUM(AX11:BB11) -> 0 | BD11: =SUM(Z11,AF11,AL11,AR11,AX11) -> 0 | BE11: =SUM(AA11,AG11,AM11,AS11,AY11) -> 0 | BF11: =SUM(AB11,AH11,AN11,AT11,AZ11) -> 0 | BG11: =SUM(AC11,AI11,AO11,AU11,BA11) -> 0 | BH11: =SUM(AD11,AJ11,AP11,AV11,BB11) -> 0 | BI11: =SUM(BD11:BH11) -> 0 | BO11: =SUM(BJ11:BN11) -> 0 | BU11: =SUM(BP11:BT11) -> 0 | CA11: =SUM(BV11:BZ11) -> 0 | CB11: =SUM(BJ11,BP11,BV11) -> 0 | CC11: =SUM(BK11,BQ11,BW11) -> 0 | CD11: =SUM(BL11,BR11,BX11) -> 0 | CE11: =SUM(BM11,BS11,BY11) -> 0 | CF11: =SUM(BN11,BT11,BZ11) -> 0 | CG11: =SUM(CB11:CF11) -> 0 | CN11: =SUM(CH11:CM11) -> 0 | CU11: =SUM(CO11:CT11) -> 0 | DB11: =SUM(CV11:DA11) -> 0 | DI11: =SUM(DC11:DH11) -> 0 | DJ11: =SUM(CH11,CO11,CV11,DC11) -> 0 | DK11: =SUM(CI11,CP11,CW11,DD11) -> 0 | DL11: =SUM(CJ11,CQ11,CX11,DE11) -> 0 | DM11: =SUM(CK11,CR11,CY11,DF11) -> 0 | DN11: =SUM(CL11,CS11,CZ11,DG11) -> 0 | DO11: =SUM(CM11,CT11,DA11,DH11) -> 0 | DP11: =SUM(DJ11:DO11) -> 0 | DV11: =SUM(DQ11:DU11) -> 0 | EB11: =SUM(DW11:EA11) -> 0 | EH11: =SUM(EC11:EG11) -> 0 | EN11: =SUM(EI11:EM11) -> 0 | ET11: =SUM(EO11:ES11) -> 0 | EZ11: =SUM(EU11:EY11) -> 0 | FF11: =SUM(FA11:FE11) -> 0 | FG11: =SUM(DQ11,DW11,EC11,EI11,EO11,EU11,FA11) -> 0 | FH11: =SUM(DR11,DX11,ED11,EJ11,EP11,EV11,FB11) -> 0 | FI11: =SUM(DS11,DY11,EE11,EK11,EQ11,EW11,FC11) -> 0 | FJ11: =SUM(DT11,DZ11,EF11,EL11,ER11,EX11,FD11) -> 0 | FK11: =SUM(DU11,EA11,EG11,EM11,ES11,EY11,FE11) -> 0 | FL11: =SUM(FG11:FK11) -> 0 | FR11: =SUM(FM11:FQ11) -> 0 | FX11: =SUM(FS11:FW11) -> 0 | GD11: =SUM(FY11:GC11) -> 0 | GJ11: =SUM(GE11:GI11) -> 0 | GP11: =SUM(GK11:GO11) -> 0 | GV11: =SUM(GQ11:GU11) -> 0 | HB11: =SUM(GW11:HA11) -> 0 | HH11: =SUM(HC11:HG11) -> 0 | HI11: =SUM(FM11,FS11,FY11,GE11,GK11,GQ11,GW11,HC11) -> 0 | HJ11: =SUM(FN11,FT11,FZ11,GF11,GL11,GR11,GX11,HD11) -> 0 | HK11: =SUM(HE11,GY11,GS11,GM11,GG11,GA11,FU11,FO11) -> 0 | HL11: =SUM(HF11,GZ11,GT11,GN11,GH11,GB11,FV11,FP11) -> 0 | HM11: =SUM(HG11,HA11,GU11,GO11,GI11,GC11,FW11,FQ11) -> 0 | HN11: =SUM(HI11:HM11) -> 0 | HT11: =SUM(HO11:HS11) -> 0 | HZ11: =SUM(HU11:HY11) -> 0 | IF11: =SUM(IA11:IE11) -> 0 | IG11: =SUM(HO11,HU11,IA11) -> 0 | IH11: =SUM(HP11,HV11,IB11) -> 0 | II11: =SUM(HQ11,HW11,IC11) -> 0 | IJ11: =SUM(HR11,HX11,ID11) -> 0 | IK11: =SUM(HS11,HY11,IE11) -> 0 | IL11: =SUM(IG11:IK11) -> 0 | IR11: =SUM(IM11:IQ11) -> 0 | IX11: =SUM(IS11:IW11) -> 0 | JD11: =SUM(IY11:JC11) -> 0 | JE11: =SUM(IM11,IS11,IY11) -> 0 | JF11: =SUM(IN11,IT11,IZ11) -> 0 | JG11: =SUM(IO11,IU11,JA11) -> 0 | JH11: =SUM(IP11,IV11,JB11) -> 0 | JI11: =SUM(IQ11,IW11,JC11) -> 0 | JJ11: =SUM(JE11:JI11) -> 0 | JL11: =SUM(T11,BD11,CB11,DJ11,FG11,HI11,IG11,JE11) -> 0 | JM11: =SUM(U11,BE11,CC11,DK11,FH11,HJ11,IH11,JF11) -> 0 | JN11: =SUM(V11,BF11,CD11,DL11,FI11,HK11,II11,JG11) -> 0 | JO11: =SUM(W11,BG11,CE11,DM11,FJ11,HL11,IJ11,JH11) -> 0 | JP11: =SUM(X11,BH11,CF11,DN11,FK11,HM11,IK11,JI11) -> 0 | JQ11: =SUM(DO11) -> 0 | JR11: =SUM(JL11:JQ11) -> 0
A12: IBI=Engraver Beetle (Ips species) | G12: =SUM(B12:F12) -> 0 | M12: =SUM(H12:L12) -> 0 | S12: =SUM(N12:R12) -> 0 | T12: =SUM(B12,H12,N12) -> 0 | U12: =SUM(C12,I12,O12) -> 0 | V12: =SUM(D12,J12,P12) -> 0 | W12: =SUM(E12,K12,Q12) -> 0 | X12: =SUM(F12,L12,R12) -> 0 | Y12: =SUM(T12:X12) -> 0 | AE12: =SUM(Z12:AD12) -> 0 | AK12: =SUM(AF12:AJ12) -> 0 | AQ12: =SUM(AL12:AP12) -> 0 | AW12: =SUM(AR12:AV12) -> 0 | BC12: =SUM(AX12:BB12) -> 0 | BD12: =SUM(Z12,AF12,AL12,AR12,AX12) -> 0 | BE12: =SUM(AA12,AG12,AM12,AS12,AY12) -> 0 | BF12: =SUM(AB12,AH12,AN12,AT12,AZ12) -> 0 | BG12: =SUM(AC12,AI12,AO12,AU12,BA12) -> 0 | BH12: =SUM(AD12,AJ12,AP12,AV12,BB12) -> 0 | BI12: =SUM(BD12:BH12) -> 0 | BO12: =SUM(BJ12:BN12) -> 0 | BU12: =SUM(BP12:BT12) -> 0 | CA12: =SUM(BV12:BZ12) -> 0 | CB12: =SUM(BJ12,BP12,BV12) -> 0 | CC12: =SUM(BK12,BQ12,BW12) -> 0 | CD12: =SUM(BL12,BR12,BX12) -> 0 | CE12: =SUM(BM12,BS12,BY12) -> 0 | CF12: =SUM(BN12,BT12,BZ12) -> 0 | CG12: =SUM(CB12:CF12) -> 0 | CN12: =SUM(CH12:CM12) -> 0 | CU12: =SUM(CO12:CT12) -> 0 | DB12: =SUM(CV12:DA12) -> 0 | DI12: =SUM(DC12:DH12) -> 0 | DJ12: =SUM(CH12,CO12,CV12,DC12) -> 0 | DK12: =SUM(CI12,CP12,CW12,DD12) -> 0 | DL12: =SUM(CJ12,CQ12,CX12,DE12) -> 0 | DM12: =SUM(CK12,CR12,CY12,DF12) -> 0 | DN12: =SUM(CL12,CS12,CZ12,DG12) -> 0 | DO12: =SUM(CM12,CT12,DA12,DH12) -> 0 | DP12: =SUM(DJ12:DO12) -> 0 | DV12: =SUM(DQ12:DU12) -> 0 | EB12: =SUM(DW12:EA12) -> 0 | EH12: =SUM(EC12:EG12) -> 0 | EN12: =SUM(EI12:EM12) -> 0 | ET12: =SUM(EO12:ES12) -> 0 | EZ12: =SUM(EU12:EY12) -> 0 | FF12: =SUM(FA12:FE12) -> 0 | FG12: =SUM(DQ12,DW12,EC12,EI12,EO12,EU12,FA12) -> 0 | FH12: =SUM(DR12,DX12,ED12,EJ12,EP12,EV12,FB12) -> 0 | FI12: =SUM(DS12,DY12,EE12,EK12,EQ12,EW12,FC12) -> 0 | FJ12: =SUM(DT12,DZ12,EF12,EL12,ER12,EX12,FD12) -> 0 | FK12: =SUM(DU12,EA12,EG12,EM12,ES12,EY12,FE12) -> 0 | FL12: =SUM(FG12:FK12) -> 0 | FR12: =SUM(FM12:FQ12) -> 0 | FX12: =SUM(FS12:FW12) -> 0 | GD12: =SUM(FY12:GC12) -> 0 | GJ12: =SUM(GE12:GI12) -> 0 | GP12: =SUM(GK12:GO12) -> 0 | GV12: =SUM(GQ12:GU12) -> 0 | HB12: =SUM(GW12:HA12) -> 0 | HH12: =SUM(HC12:HG12) -> 0 | HI12: =SUM(FM12,FS12,FY12,GE12,GK12,GQ12,GW12,HC12) -> 0 | HJ12: =SUM(FN12,FT12,FZ12,GF12,GL12,GR12,GX12,HD12) -> 0 | HK12: =SUM(HE12,GY12,GS12,GM12,GG12,GA12,FU12,FO12) -> 0 | HL12: =SUM(HF12,GZ12,GT12,GN12,GH12,GB12,FV12,FP12) -> 0 | HM12: =SUM(HG12,HA12,GU12,GO12,GI12,GC12,FW12,FQ12) -> 0 | HN12: =SUM(HI12:HM12) -> 0 | HT12: =SUM(HO12:HS12) -> 0 | HZ12: =SUM(HU12:HY12) -> 0 | IF12: =SUM(IA12:IE12) -> 0 | IG12: =SUM(HO12,HU12,IA12) -> 0 | IH12: =SUM(HP12,HV12,IB12) -> 0 | II12: =SUM(HQ12,HW12,IC12) -> 0 | IJ12: =SUM(HR12,HX12,ID12) -> 0 | IK12: =SUM(HS12,HY12,IE12) -> 0 | IL12: =SUM(IG12:IK12) -> 0 | IR12: =SUM(IM12:IQ12) -> 0 | IX12: =SUM(IS12:IW12) -> 0 | JD12: =SUM(IY12:JC12) -> 0 | JE12: =SUM(IM12,IS12,IY12) -> 0 | JF12: =SUM(IN12,IT12,IZ12) -> 0 | JG12: =SUM(IO12,IU12,JA12) -> 0 | JH12: =SUM(IP12,IV12,JB12) -> 0 | JI12: =SUM(IQ12,IW12,JC12) -> 0 | JJ12: =SUM(JE12:JI12) -> 0 | JL12: =SUM(T12,BD12,CB12,DJ12,FG12,HI12,IG12,JE12) -> 0 | JM12: =SUM(U12,BE12,CC12,DK12,FH12,HJ12,IH12,JF12) -> 0 | JN12: =SUM(V12,BF12,CD12,DL12,FI12,HK12,II12,JG12) -> 0 | JO12: =SUM(W12,BG12,CE12,DM12,FJ12,HL12,IJ12,JH12) -> 0 | JP12: =SUM(X12,BH12,CF12,DN12,FK12,HM12,IK12,JI12) -> 0 | JQ12: =SUM(DO12) -> 0 | JR12: =SUM(JL12:JQ12) -> 0
A13: IBW=Western Pine Beetle | G13: =SUM(B13:F13) -> 0 | M13: =SUM(H13:L13) -> 0 | S13: =SUM(N13:R13) -> 0 | T13: =SUM(B13,H13,N13) -> 0 | U13: =SUM(C13,I13,O13) -> 0 | V13: =SUM(D13,J13,P13) -> 0 | W13: =SUM(E13,K13,Q13) -> 0 | X13: =SUM(F13,L13,R13) -> 0 | Y13: =SUM(T13:X13) -> 0 | AE13: =SUM(Z13:AD13) -> 0 | AK13: =SUM(AF13:AJ13) -> 0 | AQ13: =SUM(AL13:AP13) -> 0 | AW13: =SUM(AR13:AV13) -> 0 | BC13: =SUM(AX13:BB13) -> 0 | BD13: =SUM(Z13,AF13,AL13,AR13,AX13) -> 0 | BE13: =SUM(AA13,AG13,AM13,AS13,AY13) -> 0 | BF13: =SUM(AB13,AH13,AN13,AT13,AZ13) -> 0 | BG13: =SUM(AC13,AI13,AO13,AU13,BA13) -> 0 | BH13: =SUM(AD13,AJ13,AP13,AV13,BB13) -> 0 | BI13: =SUM(BD13:BH13) -> 0 | BO13: =SUM(BJ13:BN13) -> 0 | BU13: =SUM(BP13:BT13) -> 0 | CA13: =SUM(BV13:BZ13) -> 0 | CB13: =SUM(BJ13,BP13,BV13) -> 0 | CC13: =SUM(BK13,BQ13,BW13) -> 0 | CD13: =SUM(BL13,BR13,BX13) -> 0 | CE13: =SUM(BM13,BS13,BY13) -> 0 | CF13: =SUM(BN13,BT13,BZ13) -> 0 | CG13: =SUM(CB13:CF13) -> 0 | CN13: =SUM(CH13:CM13) -> 0 | CU13: =SUM(CO13:CT13) -> 0 | DB13: =SUM(CV13:DA13) -> 0 | DI13: =SUM(DC13:DH13) -> 0 | DJ13: =SUM(CH13,CO13,CV13,DC13) -> 0 | DK13: =SUM(CI13,CP13,CW13,DD13) -> 0 | DL13: =SUM(CJ13,CQ13,CX13,DE13) -> 0 | DM13: =SUM(CK13,CR13,CY13,DF13) -> 0 | DN13: =SUM(CL13,CS13,CZ13,DG13) -> 0 | DO13: =SUM(CM13,CT13,DA13,DH13) -> 0 | DP13: =SUM(DJ13:DO13) -> 0 | DV13: =SUM(DQ13:DU13) -> 0 | EB13: =SUM(DW13:EA13) -> 0 | EH13: =SUM(EC13:EG13) -> 0 | EN13: =SUM(EI13:EM13) -> 0 | ET13: =SUM(EO13:ES13) -> 0 | EZ13: =SUM(EU13:EY13) -> 0 | FF13: =SUM(FA13:FE13) -> 0 | FG13: =SUM(DQ13,DW13,EC13,EI13,EO13,EU13,FA13) -> 0 | FH13: =SUM(DR13,DX13,ED13,EJ13,EP13,EV13,FB13) -> 0 | FI13: =SUM(DS13,DY13,EE13,EK13,EQ13,EW13,FC13) -> 0 | FJ13: =SUM(DT13,DZ13,EF13,EL13,ER13,EX13,FD13) -> 0 | FK13: =SUM(DU13,EA13,EG13,EM13,ES13,EY13,FE13) -> 0 | FL13: =SUM(FG13:FK13) -> 0 | FR13: =SUM(FM13:FQ13) -> 0 | FX13: =SUM(FS13:FW13) -> 0 | GD13: =SUM(FY13:GC13) -> 0 | GJ13: =SUM(GE13:GI13) -> 0 | GP13: =SUM(GK13:GO13) -> 0 | GV13: =SUM(GQ13:GU13) -> 0 | HB13: =SUM(GW13:HA13) -> 0 | HH13: =SUM(HC13:HG13) -> 0 | HI13: =SUM(FM13,FS13,FY13,GE13,GK13,GQ13,GW13,HC13) -> 0 | HJ13: =SUM(FN13,FT13,FZ13,GF13,GL13,GR13,GX13,HD13) -> 0 | HK13: =SUM(HE13,GY13,GS13,GM13,GG13,GA13,FU13,FO13) -> 0 | HL13: =SUM(HF13,GZ13,GT13,GN13,GH13,GB13,FV13,FP13) -> 0 | HM13: =SUM(HG13,HA13,GU13,GO13,GI13,GC13,FW13,FQ13) -> 0 | HN13: =SUM(HI13:HM13) -> 0 | HT13: =SUM(HO13:HS13) -> 0 | HZ13: =SUM(HU13:HY13) -> 0 | IF13: =SUM(IA13:IE13) -> 0 | IG13: =SUM(HO13,HU13,IA13) -> 0 | IH13: =SUM(HP13,HV13,IB13) -> 0 | II13: =SUM(HQ13,HW13,IC13) -> 0 | IJ13: =SUM(HR13,HX13,ID13) -> 0 | IK13: =SUM(HS13,HY13,IE13) -> 0 | IL13: =SUM(IG13:IK13) -> 0 | IR13: =SUM(IM13:IQ13) -> 0 | IX13: =SUM(IS13:IW13) -> 0 | JD13: =SUM(IY13:JC13) -> 0 | JE13: =SUM(IM13,IS13,IY13) -> 0 | JF13: =SUM(IN13,IT13,IZ13) -> 0 | JG13: =SUM(IO13,IU13,JA13) -> 0 | JH13: =SUM(IP13,IV13,JB13) -> 0 | JI13: =SUM(IQ13,IW13,JC13) -> 0 | JJ13: =SUM(JE13:JI13) -> 0 | JL13: =SUM(T13,BD13,CB13,DJ13,FG13,HI13,IG13,JE13) -> 0 | JM13: =SUM(U13,BE13,CC13,DK13,FH13,HJ13,IH13,JF13) -> 0 | JN13: =SUM(V13,BF13,CD13,DL13,FI13,HK13,II13,JG13) -> 0 | JO13: =SUM(W13,BG13,CE13,DM13,FJ13,HL13,IJ13,JH13) -> 0 | JP13: =SUM(X13,BH13,CF13,DN13,FK13,HM13,IK13,JI13) -> 0 | JQ13: =SUM(DO13) -> 0 | JR13: =SUM(JL13:JQ13) -> 0
A14: IBL=Lodgepole Pine Beetle | G14: =SUM(B14:F14) -> 0 | M14: =SUM(H14:L14) -> 0 | S14: =SUM(N14:R14) -> 0 | T14: =SUM(B14,H14,N14) -> 0 | U14: =SUM(C14,I14,O14) -> 0 | V14: =SUM(D14,J14,P14) -> 0 | W14: =SUM(E14,K14,Q14) -> 0 | X14: =SUM(F14,L14,R14) -> 0 | Y14: =SUM(T14:X14) -> 0 | AE14: =SUM(Z14:AD14) -> 0 | AK14: =SUM(AF14:AJ14) -> 0 | AQ14: =SUM(AL14:AP14) -> 0 | AW14: =SUM(AR14:AV14) -> 0 | BC14: =SUM(AX14:BB14) -> 0 | BD14: =SUM(Z14,AF14,AL14,AR14,AX14) -> 0 | BE14: =SUM(AA14,AG14,AM14,AS14,AY14) -> 0 | BF14: =SUM(AB14,AH14,AN14,AT14,AZ14) -> 0 | BG14: =SUM(AC14,AI14,AO14,AU14,BA14) -> 0 | BH14: =SUM(AD14,AJ14,AP14,AV14,BB14) -> 0 | BI14: =SUM(BD14:BH14) -> 0 | BO14: =SUM(BJ14:BN14) -> 0 | BU14: =SUM(BP14:BT14) -> 0 | CA14: =SUM(BV14:BZ14) -> 0 | CB14: =SUM(BJ14,BP14,BV14) -> 0 | CC14: =SUM(BK14,BQ14,BW14) -> 0 | CD14: =SUM(BL14,BR14,BX14) -> 0 | CE14: =SUM(BM14,BS14,BY14) -> 0 | CF14: =SUM(BN14,BT14,BZ14) -> 0 | CG14: =SUM(CB14:CF14) -> 0 | CN14: =SUM(CH14:CM14) -> 0 | CU14: =SUM(CO14:CT14) -> 0 | DB14: =SUM(CV14:DA14) -> 0 | DI14: =SUM(DC14:DH14) -> 0 | DJ14: =SUM(CH14,CO14,CV14,DC14) -> 0 | DK14: =SUM(CI14,CP14,CW14,DD14) -> 0 | DL14: =SUM(CJ14,CQ14,CX14,DE14) -> 0 | DM14: =SUM(CK14,CR14,CY14,DF14) -> 0 | DN14: =SUM(CL14,CS14,CZ14,DG14) -> 0 | DO14: =SUM(CM14,CT14,DA14,DH14) -> 0 | DP14: =SUM(DJ14:DO14) -> 0 | DV14: =SUM(DQ14:DU14) -> 0 | EB14: =SUM(DW14:EA14) -> 0 | EH14: =SUM(EC14:EG14) -> 0 | EN14: =SUM(EI14:EM14) -> 0 | ET14: =SUM(EO14:ES14) -> 0 | EZ14: =SUM(EU14:EY14) -> 0 | FF14: =SUM(FA14:FE14) -> 0 | FG14: =SUM(DQ14,DW14,EC14,EI14,EO14,EU14,FA14) -> 0 | FH14: =SUM(DR14,DX14,ED14,EJ14,EP14,EV14,FB14) -> 0 | FI14: =SUM(DS14,DY14,EE14,EK14,EQ14,EW14,FC14) -> 0 | FJ14: =SUM(DT14,DZ14,EF14,EL14,ER14,EX14,FD14) -> 0 | FK14: =SUM(DU14,EA14,EG14,EM14,ES14,EY14,FE14) -> 0 | FL14: =SUM(FG14:FK14) -> 0 | FR14: =SUM(FM14:FQ14) -> 0 | FX14: =SUM(FS14:FW14) -> 0 | GD14: =SUM(FY14:GC14) -> 0 | GJ14: =SUM(GE14:GI14) -> 0 | GP14: =SUM(GK14:GO14) -> 0 | GV14: =SUM(GQ14:GU14) -> 0 | HB14: =SUM(GW14:HA14) -> 0 | HH14: =SUM(HC14:HG14) -> 0 | HI14: =SUM(FM14,FS14,FY14,GE14,GK14,GQ14,GW14,HC14) -> 0 | HJ14: =SUM(FN14,FT14,FZ14,GF14,GL14,GR14,GX14,HD14) -> 0 | HK14: =SUM(HE14,GY14,GS14,GM14,GG14,GA14,FU14,FO14) -> 0 | HL14: =SUM(HF14,GZ14,GT14,GN14,GH14,GB14,FV14,FP14) -> 0 | HM14: =SUM(HG14,HA14,GU14,GO14,GI14,GC14,FW14,FQ14) -> 0 | HN14: =SUM(HI14:HM14) -> 0 | HT14: =SUM(HO14:HS14) -> 0 | HZ14: =SUM(HU14:HY14) -> 0 | IF14: =SUM(IA14:IE14) -> 0 | IG14: =SUM(HO14,HU14,IA14) -> 0 | IH14: =SUM(HP14,HV14,IB14) -> 0 | II14: =SUM(HQ14,HW14,IC14) -> 0 | IJ14: =SUM(HR14,HX14,ID14) -> 0 | IK14: =SUM(HS14,HY14,IE14) -> 0 | IL14: =SUM(IG14:IK14) -> 0 | IR14: =SUM(IM14:IQ14) -> 0 | IX14: =SUM(IS14:IW14) -> 0 | JD14: =SUM(IY14:JC14) -> 0 | JE14: =SUM(IM14,IS14,IY14) -> 0 | JF14: =SUM(IN14,IT14,IZ14) -> 0 | JG14: =SUM(IO14,IU14,JA14) -> 0 | JH14: =SUM(IP14,IV14,JB14) -> 0 | JI14: =SUM(IQ14,IW14,JC14) -> 0 | JJ14: =SUM(JE14:JI14) -> 0 | JL14: =SUM(T14,BD14,CB14,DJ14,FG14,HI14,IG14,JE14) -> 0 | JM14: =SUM(U14,BE14,CC14,DK14,FH14,HJ14,IH14,JF14) -> 0 | JN14: =SUM(V14,BF14,CD14,DL14,FI14,HK14,II14,JG14) -> 0 | JO14: =SUM(W14,BG14,CE14,DM14,FJ14,HL14,IJ14,JH14) -> 0 | JP14: =SUM(X14,BH14,CF14,DN14,FK14,HM14,IK14,JI14) -> 0 | JQ14: =SUM(DO14) -> 0 | JR14: =SUM(JL14:JQ14) -> 0
A15: IBT=Red Turpentine Beetle | G15: =SUM(B15:F15) -> 0 | M15: =SUM(H15:L15) -> 0 | S15: =SUM(N15:R15) -> 0 | T15: =SUM(B15,H15,N15) -> 0 | U15: =SUM(C15,I15,O15) -> 0 | V15: =SUM(D15,J15,P15) -> 0 | W15: =SUM(E15,K15,Q15) -> 0 | X15: =SUM(F15,L15,R15) -> 0 | Y15: =SUM(T15:X15) -> 0 | AE15: =SUM(Z15:AD15) -> 0 | AK15: =SUM(AF15:AJ15) -> 0 | AQ15: =SUM(AL15:AP15) -> 0 | AW15: =SUM(AR15:AV15) -> 0 | BC15: =SUM(AX15:BB15) -> 0 | BD15: =SUM(Z15,AF15,AL15,AR15,AX15) -> 0 | BE15: =SUM(AA15,AG15,AM15,AS15,AY15) -> 0 | BF15: =SUM(AB15,AH15,AN15,AT15,AZ15) -> 0 | BG15: =SUM(AC15,AI15,AO15,AU15,BA15) -> 0 | BH15: =SUM(AD15,AJ15,AP15,AV15,BB15) -> 0 | BI15: =SUM(BD15:BH15) -> 0 | BO15: =SUM(BJ15:BN15) -> 0 | BU15: =SUM(BP15:BT15) -> 0 | CA15: =SUM(BV15:BZ15) -> 0 | CB15: =SUM(BJ15,BP15,BV15) -> 0 | CC15: =SUM(BK15,BQ15,BW15) -> 0 | CD15: =SUM(BL15,BR15,BX15) -> 0 | CE15: =SUM(BM15,BS15,BY15) -> 0 | CF15: =SUM(BN15,BT15,BZ15) -> 0 | CG15: =SUM(CB15:CF15) -> 0 | CN15: =SUM(CH15:CM15) -> 0 | CU15: =SUM(CO15:CT15) -> 0 | DB15: =SUM(CV15:DA15) -> 0 | DI15: =SUM(DC15:DH15) -> 0 | DJ15: =SUM(CH15,CO15,CV15,DC15) -> 0 | DK15: =SUM(CI15,CP15,CW15,DD15) -> 0 | DL15: =SUM(CJ15,CQ15,CX15,DE15) -> 0 | DM15: =SUM(CK15,CR15,CY15,DF15) -> 0 | DN15: =SUM(CL15,CS15,CZ15,DG15) -> 0 | DO15: =SUM(CM15,CT15,DA15,DH15) -> 0 | DP15: =SUM(DJ15:DO15) -> 0 | DV15: =SUM(DQ15:DU15) -> 0 | EB15: =SUM(DW15:EA15) -> 0 | EH15: =SUM(EC15:EG15) -> 0 | EN15: =SUM(EI15:EM15) -> 0 | ET15: =SUM(EO15:ES15) -> 0 | EZ15: =SUM(EU15:EY15) -> 0 | FF15: =SUM(FA15:FE15) -> 0 | FG15: =SUM(DQ15,DW15,EC15,EI15,EO15,EU15,FA15) -> 0 | FH15: =SUM(DR15,DX15,ED15,EJ15,EP15,EV15,FB15) -> 0 | FI15: =SUM(DS15,DY15,EE15,EK15,EQ15,EW15,FC15) -> 0 | FJ15: =SUM(DT15,DZ15,EF15,EL15,ER15,EX15,FD15) -> 0 | FK15: =SUM(DU15,EA15,EG15,EM15,ES15,EY15,FE15) -> 0 | FL15: =SUM(FG15:FK15) -> 0 | FR15: =SUM(FM15:FQ15) -> 0 | FX15: =SUM(FS15:FW15) -> 0 | GD15: =SUM(FY15:GC15) -> 0 | GJ15: =SUM(GE15:GI15) -> 0 | GP15: =SUM(GK15:GO15) -> 0 | GV15: =SUM(GQ15:GU15) -> 0 | HB15: =SUM(GW15:HA15) -> 0 | HH15: =SUM(HC15:HG15) -> 0 | HI15: =SUM(FM15,FS15,FY15,GE15,GK15,GQ15,GW15,HC15) -> 0 | HJ15: =SUM(FN15,FT15,FZ15,GF15,GL15,GR15,GX15,HD15) -> 0 | HK15: =SUM(HE15,GY15,GS15,GM15,GG15,GA15,FU15,FO15) -> 0 | HL15: =SUM(HF15,GZ15,GT15,GN15,GH15,GB15,FV15,FP15) -> 0 | HM15: =SUM(HG15,HA15,GU15,GO15,GI15,GC15,FW15,FQ15) -> 0 | HN15: =SUM(HI15:HM15) -> 0 | HT15: =SUM(HO15:HS15) -> 0 | HZ15: =SUM(HU15:HY15) -> 0 | IF15: =SUM(IA15:IE15) -> 0 | IG15: =SUM(HO15,HU15,IA15) -> 0 | IH15: =SUM(HP15,HV15,IB15) -> 0 | II15: =SUM(HQ15,HW15,IC15) -> 0 | IJ15: =SUM(HR15,HX15,ID15) -> 0 | IK15: =SUM(HS15,HY15,IE15) -> 0 | IL15: =SUM(IG15:IK15) -> 0 | IR15: =SUM(IM15:IQ15) -> 0 | IX15: =SUM(IS15:IW15) -> 0 | JD15: =SUM(IY15:JC15) -> 0 | JE15: =SUM(IM15,IS15,IY15) -> 0 | JF15: =SUM(IN15,IT15,IZ15) -> 0 | JG15: =SUM(IO15,IU15,JA15) -> 0 | JH15: =SUM(IP15,IV15,JB15) -> 0 | JI15: =SUM(IQ15,IW15,JC15) -> 0 | JJ15: =SUM(JE15:JI15) -> 0 | JL15: =SUM(T15,BD15,CB15,DJ15,FG15,HI15,IG15,JE15) -> 0 | JM15: =SUM(U15,BE15,CC15,DK15,FH15,HJ15,IH15,JF15) -> 0 | JN15: =SUM(V15,BF15,CD15,DL15,FI15,HK15,II15,JG15) -> 0 | JO15: =SUM(W15,BG15,CE15,DM15,FJ15,HL15,IJ15,JH15) -> 0 | JP15: =SUM(X15,BH15,CF15,DN15,FK15,HM15,IK15,JI15) -> 0 | JQ15: =SUM(DO15) -> 0 | JR15: =SUM(JL15:JQ15) -> 0
A16: I?B=Young pine mortality unknown | G16: =SUM(B16:F16) -> 0 | M16: =SUM(H16:L16) -> 0 | S16: =SUM(N16:R16) -> 0 | T16: =SUM(B16,H16,N16) -> 0 | U16: =SUM(C16,I16,O16) -> 0 | V16: =SUM(D16,J16,P16) -> 0 | W16: =SUM(E16,K16,Q16) -> 0 | X16: =SUM(F16,L16,R16) -> 0 | Y16: =SUM(T16:X16) -> 0 | AE16: =SUM(Z16:AD16) -> 0 | AK16: =SUM(AF16:AJ16) -> 0 | AQ16: =SUM(AL16:AP16) -> 0 | AW16: =SUM(AR16:AV16) -> 0 | BC16: =SUM(AX16:BB16) -> 0 | BD16: =SUM(Z16,AF16,AL16,AR16,AX16) -> 0 | BE16: =SUM(AA16,AG16,AM16,AS16,AY16) -> 0 | BF16: =SUM(AB16,AH16,AN16,AT16,AZ16) -> 0 | BG16: =SUM(AC16,AI16,AO16,AU16,BA16) -> 0 | BH16: =SUM(AD16,AJ16,AP16,AV16,BB16) -> 0 | BI16: =SUM(BD16:BH16) -> 0 | BK16: 437.72638 | BM16: 77.007002 | BO16: =SUM(BJ16:BN16) -> 514.73338 | BU16: =SUM(BP16:BT16) -> 0 | BV16: 12.486828 | BW16: 44.011623 | CA16: =SUM(BV16:BZ16) -> 56.49845 | CB16: =SUM(BJ16,BP16,BV16) -> 12.486828 | CC16: =SUM(BK16,BQ16,BW16) -> 481.738 | CD16: =SUM(BL16,BR16,BX16) -> 0 | CE16: =SUM(BM16,BS16,BY16) -> 77.007002 | CF16: =SUM(BN16,BT16,BZ16) -> 0 | CG16: =SUM(CB16:CF16) -> 571.23183 | CN16: =SUM(CH16:CM16) -> 0 | CU16: =SUM(CO16:CT16) -> 0 | DB16: =SUM(CV16:DA16) -> 0 | DI16: =SUM(DC16:DH16) -> 0 | DJ16: =SUM(CH16,CO16,CV16,DC16) -> 0 | DK16: =SUM(CI16,CP16,CW16,DD16) -> 0 | DL16: =SUM(CJ16,CQ16,CX16,DE16) -> 0 | DM16: =SUM(CK16,CR16,CY16,DF16) -> 0 | DN16: =SUM(CL16,CS16,CZ16,DG16) -> 0 | DO16: =SUM(CM16,CT16,DA16,DH16) -> 0 | DP16: =SUM(DJ16:DO16) -> 0 | DV16: =SUM(DQ16:DU16) -> 0 | EB16: =SUM(DW16:EA16) -> 0 | EH16: =SUM(EC16:EG16) -> 0 | EN16: =SUM(EI16:EM16) -> 0 | ET16: =SUM(EO16:ES16) -> 0 | EZ16: =SUM(EU16:EY16) -> 0 | FF16: =SUM(FA16:FE16) -> 0 | FG16: =SUM(DQ16,DW16,EC16,EI16,EO16,EU16,FA16) -> 0 | FH16: =SUM(DR16,DX16,ED16,EJ16,EP16,EV16,FB16) -> 0 | FI16: =SUM(DS16,DY16,EE16,EK16,EQ16,EW16,FC16) -> 0 | FJ16: =SUM(DT16,DZ16,EF16,EL16,ER16,EX16,FD16) -> 0 | FK16: =SUM(DU16,EA16,EG16,EM16,ES16,EY16,FE16) -> 0 | FL16: =SUM(FG16:FK16) -> 0 | FM16: 1007.3769 | FN16: 76.127932 | FR16: =SUM(FM16:FQ16) -> 1083.5048 | FX16: =SUM(FS16:FW16) -> 0 | GD16: =SUM(FY16:GC16) -> 0 | GJ16: =SUM(GE16:GI16) -> 0 | GK16: 1869.7753 | GL16: 187.51016 | GN16: 9.5 | GP16: =SUM(GK16:GO16) -> 2066.7855 | GQ16: 1021.7519 | GR16: 50.864882 | GS16: 66.861407 | GT16: 16.879871 | GV16: =SUM(GQ16:GU16) -> 1156.3581 | HB16: =SUM(GW16:HA16) -> 0 | HH16: =SUM(HC16:HG16) -> 0 | HI16: =SUM(FM16,FS16,FY16,GE16,GK16,GQ16,GW16,HC16) -> 3898.9041 | HJ16: =SUM(FN16,FT16,FZ16,GF16,GL16,GR16,GX16,HD16) -> 314.50297 | HK16: =SUM(HE16,GY16,GS16,GM16,GG16,GA16,FU16,FO16) -> 66.861407 | HL16: =SUM(HF16,GZ16,GT16,GN16,GH16,GB16,FV16,FP16) -> 26.379871 | HM16: =SUM(HG16,HA16,GU16,GO16,GI16,GC16,FW16,FQ16) -> 0 | HN16: =SUM(HI16:HM16) -> 4306.6484 | HT16: =SUM(HO16:HS16) -> 0 | HZ16: =SUM(HU16:HY16) -> 0 | IB16: 74.088286 | ID16: 39.142354 | IF16: =SUM(IA16:IE16) -> 113.23064 | IG16: =SUM(HO16,HU16,IA16) -> 0 | IH16: =SUM(HP16,HV16,IB16) -> 74.088286 | II16: =SUM(HQ16,HW16,IC16) -> 0 | IJ16: =SUM(HR16,HX16,ID16) -> 39.142354 | IK16: =SUM(HS16,HY16,IE16) -> 0 | IL16: =SUM(IG16:IK16) -> 113.23064 | IR16: =SUM(IM16:IQ16) -> 0 | IX16: =SUM(IS16:IW16) -> 0 | JD16: =SUM(IY16:JC16) -> 0 | JE16: =SUM(IM16,IS16,IY16) -> 0 | JF16: =SUM(IN16,IT16,IZ16) -> 0 | JG16: =SUM(IO16,IU16,JA16) -> 0 | JH16: =SUM(IP16,IV16,JB16) -> 0 | JI16: =SUM(IQ16,IW16,JC16) -> 0 | JJ16: =SUM(JE16:JI16) -> 0 | JL16: =SUM(T16,BD16,CB16,DJ16,FG16,HI16,IG16,JE16) -> 3911.3909 | JM16: =SUM(U16,BE16,CC16,DK16,FH16,HJ16,IH16,JF16) -> 870.32926 | JN16: =SUM(V16,BF16,CD16,DL16,FI16,HK16,II16,JG16) -> 66.861407 | JO16: =SUM(W16,BG16,CE16,DM16,FJ16,HL16,IJ16,JH16) -> 142.52923 | JP16: =SUM(X16,BH16,CF16,DN16,FK16,HM16,IK16,JI16) -> 0 | JQ16: =SUM(DO16) -> 0 | JR16: =SUM(JL16:JQ16) -> 4991.1108
A17: IWW=Warrens Root Collar Weevil | G17: =SUM(B17:F17) -> 0 | M17: =SUM(H17:L17) -> 0 | S17: =SUM(N17:R17) -> 0 | T17: =SUM(B17,H17,N17) -> 0 | U17: =SUM(C17,I17,O17) -> 0 | V17: =SUM(D17,J17,P17) -> 0 | W17: =SUM(E17,K17,Q17) -> 0 | X17: =SUM(F17,L17,R17) -> 0 | Y17: =SUM(T17:X17) -> 0 | AE17: =SUM(Z17:AD17) -> 0 | AK17: =SUM(AF17:AJ17) -> 0 | AQ17: =SUM(AL17:AP17) -> 0 | AW17: =SUM(AR17:AV17) -> 0 | BC17: =SUM(AX17:BB17) -> 0 | BD17: =SUM(Z17,AF17,AL17,AR17,AX17) -> 0 | BE17: =SUM(AA17,AG17,AM17,AS17,AY17) -> 0 | BF17: =SUM(AB17,AH17,AN17,AT17,AZ17) -> 0 | BG17: =SUM(AC17,AI17,AO17,AU17,BA17) -> 0 | BH17: =SUM(AD17,AJ17,AP17,AV17,BB17) -> 0 | BI17: =SUM(BD17:BH17) -> 0 | BO17: =SUM(BJ17:BN17) -> 0 | BU17: =SUM(BP17:BT17) -> 0 | CA17: =SUM(BV17:BZ17) -> 0 | CB17: =SUM(BJ17,BP17,BV17) -> 0 | CC17: =SUM(BK17,BQ17,BW17) -> 0 | CD17: =SUM(BL17,BR17,BX17) -> 0 | CE17: =SUM(BM17,BS17,BY17) -> 0 | CF17: =SUM(BN17,BT17,BZ17) -> 0 | CG17: =SUM(CB17:CF17) -> 0 | CN17: =SUM(CH17:CM17) -> 0 | CU17: =SUM(CO17:CT17) -> 0 | DB17: =SUM(CV17:DA17) -> 0 | DI17: =SUM(DC17:DH17) -> 0 | DJ17: =SUM(CH17,CO17,CV17,DC17) -> 0 | DK17: =SUM(CI17,CP17,CW17,DD17) -> 0 | DL17: =SUM(CJ17,CQ17,CX17,DE17) -> 0 | DM17: =SUM(CK17,CR17,CY17,DF17) -> 0 | DN17: =SUM(CL17,CS17,CZ17,DG17) -> 0 | DO17: =SUM(CM17,CT17,DA17,DH17) -> 0 | DP17: =SUM(DJ17:DO17) -> 0 | DV17: =SUM(DQ17:DU17) -> 0 | EB17: =SUM(DW17:EA17) -> 0 | EH17: =SUM(EC17:EG17) -> 0 | EN17: =SUM(EI17:EM17) -> 0 | ET17: =SUM(EO17:ES17) -> 0 | EZ17: =SUM(EU17:EY17) -> 0 | FF17: =SUM(FA17:FE17) -> 0 | FG17: =SUM(DQ17,DW17,EC17,EI17,EO17,EU17,FA17) -> 0 | FH17: =SUM(DR17,DX17,ED17,EJ17,EP17,EV17,FB17) -> 0 | FI17: =SUM(DS17,DY17,EE17,EK17,EQ17,EW17,FC17) -> 0 | FJ17: =SUM(DT17,DZ17,EF17,EL17,ER17,EX17,FD17) -> 0 | FK17: =SUM(DU17,EA17,EG17,EM17,ES17,EY17,FE17) -> 0 | FL17: =SUM(FG17:FK17) -> 0 | FR17: =SUM(FM17:FQ17) -> 0 | FX17: =SUM(FS17:FW17) -> 0 | GD17: =SUM(FY17:GC17) -> 0 | GJ17: =SUM(GE17:GI17) -> 0 | GP17: =SUM(GK17:GO17) -> 0 | GV17: =SUM(GQ17:GU17) -> 0 | HB17: =SUM(GW17:HA17) -> 0 | HH17: =SUM(HC17:HG17) -> 0 | HI17: =SUM(FM17,FS17,FY17,GE17,GK17,GQ17,GW17,HC17) -> 0 | HJ17: =SUM(FN17,FT17,FZ17,GF17,GL17,GR17,GX17,HD17) -> 0 | HK17: =SUM(HE17,GY17,GS17,GM17,GG17,GA17,FU17,FO17) -> 0 | HL17: =SUM(HF17,GZ17,GT17,GN17,GH17,GB17,FV17,FP17) -> 0 | HM17: =SUM(HG17,HA17,GU17,GO17,GI17,GC17,FW17,FQ17) -> 0 | HN17: =SUM(HI17:HM17) -> 0 | HT17: =SUM(HO17:HS17) -> 0 | HZ17: =SUM(HU17:HY17) -> 0 | IF17: =SUM(IA17:IE17) -> 0 | IG17: =SUM(HO17,HU17,IA17) -> 0 | IH17: =SUM(HP17,HV17,IB17) -> 0 | II17: =SUM(HQ17,HW17,IC17) -> 0 | IJ17: =SUM(HR17,HX17,ID17) -> 0 | IK17: =SUM(HS17,HY17,IE17) -> 0 | IL17: =SUM(IG17:IK17) -> 0 | IR17: =SUM(IM17:IQ17) -> 0 | IX17: =SUM(IS17:IW17) -> 0 | JD17: =SUM(IY17:JC17) -> 0 | JE17: =SUM(IM17,IS17,IY17) -> 0 | JF17: =SUM(IN17,IT17,IZ17) -> 0 | JG17: =SUM(IO17,IU17,JA17) -> 0 | JH17: =SUM(IP17,IV17,JB17) -> 0 | JI17: =SUM(IQ17,IW17,JC17) -> 0 | JJ17: =SUM(JE17:JI17) -> 0 | JL17: =SUM(T17,BD17,CB17,DJ17,FG17,HI17,IG17,JE17) -> 0 | JM17: =SUM(U17,BE17,CC17,DK17,FH17,HJ17,IH17,JF17) -> 0 | JN17: =SUM(V17,BF17,CD17,DL17,FI17,HK17,II17,JG17) -> 0 | JO17: =SUM(W17,BG17,CE17,DM17,FJ17,HL17,IJ17,JH17) -> 0 | JP17: =SUM(X17,BH17,CF17,DN17,FK17,HM17,IK17,JI17) -> 0 | JQ17: =SUM(DO17) -> 0 | JR17: =SUM(JL17:JQ17) -> 0
A18: Total All BB= | B18: =SUM(B6:B17) -> 6225.8352 | C18: =SUM(C6:C17) -> 1302.7848 | D18: =SUM(D6:D17) -> 115.87019 | E18: =SUM(E6:E17) -> 105.45087 | F18: =SUM(F6:F17) -> 0 | G18: =SUM(G6:G17) -> 7749.9411 | H18: =SUM(H6:H17) -> 1481.5057 | I18: =SUM(I6:I17) -> 759.91048 | ... S18: =SUM(S6:S17) -> 1228.3341 | T18: =SUM(B18,H18,N18) -> 8565.1424 | U18: =SUM(C18,I18,O18) -> 2420.2279 | V18: =SUM(D18,J18,P18) -> 269.11523 | W18: =SUM(E18,K18,Q18) -> 163.70087 | X18: =SUM(F18,L18,R18) -> 14.132837 | Y18: =SUM(Y6:Y17) -> 11432.319 | Z18: =SUM(Z6:Z17) -> 554.69514 | AA18: =SUM(AA6:AA17) -> 400.82595 | AB18: =SUM(AB6:AB17) -> 205.66466 | AC18: =SUM(AC6:AC17) -> 10.5 | AD18: =SUM(AD6:AD17) -> 0 | AE18: =SUM(AE6:AE17) -> 1171.6858 | AF18: =SUM(AF6:AF17) -> 286.5074 | ... BC18: =SUM(BC6:BC17) -> 215.15291 | BD18: =SUM(Z18,AF18,AL18,AR18,AX18) -> 5417.3838 | BE18: =SUM(AA18,AG18,AM18,AS18,AY18) -> 703.25828 | BF18: =SUM(AB18,AH18,AN18,AT18,AZ18) -> 205.66466 | BG18: =SUM(AC18,AI18,AO18,AU18,BA18) -> 41.75 | BH18: =SUM(AD18,AJ18,AP18,AV18,BB18) -> 0 | BI18: =SUM(BI6:BI17) -> 6368.0567 | BJ18: =SUM(BJ6:BJ17) -> 1382.6622 | BK18: =SUM(BK6:BK17) -> 9281.1641 | BL18: =SUM(BL6:BL17) -> 4360.5121 | BM18: =SUM(BM6:BM17) -> 1544.6133 | BN18: =SUM(BN6:BN17) -> 66.184395 | BO18: =SUM(BO6:BO17) -> 16635.136 | BP18: =SUM(BP6:BP17) -> 2491.0644 | ... CA18: =SUM(CA6:CA17) -> 65462.223 | CB18: =SUM(BJ18,BP18,BV18) -> 19823.649 | CC18: =SUM(BK18,BQ18,BW18) -> 65775.723 | CD18: =SUM(BL18,BR18,BX18) -> 14016.788 | CE18: =SUM(BM18,BS18,BY18) -> 4767.2503 | CF18: =SUM(BN18,BT18,BZ18) -> 66.184395 | CG18: =SUM(CG6:CG17) -> 104449.59 | CH18: =SUM(CH6:CH17) -> 79481.123 | CI18: =SUM(CI6:CI17) -> 2973.6638 | CJ18: =SUM(CJ6:CJ17) -> 1082.0051 | CK18: =SUM(CK6:CK17) -> 426.27291 | CL18: =SUM(CL6:CL17) -> 12.746163 | CM18: =SUM(CM6:CM17) -> 0 | CN18: =SUM(CN6:CN17) -> 83975.811 | ... DI18: =SUM(DI6:DI17) -> 110649.75 | DJ18: =SUM(CH18,CO18,CV18,DC18) -> 173587.28 | DK18: =SUM(CI18,CP18,CW18,DD18) -> 38792.776 | DL18: =SUM(CJ18,CQ18,CX18,DE18) -> 7127.4201 | DM18: =SUM(CK18,CR18,CY18,DF18) -> 1629.3453 | DN18: =SUM(CL18,CS18,CZ18,DG18) -> 171.38461 | DO18: =SUM(CM18,CT18,DA18) -> 0 | DP18: =SUM(DP6:DP17) -> 221308.2 | DQ18: =SUM(DQ6:DQ17) -> 2426.2582 | DR18: =SUM(DR6:DR17) -> 1333.2675 | DS18: =SUM(DS6:DS17) -> 401.44299 | DT18: =SUM(DT6:DT17) -> 97.615692 | DU18: =SUM(DU6:DU17) -> 0 | DV18: =SUM(DV6:DV17) -> 4258.5844 | DW18: =SUM(DW6:DW17) -> 5256.9154 | ... FF18: =SUM(FF6:FF17) -> 239.50524 | FG18: =SUM(DQ18,DW18,EC18,EI18,EO18,EU18,FA18) -> 20759.52 | FH18: =SUM(DR18,DX18,ED18,EJ18,EP18,EV18,FB18) -> 17250.847 | FI18: =SUM(DS18,DY18,EE18,EK18,EQ18,EW18,FC18) -> 6597.1344 | FJ18: =SUM(DT18,DZ18,EF18,EL18,ER18,EX18,FD18) -> 2302.6286 | FK18: =SUM(DU18,EA18,EG18,EM18,ES18,EY18,FE18) -> 192.42339 | FL18: =SUM(FL6:FL17) -> 47102.553 | FM18: =SUM(FM6:FM17) -> 122743.99 | FN18: =SUM(FN6:FN17) -> 70161.225 | FO18: =SUM(FO6:FO17) -> 11143.179 | FP18: =SUM(FP6:FP17) -> 1864.1533 | FQ18: =SUM(FQ6:FQ17) -> 0 | FR18: =SUM(FR6:FR17) -> 205912.54 | FS18: =SUM(FS6:FS17) -> 49335.775 | ... HH18: =SUM(HH6:HH17) -> 0 | HI18: =SUM(FM18,FS18,FY18,GE18,GK18,GQ18,GW18,HC18) -> 516859.9 | HJ18: =SUM(FN18,FT18,FZ18,GF18,GL18,GR18,GX18,HD18) -> 150961.88 | HK18: =SUM(HE18,GY18,GS18,GM18,GG18,GA18,FU18,FO18) -> 17233.691 | HL18: =SUM(HF18,GZ18,GT18,GN18,GH18,GB18,FV18,FP18) -> 2288.8865 | HM18: =SUM(HG18,HA18,GU18,GO18,GI18,GC18,FW18,FQ18) -> 0 | HN18: =SUM(HN6:HN17) -> 687344.36 | HO18: =SUM(HO6:HO17) -> 549469.36 | HP18: =SUM(HP6:HP17) -> 265887.18 | HQ18: =SUM(HQ6:HQ17) -> 262363.63 | HR18: =SUM(HR6:HR17) -> 70534.027 | HS18: =SUM(HS6:HS17) -> 719.11083 | HT18: =SUM(HT6:HT17) -> 1148973.3 | HU18: =SUM(HU6:HU17) -> 12507.553 | ... IF18: =SUM(IF6:IF17) -> 399197.68 | IG18: =SUM(HO18,HU18,IA18) -> 796614 | IH18: =SUM(HP18,HV18,IB18) -> 369796.73 | II18: =SUM(HQ18,HW18,IC18) -> 351820.58 | IJ18: =SUM(HR18,HX18,ID18) -> 93162.993 | IK18: =SUM(HS18,HY18,IE18) -> 719.11083 | IL18: =SUM(IL6:IL17) -> 1612113.4 | IM18: =SUM(IM6:IM17) -> 348342.24 | IN18: =SUM(IN6:IN17) -> 64098.773 | IO18: =SUM(IO6:IO17) -> 24990.171 | IP18: =SUM(IP6:IP17) -> 3454.4833 | IQ18: =SUM(IQ6:IQ17) -> 0 | IR18: =SUM(IR6:IR17) -> 440885.67 | IS18: =SUM(IS6:IS17) -> 21937.144 | ... JD18: =SUM(JD6:JD17) -> 629699.74 | JE18: =SUM(IM18,IS18,IY18) -> 535464.53 | JF18: =SUM(IN18,IT18,IZ18) -> 263452.56 | JG18: =SUM(IO18,IU18,JA18) -> 252399.08 | JH18: =SUM(IP18,IV18,JB18) -> 65747.796 | JI18: =SUM(IQ18,IW18,JC18) -> 329.3905 | JJ18: =SUM(JJ6:JJ17) -> 1117393.4 | JL18: =SUM(T18,BD18,CB18,DJ18,FG18,HI18,IG18,JE18) -> 2077091.4 | JM18: =SUM(U18,BE18,CC18,DK18,FH18,HJ18,IH18,JF18) -> 909154.01 | JN18: =SUM(V18,BF18,CD18,DL18,FI18,HK18,II18,JG18) -> 649669.47 | JO18: =SUM(W18,BG18,CE18,DM18,FJ18,HL18,IJ18,JH18) -> 170104.35 | JP18: =SUM(X18,BH18,CF18,DN18,FK18,HM18,IK18,JI18) -> 1492.6266 | JQ18: =SUM(DO18) -> 0 | JR18: =SUM(JR6:JR17) -> 3807511.9
A20: Defoliators
A21: ID=Defoliators | G21: =SUM(B21:F21) -> 0 | M21: =SUM(H21:L21) -> 0 | O21: 36.830558 | S21: =SUM(N21:R21) -> 36.830558 | T21: =SUM(B21,H21,N21) -> 0 | U21: =SUM(C21,I21,O21) -> 36.830558 | V21: =SUM(D21,J21,P21) -> 0 | W21: =SUM(E21,K21,Q21) -> 0 | X21: =SUM(F21,L21,R21) -> 0 | Y21: =SUM(T21:X21) -> 36.830558 | AE21: =SUM(Z21:AD21) -> 0 | AH21: 40.720581 | AK21: =SUM(AF21:AJ21) -> 40.720581 | AQ21: =SUM(AL21:AP21) -> 0 | AW21: =SUM(AR21:AV21) -> 0 | BC21: =SUM(AX21:BB21) -> 0 | BD21: =SUM(Z21,AF21,AL21,AR21,AX21) -> 0 | BE21: =SUM(AA21,AG21,AM21,AS21,AY21) -> 0 | BF21: =SUM(AB21,AH21,AN21,AT21,AZ21) -> 40.720581 | BG21: =SUM(AC21,AI21,AO21,AU21,BA21) -> 0 | BH21: =SUM(AD21,AJ21,AP21,AV21,BB21) -> 0 | BI21: =SUM(BD21:BH21) -> 40.720581 | BO21: =SUM(BJ21:BN21) -> 0 | BU21: =SUM(BP21:BT21) -> 0 | CA21: =SUM(BV21:BZ21) -> 0 | CB21: =SUM(BJ21,BP21,BV21) -> 0 | CC21: =SUM(BK21,BQ21,BW21) -> 0 | CD21: =SUM(BL21,BR21,BX21) -> 0 | CE21: =SUM(BM21,BS21,BY21) -> 0 | CF21: =SUM(BN21,BT21,BZ21) -> 0 | CG21: =SUM(CB21:CF21) -> 0 | CN21: =SUM(CH21:CM21) -> 0 | CU21: =SUM(CO21:CT21) -> 0 | DB21: =SUM(CV21:DA21) -> 0 | DI21: =SUM(DC21:DH21) -> 0 | DJ21: =SUM(CH21,CO21,CV21,DC21) -> 0 | DK21: =SUM(CI21,CP21,CW21,DD21) -> 0 | DL21: =SUM(CJ21,CQ21,CX21,DE21) -> 0 | DM21: =SUM(CK21,CR21,CY21,DF21) -> 0 | DN21: =SUM(CL21,CS21,CZ21,DG21) -> 0 | DO21: =SUM(CM21,CT21,DA21,DH21) -> 0 | DP21: =SUM(DJ21:DO21) -> 0 | DV21: =SUM(DQ21:DU21) -> 0 | EB21: =SUM(DW21:EA21) -> 0 | EH21: =SUM(EC21:EG21) -> 0 | EN21: =SUM(EI21:EM21) -> 0 | ET21: =SUM(EO21:ES21) -> 0 | EZ21: =SUM(EU21:EY21) -> 0 | FF21: =SUM(FA21:FE21) -> 0 | FG21: =SUM(DQ21,DW21,EC21,EI21,EO21,EU21,FA21) -> 0 | FH21: =SUM(DR21,DX21,ED21,EJ21,EP21,EV21,FB21) -> 0 | FI21: =SUM(DS21,DY21,EE21,EK21,EQ21,EW21,FC21) -> 0 | FJ21: =SUM(DT21,DZ21,EF21,EL21,ER21,EX21,FD21) -> 0 | FK21: =SUM(DU21,EA21,EG21,EM21,ES21,EY21,FE21) -> 0 | FL21: =SUM(FG21:FK21) -> 0 | FR21: =SUM(FM21:FQ21) -> 0 | FU21: 169.02236 | FV21: 112.64379 | FX21: =SUM(FS21:FW21) -> 281.66616 | FZ21: 7712.1983 | GA21: 1347.4323 | GB21: 11.986557 | GD21: =SUM(FY21:GC21) -> 9071.6172 | GJ21: =SUM(GE21:GI21) -> 0 | GP21: =SUM(GK21:GO21) -> 0 | GV21: =SUM(GQ21:GU21) -> 0 | HB21: =SUM(GW21:HA21) -> 0 | HH21: =SUM(HC21:HG21) -> 0 | HI21: =SUM(FM21,FS21,FY21,GE21,GK21,GQ21,GW21,HC21) -> 0 | HJ21: =SUM(FN21,FT21,FZ21,GF21,GL21,GR21,GX21,HD21) -> 7712.1983 | HK21: =SUM(HE21,GY21,GS21,GM21,GG21,GA21,FU21,FO21) -> 1516.4546 | HL21: =SUM(HF21,GZ21,GT21,GN21,GH21,GB21,FV21,FP21) -> 124.63035 | HM21: =SUM(HG21,HA21,GU21,GO21,GI21,GC21,FW21,FQ21) -> 0 | HN21: =SUM(HI21:HM21) -> 9353.2833 | HT21: =SUM(HO21:HS21) -> 0 | HZ21: =SUM(HU21:HY21) -> 0 | ID21: 20.476539 | IF21: =SUM(IA21:IE21) -> 20.476539 | IG21: =SUM(HO21,HU21,IA21) -> 0 | IH21: =SUM(HP21,HV21,IB21) -> 0 | II21: =SUM(HQ21,HW21,IC21) -> 0 | IJ21: =SUM(HR21,HX21,ID21) -> 20.476539 | IK21: =SUM(HS21,HY21,IE21) -> 0 | IL21: =SUM(IG21:IK21) -> 20.476539 | IR21: =SUM(IM21:IQ21) -> 0 | IX21: =SUM(IS21:IW21) -> 0 | JD21: =SUM(IY21:JC21) -> 0 | JE21: =SUM(IM21,IS21,IY21) -> 0 | JF21: =SUM(IN21,IT21,IZ21) -> 0 | JG21: =SUM(IO21,IU21,JA21) -> 0 | JH21: =SUM(IP21,IV21,JB21) -> 0 | JI21: =SUM(IQ21,IW21,JC21) -> 0 | JJ21: =SUM(JE21:JI21) -> 0 | JL21: =SUM(T21,BD21,CB21,DJ21,FG21,HI21,IG21,JE21) -> 0 | JM21: =SUM(U21,BE21,CC21,DK21,FH21,HJ21,IH21,JF21) -> 7749.0289 | JN21: =SUM(V21,BF21,CD21,DL21,FI21,HK21,II21,JG21) -> 1557.1752 | JO21: =SUM(W21,BG21,CE21,DM21,FJ21,HL21,IJ21,JH21) -> 145.10689 | JP21: =SUM(X21,BH21,CF21,DN21,FK21,HM21,IK21,JI21) -> 0 | JQ21: =SUM(DO21) -> 0 | JR21: =SUM(JL21:JQ21) -> 9451.311
A22: IAB=Balsam Woolly Adelgid | B22: 249.36236 | C22: 47.76997 | G22: =SUM(B22:F22) -> 297.13233 | I22: 11.960064 | K22: 1 | M22: =SUM(H22:L22) -> 12.960064 | Q22: 0.25 | S22: =SUM(N22:R22) -> 0.25 | T22: =SUM(B22,H22,N22) -> 249.36236 | U22: =SUM(C22,I22,O22) -> 59.730034 | V22: =SUM(D22,J22,P22) -> 0 | W22: =SUM(E22,K22,Q22) -> 1.25 | X22: =SUM(F22,L22,R22) -> 0 | Y22: =SUM(T22:X22) -> 310.34239 | AA22: 42.426773 | AE22: =SUM(Z22:AD22) -> 42.426773 | AG22: 6.3140008 | AI22: 0.5 | AK22: =SUM(AF22:AJ22) -> 6.8140008 | AM22: 47.820576 | AQ22: =SUM(AL22:AP22) -> 47.820576 | AW22: =SUM(AR22:AV22) -> 0 | AY22: 7.823213 | BC22: =SUM(AX22:BB22) -> 7.823213 | BD22: =SUM(Z22,AF22,AL22,AR22,AX22) -> 0 | BE22: =SUM(AA22,AG22,AM22,AS22,AY22) -> 104.38456 | BF22: =SUM(AB22,AH22,AN22,AT22,AZ22) -> 0 | BG22: =SUM(AC22,AI22,AO22,AU22,BA22) -> 0.5 | BH22: =SUM(AD22,AJ22,AP22,AV22,BB22) -> 0 | BI22: =SUM(BD22:BH22) -> 104.88456 | BO22: =SUM(BJ22:BN22) -> 0 | BU22: =SUM(BP22:BT22) -> 0 | CA22: =SUM(BV22:BZ22) -> 0 | CB22: =SUM(BJ22,BP22,BV22) -> 0 | CC22: =SUM(BK22,BQ22,BW22) -> 0 | CD22: =SUM(BL22,BR22,BX22) -> 0 | CE22: =SUM(BM22,BS22,BY22) -> 0 | CF22: =SUM(BN22,BT22,BZ22) -> 0 | CG22: =SUM(CB22:CF22) -> 0 | CN22: =SUM(CH22:CM22) -> 0 | CU22: =SUM(CO22:CT22) -> 0 | DB22: =SUM(CV22:DA22) -> 0 | DI22: =SUM(DC22:DH22) -> 0 | DJ22: =SUM(CH22,CO22,CV22,DC22) -> 0 | DK22: =SUM(CI22,CP22,CW22,DD22) -> 0 | DL22: =SUM(CJ22,CQ22,CX22,DE22) -> 0 | DM22: =SUM(CK22,CR22,CY22,DF22) -> 0 | DN22: =SUM(CL22,CS22,CZ22,DG22) -> 0 | DO22: =SUM(CM22,CT22,DA22,DH22) -> 0 | DP22: =SUM(DJ22:DO22) -> 0 | DV22: =SUM(DQ22:DU22) -> 0 | EB22: =SUM(DW22:EA22) -> 0 | EH22: =SUM(EC22:EG22) -> 0 | EN22: =SUM(EI22:EM22) -> 0 | ET22: =SUM(EO22:ES22) -> 0 | EZ22: =SUM(EU22:EY22) -> 0 | FF22: =SUM(FA22:FE22) -> 0 | FG22: =SUM(DQ22,DW22,EC22,EI22,EO22,EU22,FA22) -> 0 | FH22: =SUM(DR22,DX22,ED22,EJ22,EP22,EV22,FB22) -> 0 | FI22: =SUM(DS22,DY22,EE22,EK22,EQ22,EW22,FC22) -> 0 | FJ22: =SUM(DT22,DZ22,EF22,EL22,ER22,EX22,FD22) -> 0 | FK22: =SUM(DU22,EA22,EG22,EM22,ES22,EY22,FE22) -> 0 | FL22: =SUM(FG22:FK22) -> 0 | FR22: =SUM(FM22:FQ22) -> 0 | FX22: =SUM(FS22:FW22) -> 0 | GD22: =SUM(FY22:GC22) -> 0 | GJ22: =SUM(GE22:GI22) -> 0 | GP22: =SUM(GK22:GO22) -> 0 | GV22: =SUM(GQ22:GU22) -> 0 | HB22: =SUM(GW22:HA22) -> 0 | HH22: =SUM(HC22:HG22) -> 0 | HI22: =SUM(FM22,FS22,FY22,GE22,GK22,GQ22,GW22,HC22) -> 0 | HJ22: =SUM(FN22,FT22,FZ22,GF22,GL22,GR22,GX22,HD22) -> 0 | HK22: =SUM(HE22,GY22,GS22,GM22,GG22,GA22,FU22,FO22) -> 0 | HL22: =SUM(HF22,GZ22,GT22,GN22,GH22,GB22,FV22,FP22) -> 0 | HM22: =SUM(HG22,HA22,GU22,GO22,GI22,GC22,FW22,FQ22) -> 0 | HN22: =SUM(HI22:HM22) -> 0 | HT22: =SUM(HO22:HS22) -> 0 | HZ22: =SUM(HU22:HY22) -> 0 | IF22: =SUM(IA22:IE22) -> 0 | IG22: =SUM(HO22,HU22,IA22) -> 0 | IH22: =SUM(HP22,HV22,IB22) -> 0 | II22: =SUM(HQ22,HW22,IC22) -> 0 | IJ22: =SUM(HR22,HX22,ID22) -> 0 | IK22: =SUM(HS22,HY22,IE22) -> 0 | IL22: =SUM(IG22:IK22) -> 0 | IR22: =SUM(IM22:IQ22) -> 0 | IX22: =SUM(IS22:IW22) -> 0 | JD22: =SUM(IY22:JC22) -> 0 | JE22: =SUM(IM22,IS22,IY22) -> 0 | JF22: =SUM(IN22,IT22,IZ22) -> 0 | JG22: =SUM(IO22,IU22,JA22) -> 0 | JH22: =SUM(IP22,IV22,JB22) -> 0 | JI22: =SUM(IQ22,IW22,JC22) -> 0 | JJ22: =SUM(JE22:JI22) -> 0 | JL22: =SUM(T22,BD22,CB22,DJ22,FG22,HI22,IG22,JE22) -> 249.36236 | JM22: =SUM(U22,BE22,CC22,DK22,FH22,HJ22,IH22,JF22) -> 164.1146 | JN22: =SUM(V22,BF22,CD22,DL22,FI22,HK22,II22,JG22) -> 0 | JO22: =SUM(W22,BG22,CE22,DM22,FJ22,HL22,IJ22,JH22) -> 1.75 | JP22: =SUM(X22,BH22,CF22,DN22,FK22,HM22,IK22,JI22) -> 0 | JQ22: =SUM(DO22) -> 0 | JR22: =SUM(JL22:JQ22) -> 415.22695
A23: IAS=Green Spruce Aphid | G23: =SUM(B23:F23) -> 0 | M23: =SUM(H23:L23) -> 0 | S23: =SUM(N23:R23) -> 0 | T23: =SUM(B23,H23,N23) -> 0 | U23: =SUM(C23,I23,O23) -> 0 | V23: =SUM(D23,J23,P23) -> 0 | W23: =SUM(E23,K23,Q23) -> 0 | X23: =SUM(F23,L23,R23) -> 0 | Y23: =SUM(T23:X23) -> 0 | AE23: =SUM(Z23:AD23) -> 0 | AK23: =SUM(AF23:AJ23) -> 0 | AQ23: =SUM(AL23:AP23) -> 0 | AW23: =SUM(AR23:AV23) -> 0 | BC23: =SUM(AX23:BB23) -> 0 | BD23: =SUM(Z23,AF23,AL23,AR23,AX23) -> 0 | BE23: =SUM(AA23,AG23,AM23,AS23,AY23) -> 0 | BF23: =SUM(AB23,AH23,AN23,AT23,AZ23) -> 0 | BG23: =SUM(AC23,AI23,AO23,AU23,BA23) -> 0 | BH23: =SUM(AD23,AJ23,AP23,AV23,BB23) -> 0 | BI23: =SUM(BD23:BH23) -> 0 | BO23: =SUM(BJ23:BN23) -> 0 | BU23: =SUM(BP23:BT23) -> 0 | CA23: =SUM(BV23:BZ23) -> 0 | CB23: =SUM(BJ23,BP23,BV23) -> 0 | CC23: =SUM(BK23,BQ23,BW23) -> 0 | CD23: =SUM(BL23,BR23,BX23) -> 0 | CE23: =SUM(BM23,BS23,BY23) -> 0 | CF23: =SUM(BN23,BT23,BZ23) -> 0 | CG23: =SUM(CB23:CF23) -> 0 | CN23: =SUM(CH23:CM23) -> 0 | CU23: =SUM(CO23:CT23) -> 0 | DB23: =SUM(CV23:DA23) -> 0 | DI23: =SUM(DC23:DH23) -> 0 | DJ23: =SUM(CH23,CO23,CV23,DC23) -> 0 | DK23: =SUM(CI23,CP23,CW23,DD23) -> 0 | DL23: =SUM(CJ23,CQ23,CX23,DE23) -> 0 | DM23: =SUM(CK23,CR23,CY23,DF23) -> 0 | DN23: =SUM(CL23,CS23,CZ23,DG23) -> 0 | DO23: =SUM(CM23,CT23,DA23,DH23) -> 0 | DP23: =SUM(DJ23:DO23) -> 0 | DV23: =SUM(DQ23:DU23) -> 0 | EB23: =SUM(DW23:EA23) -> 0 | EH23: =SUM(EC23:EG23) -> 0 | EN23: =SUM(EI23:EM23) -> 0 | ET23: =SUM(EO23:ES23) -> 0 | EZ23: =SUM(EU23:EY23) -> 0 | FF23: =SUM(FA23:FE23) -> 0 | FG23: =SUM(DQ23,DW23,EC23,EI23,EO23,EU23,FA23) -> 0 | FH23: =SUM(DR23,DX23,ED23,EJ23,EP23,EV23,FB23) -> 0 | FI23: =SUM(DS23,DY23,EE23,EK23,EQ23,EW23,FC23) -> 0 | FJ23: =SUM(DT23,DZ23,EF23,EL23,ER23,EX23,FD23) -> 0 | FK23: =SUM(DU23,EA23,EG23,EM23,ES23,EY23,FE23) -> 0 | FL23: =SUM(FG23:FK23) -> 0 | FR23: =SUM(FM23:FQ23) -> 0 | FX23: =SUM(FS23:FW23) -> 0 | GD23: =SUM(FY23:GC23) -> 0 | GJ23: =SUM(GE23:GI23) -> 0 | GP23: =SUM(GK23:GO23) -> 0 | GV23: =SUM(GQ23:GU23) -> 0 | HB23: =SUM(GW23:HA23) -> 0 | HH23: =SUM(HC23:HG23) -> 0 | HI23: =SUM(FM23,FS23,FY23,GE23,GK23,GQ23,GW23,HC23) -> 0 | HJ23: =SUM(FN23,FT23,FZ23,GF23,GL23,GR23,GX23,HD23) -> 0 | HK23: =SUM(HE23,GY23,GS23,GM23,GG23,GA23,FU23,FO23) -> 0 | HL23: =SUM(HF23,GZ23,GT23,GN23,GH23,GB23,FV23,FP23) -> 0 | HM23: =SUM(HG23,HA23,GU23,GO23,GI23,GC23,FW23,FQ23) -> 0 | HN23: =SUM(HI23:HM23) -> 0 | HT23: =SUM(HO23:HS23) -> 0 | HZ23: =SUM(HU23:HY23) -> 0 | IF23: =SUM(IA23:IE23) -> 0 | IG23: =SUM(HO23,HU23,IA23) -> 0 | IH23: =SUM(HP23,HV23,IB23) -> 0 | II23: =SUM(HQ23,HW23,IC23) -> 0 | IJ23: =SUM(HR23,HX23,ID23) -> 0 | IK23: =SUM(HS23,HY23,IE23) -> 0 | IL23: =SUM(IG23:IK23) -> 0 | IR23: =SUM(IM23:IQ23) -> 0 | IX23: =SUM(IS23:IW23) -> 0 | JD23: =SUM(IY23:JC23) -> 0 | JE23: =SUM(IM23,IS23,IY23) -> 0 | JF23: =SUM(IN23,IT23,IZ23) -> 0 | JG23: =SUM(IO23,IU23,JA23) -> 0 | JH23: =SUM(IP23,IV23,JB23) -> 0 | JI23: =SUM(IQ23,IW23,JC23) -> 0 | JJ23: =SUM(JE23:JI23) -> 0 | JL23: =SUM(T23,BD23,CB23,DJ23,FG23,HI23,IG23,JE23) -> 0 | JM23: =SUM(U23,BE23,CC23,DK23,FH23,HJ23,IH23,JF23) -> 0 | JN23: =SUM(V23,BF23,CD23,DL23,FI23,HK23,II23,JG23) -> 0 | JO23: =SUM(W23,BG23,CE23,DM23,FJ23,HL23,IJ23,JH23) -> 0 | JP23: =SUM(X23,BH23,CF23,DN23,FK23,HM23,IK23,JI23) -> 0 | JQ23: =SUM(DO23) -> 0 | JR23: =SUM(JL23:JQ23) -> 0
A24: ID2=Bruce spanworm | G24: =SUM(B24:F24) -> 0 | M24: =SUM(H24:L24) -> 0 | S24: =SUM(N24:R24) -> 0 | T24: =SUM(B24,H24,N24) -> 0 | U24: =SUM(C24,I24,O24) -> 0 | V24: =SUM(D24,J24,P24) -> 0 | W24: =SUM(E24,K24,Q24) -> 0 | X24: =SUM(F24,L24,R24) -> 0 | Y24: =SUM(T24:X24) -> 0 | AE24: =SUM(Z24:AD24) -> 0 | AK24: =SUM(AF24:AJ24) -> 0 | AQ24: =SUM(AL24:AP24) -> 0 | AW24: =SUM(AR24:AV24) -> 0 | BC24: =SUM(AX24:BB24) -> 0 | BD24: =SUM(Z24,AF24,AL24,AR24,AX24) -> 0 | BE24: =SUM(AA24,AG24,AM24,AS24,AY24) -> 0 | BF24: =SUM(AB24,AH24,AN24,AT24,AZ24) -> 0 | BG24: =SUM(AC24,AI24,AO24,AU24,BA24) -> 0 | BH24: =SUM(AD24,AJ24,AP24,AV24,BB24) -> 0 | BI24: =SUM(BD24:BH24) -> 0 | BO24: =SUM(BJ24:BN24) -> 0 | BU24: =SUM(BP24:BT24) -> 0 | CA24: =SUM(BV24:BZ24) -> 0 | CB24: =SUM(BJ24,BP24,BV24) -> 0 | CC24: =SUM(BK24,BQ24,BW24) -> 0 | CD24: =SUM(BL24,BR24,BX24) -> 0 | CE24: =SUM(BM24,BS24,BY24) -> 0 | CF24: =SUM(BN24,BT24,BZ24) -> 0 | CG24: =SUM(CB24:CF24) -> 0 | CN24: =SUM(CH24:CM24) -> 0 | CU24: =SUM(CO24:CT24) -> 0 | DB24: =SUM(CV24:DA24) -> 0 | DI24: =SUM(DC24:DH24) -> 0 | DJ24: =SUM(CH24,CO24,CV24,DC24) -> 0 | DK24: =SUM(CI24,CP24,CW24,DD24) -> 0 | DL24: =SUM(CJ24,CQ24,CX24,DE24) -> 0 | DM24: =SUM(CK24,CR24,CY24,DF24) -> 0 | DN24: =SUM(CL24,CS24,CZ24,DG24) -> 0 | DO24: =SUM(CM24,CT24,DA24,DH24) -> 0 | DP24: =SUM(DJ24:DO24) -> 0 | DV24: =SUM(DQ24:DU24) -> 0 | EB24: =SUM(DW24:EA24) -> 0 | EH24: =SUM(EC24:EG24) -> 0 | EN24: =SUM(EI24:EM24) -> 0 | ET24: =SUM(EO24:ES24) -> 0 | EZ24: =SUM(EU24:EY24) -> 0 | FF24: =SUM(FA24:FE24) -> 0 | FG24: =SUM(DQ24,DW24,EC24,EI24,EO24,EU24,FA24) -> 0 | FH24: =SUM(DR24,DX24,ED24,EJ24,EP24,EV24,FB24) -> 0 | FI24: =SUM(DS24,DY24,EE24,EK24,EQ24,EW24,FC24) -> 0 | FJ24: =SUM(DT24,DZ24,EF24,EL24,ER24,EX24,FD24) -> 0 | FK24: =SUM(DU24,EA24,EG24,EM24,ES24,EY24,FE24) -> 0 | FL24: =SUM(FG24:FK24) -> 0 | FR24: =SUM(FM24:FQ24) -> 0 | FX24: =SUM(FS24:FW24) -> 0 | GD24: =SUM(FY24:GC24) -> 0 | GJ24: =SUM(GE24:GI24) -> 0 | GP24: =SUM(GK24:GO24) -> 0 | GV24: =SUM(GQ24:GU24) -> 0 | HB24: =SUM(GW24:HA24) -> 0 | HH24: =SUM(HC24:HG24) -> 0 | HI24: =SUM(FM24,FS24,FY24,GE24,GK24,GQ24,GW24,HC24) -> 0 | HJ24: =SUM(FN24,FT24,FZ24,GF24,GL24,GR24,GX24,HD24) -> 0 | HK24: =SUM(HE24,GY24,GS24,GM24,GG24,GA24,FU24,FO24) -> 0 | HL24: =SUM(HF24,GZ24,GT24,GN24,GH24,GB24,FV24,FP24) -> 0 | HM24: =SUM(HG24,HA24,GU24,GO24,GI24,GC24,FW24,FQ24) -> 0 | HN24: =SUM(HI24:HM24) -> 0 | HT24: =SUM(HO24:HS24) -> 0 | HZ24: =SUM(HU24:HY24) -> 0 | IF24: =SUM(IA24:IE24) -> 0 | IG24: =SUM(HO24,HU24,IA24) -> 0 | IH24: =SUM(HP24,HV24,IB24) -> 0 | II24: =SUM(HQ24,HW24,IC24) -> 0 | IJ24: =SUM(HR24,HX24,ID24) -> 0 | IK24: =SUM(HS24,HY24,IE24) -> 0 | IL24: =SUM(IG24:IK24) -> 0 | IR24: =SUM(IM24:IQ24) -> 0 | IX24: =SUM(IS24:IW24) -> 0 | JD24: =SUM(IY24:JC24) -> 0 | JE24: =SUM(IM24,IS24,IY24) -> 0 | JF24: =SUM(IN24,IT24,IZ24) -> 0 | JG24: =SUM(IO24,IU24,JA24) -> 0 | JH24: =SUM(IP24,IV24,JB24) -> 0 | JI24: =SUM(IQ24,IW24,JC24) -> 0 | JJ24: =SUM(JE24:JI24) -> 0 | JL24: =SUM(T24,BD24,CB24,DJ24,FG24,HI24,IG24,JE24) -> 0 | JM24: =SUM(U24,BE24,CC24,DK24,FH24,HJ24,IH24,JF24) -> 0 | JN24: =SUM(V24,BF24,CD24,DL24,FI24,HK24,II24,JG24) -> 0 | JO24: =SUM(W24,BG24,CE24,DM24,FJ24,HL24,IJ24,JH24) -> 0 | JP24: =SUM(X24,BH24,CF24,DN24,FK24,HM24,IK24,JI24) -> 0 | JQ24: =SUM(DO24) -> 0 | JR24: =SUM(JL24:JQ24) -> 0
A25: ID6=Aspen Leaf Miner | D25: 9.0214893 | G25: =SUM(B25:F25) -> 9.0214893 | M25: =SUM(H25:L25) -> 0 | S25: =SUM(N25:R25) -> 0 | T25: =SUM(B25,H25,N25) -> 0 | U25: =SUM(C25,I25,O25) -> 0 | V25: =SUM(D25,J25,P25) -> 9.0214893 | W25: =SUM(E25,K25,Q25) -> 0 | X25: =SUM(F25,L25,R25) -> 0 | Y25: =SUM(T25:X25) -> 9.0214893 | AE25: =SUM(Z25:AD25) -> 0 | AK25: =SUM(AF25:AJ25) -> 0 | AM25: 525.80879 | AN25: 86.523988 | AQ25: =SUM(AL25:AP25) -> 612.33278 | AW25: =SUM(AR25:AV25) -> 0 | BC25: =SUM(AX25:BB25) -> 0 | BD25: =SUM(Z25,AF25,AL25,AR25,AX25) -> 0 | BE25: =SUM(AA25,AG25,AM25,AS25,AY25) -> 525.80879 | BF25: =SUM(AB25,AH25,AN25,AT25,AZ25) -> 86.523988 | BG25: =SUM(AC25,AI25,AO25,AU25,BA25) -> 0 | BH25: =SUM(AD25,AJ25,AP25,AV25,BB25) -> 0 | BI25: =SUM(BD25:BH25) -> 612.33278 | BK25: 6265.717 | BL25: 23.859136 | BO25: =SUM(BJ25:BN25) -> 6289.5761 | BP25: 4.3080101 | BQ25: 7857.951 | BR25: 2292.9525 | BU25: =SUM(BP25:BT25) -> 10155.211 | BW25: 17746.081 | BX25: 4058.5139 | CA25: =SUM(BV25:BZ25) -> 21804.595 | CB25: =SUM(BJ25,BP25,BV25) -> 4.3080101 | CC25: =SUM(BK25,BQ25,BW25) -> 31869.749 | CD25: =SUM(BL25,BR25,BX25) -> 6375.3255 | CE25: =SUM(BM25,BS25,BY25) -> 0 | CF25: =SUM(BN25,BT25,BZ25) -> 0 | CG25: =SUM(CB25:CF25) -> 38249.383 | CI25: 15658.553 | CJ25: 10908.725 | CK25: 1146.7442 | CN25: =SUM(CH25:CM25) -> 27714.023 | CU25: =SUM(CO25:CT25) -> 0 | CW25: 30.563689 | CX25: 88.38783 | DB25: =SUM(CV25:DA25) -> 118.95152 | DD25: 4797.9352 | DE25: 2807.0139 | DF25: 694.41447 | DI25: =SUM(DC25:DH25) -> 8299.3636 | DJ25: =SUM(CH25,CO25,CV25,DC25) -> 0 | DK25: =SUM(CI25,CP25,CW25,DD25) -> 20487.052 | DL25: =SUM(CJ25,CQ25,CX25,DE25) -> 13804.127 | DM25: =SUM(CK25,CR25,CY25,DF25) -> 1841.1587 | DN25: =SUM(CL25,CS25,CZ25,DG25) -> 0 | DO25: =SUM(CM25,CT25,DA25,DH25) -> 0 | DP25: =SUM(DJ25:DO25) -> 36132.338 | DR25: 1401.4048 | DS25: 3522.8767 | DT25: 47.33033 | DV25: =SUM(DQ25:DU25) -> 4971.6118 | DY25: 278.02985 | EB25: =SUM(DW25:EA25) -> 278.02985 | ED25: 1432.6136 | EE25: 183.77818 | EF25: 53.802439 | EH25: =SUM(EC25:EG25) -> 1670.1942 | EJ25: 3248.8551 | EK25: 788.83656 | EL25: 18.382826 | EN25: =SUM(EI25:EM25) -> 4056.0744 | EP25: 79.711697 | EQ25: 126.30002 | ET25: =SUM(EO25:ES25) -> 206.01171 | EV25: 939.32949 | EW25: 1833.2642 | EZ25: =SUM(EU25:EY25) -> 2772.5937 | FB25: 1450.4511 | FC25: 2307.6482 | FD25: 61.85304 | FF25: =SUM(FA25:FE25) -> 3819.9523 | FG25: =SUM(DQ25,DW25,EC25,EI25,EO25,EU25,FA25) -> 0 | FH25: =SUM(DR25,DX25,ED25,EJ25,EP25,EV25,FB25) -> 8552.3656 | FI25: =SUM(DS25,DY25,EE25,EK25,EQ25,EW25,FC25) -> 9040.7337 | FJ25: =SUM(DT25,DZ25,EF25,EL25,ER25,EX25,FD25) -> 181.36864 | FK25: =SUM(DU25,EA25,EG25,EM25,ES25,EY25,FE25) -> 0 | FL25: =SUM(FG25:FK25) -> 17774.468 | FN25: 48831.125 | FO25: 26744.884 | FP25: 2817.0614 | FR25: =SUM(FM25:FQ25) -> 78393.07 | FT25: 11990.246 | FU25: 2466.7138 | FV25: 849.38793 | FX25: =SUM(FS25:FW25) -> 15306.348 | FZ25: 21961.507 | GA25: 5178.4495 | GD25: =SUM(FY25:GC25) -> 27139.957 | GF25: 61371.267 | GG25: 103849.96 | GH25: 2266.4208 | GJ25: =SUM(GE25:GI25) -> 167487.64 | GL25: 37129.882 | GM25: 36453.526 | GN25: 4668.7507 | GP25: =SUM(GK25:GO25) -> 78252.159 | GR25: 82746.597 | GS25: 28671.1 | GT25: 2811.0658 | GV25: =SUM(GQ25:GU25) -> 114228.76 | GX25: 8077.7614 | GY25: 598.31923 | HB25: =SUM(GW25:HA25) -> 8676.0806 | HD25: 896.31375 | HF25: 1175.9159 | HH25: =SUM(HC25:HG25) -> 2072.2297 | HI25: =SUM(FM25,FS25,FY25,GE25,GK25,GQ25,GW25,HC25) -> 0 | HJ25: =SUM(FN25,FT25,FZ25,GF25,GL25,GR25,GX25,HD25) -> 273004.7 | HK25: =SUM(HE25,GY25,GS25,GM25,GG25,GA25,FU25,FO25) -> 203962.95 | HL25: =SUM(HF25,GZ25,GT25,GN25,GH25,GB25,FV25,FP25) -> 14588.603 | HM25: =SUM(HG25,HA25,GU25,GO25,GI25,GC25,FW25,FQ25) -> 0 | HN25: =SUM(HI25:HM25) -> 491556.25 | HP25: 255.05252 | HQ25: 32912.349 | HR25: 585.63381 | HT25: =SUM(HO25:HS25) -> 33753.035 | HV25: 3127.71 | HW25: 568.17581 | HX25: 45.162331 | HZ25: =SUM(HU25:HY25) -> 3741.0481 | IB25: 29424.426 | IC25: 95210.294 | ID25: 56036.713 | IF25: =SUM(IA25:IE25) -> 180671.43 | IG25: =SUM(HO25,HU25,IA25) -> 0 | IH25: =SUM(HP25,HV25,IB25) -> 32807.189 | II25: =SUM(HQ25,HW25,IC25) -> 128690.82 | IJ25: =SUM(HR25,HX25,ID25) -> 56667.509 | IK25: =SUM(HS25,HY25,IE25) -> 0 | IL25: =SUM(IG25:IK25) -> 218165.52 | IN25: 4470.6599 | IO25: 8206.6589 | IP25: 38.016084 | IR25: =SUM(IM25:IQ25) -> 12715.335 | IT25: 148275.58 | IU25: 144870.11 | IV25: 37799.658 | IX25: =SUM(IS25:IW25) -> 330945.35 | IZ25: 4460.4884 | JA25: 16651.701 | JB25: 4936.9892 | JD25: =SUM(IY25:JC25) -> 26049.178 | JE25: =SUM(IM25,IS25,IY25) -> 0 | JF25: =SUM(IN25,IT25,IZ25) -> 157206.73 | JG25: =SUM(IO25,IU25,JA25) -> 169728.47 | JH25: =SUM(IP25,IV25,JB25) -> 42774.664 | JI25: =SUM(IQ25,IW25,JC25) -> 0 | JJ25: =SUM(JE25:JI25) -> 369709.86 | JL25: 0 | JM25: 524457.9 | JN25: =SUM(V25,BF25,CD25,DL25,FI25,HK25,II25,JG25) -> 531697.97 | JO25: =SUM(W25,BG25,CE25,DM25,FJ25,HL25,IJ25,JH25) -> 116053.3 | JP25: =SUM(X25,BH25,CF25,DN25,FK25,HM25,IK25,JI25) -> 0 | JQ25: =SUM(DO25) -> 0 | JR25: =SUM(JL25:JQ25) -> 1172209.2
A26: IDA=Black Army Cutworm | G26: =SUM(B26:F26) -> 0 | M26: =SUM(H26:L26) -> 0 | S26: =SUM(N26:R26) -> 0 | T26: =SUM(B26,H26,N26) -> 0 | U26: =SUM(C26,I26,O26) -> 0 | V26: =SUM(D26,J26,P26) -> 0 | W26: =SUM(E26,K26,Q26) -> 0 | X26: =SUM(F26,L26,R26) -> 0 | Y26: =SUM(T26:X26) -> 0 | AE26: =SUM(Z26:AD26) -> 0 | AK26: =SUM(AF26:AJ26) -> 0 | AQ26: =SUM(AL26:AP26) -> 0 | AW26: =SUM(AR26:AV26) -> 0 | BC26: =SUM(AX26:BB26) -> 0 | BD26: =SUM(Z26,AF26,AL26,AR26,AX26) -> 0 | BE26: =SUM(AA26,AG26,AM26,AS26,AY26) -> 0 | BF26: =SUM(AB26,AH26,AN26,AT26,AZ26) -> 0 | BG26: =SUM(AC26,AI26,AO26,AU26,BA26) -> 0 | BH26: =SUM(AD26,AJ26,AP26,AV26,BB26) -> 0 | BI26: =SUM(BD26:BH26) -> 0 | BO26: =SUM(BJ26:BN26) -> 0 | BU26: =SUM(BP26:BT26) -> 0 | CA26: =SUM(BV26:BZ26) -> 0 | CB26: =SUM(BJ26,BP26,BV26) -> 0 | CC26: =SUM(BK26,BQ26,BW26) -> 0 | CD26: =SUM(BL26,BR26,BX26) -> 0 | CE26: =SUM(BM26,BS26,BY26) -> 0 | CF26: =SUM(BN26,BT26,BZ26) -> 0 | CG26: =SUM(CB26:CF26) -> 0 | CN26: =SUM(CH26:CM26) -> 0 | CU26: =SUM(CO26:CT26) -> 0 | DB26: =SUM(CV26:DA26) -> 0 | DI26: =SUM(DC26:DH26) -> 0 | DJ26: =SUM(CH26,CO26,CV26,DC26) -> 0 | DK26: =SUM(CI26,CP26,CW26,DD26) -> 0 | DL26: =SUM(CJ26,CQ26,CX26,DE26) -> 0 | DM26: =SUM(CK26,CR26,CY26,DF26) -> 0 | DN26: =SUM(CL26,CS26,CZ26,DG26) -> 0 | DO26: =SUM(CM26,CT26,DA26,DH26) -> 0 | DP26: =SUM(DJ26:DO26) -> 0 | DV26: =SUM(DQ26:DU26) -> 0 | EB26: =SUM(DW26:EA26) -> 0 | EH26: =SUM(EC26:EG26) -> 0 | EN26: =SUM(EI26:EM26) -> 0 | ET26: =SUM(EO26:ES26) -> 0 | EZ26: =SUM(EU26:EY26) -> 0 | FF26: =SUM(FA26:FE26) -> 0 | FG26: =SUM(DQ26,DW26,EC26,EI26,EO26,EU26,FA26) -> 0 | FH26: =SUM(DR26,DX26,ED26,EJ26,EP26,EV26,FB26) -> 0 | FI26: =SUM(DS26,DY26,EE26,EK26,EQ26,EW26,FC26) -> 0 | FJ26: =SUM(DT26,DZ26,EF26,EL26,ER26,EX26,FD26) -> 0 | FK26: =SUM(DU26,EA26,EG26,EM26,ES26,EY26,FE26) -> 0 | FL26: =SUM(FG26:FK26) -> 0 | FR26: =SUM(FM26:FQ26) -> 0 | FX26: =SUM(FS26:FW26) -> 0 | GD26: =SUM(FY26:GC26) -> 0 | GJ26: =SUM(GE26:GI26) -> 0 | GP26: =SUM(GK26:GO26) -> 0 | GV26: =SUM(GQ26:GU26) -> 0 | HB26: =SUM(GW26:HA26) -> 0 | HH26: =SUM(HC26:HG26) -> 0 | HI26: =SUM(FM26,FS26,FY26,GE26,GK26,GQ26,GW26,HC26) -> 0 | HJ26: =SUM(FN26,FT26,FZ26,GF26,GL26,GR26,GX26,HD26) -> 0 | HK26: =SUM(HE26,GY26,GS26,GM26,GG26,GA26,FU26,FO26) -> 0 | HL26: =SUM(HF26,GZ26,GT26,GN26,GH26,GB26,FV26,FP26) -> 0 | HM26: =SUM(HG26,HA26,GU26,GO26,GI26,GC26,FW26,FQ26) -> 0 | HN26: =SUM(HI26:HM26) -> 0 | HT26: =SUM(HO26:HS26) -> 0 | HZ26: =SUM(HU26:HY26) -> 0 | IF26: =SUM(IA26:IE26) -> 0 | IG26: =SUM(HO26,HU26,IA26) -> 0 | IH26: =SUM(HP26,HV26,IB26) -> 0 | II26: =SUM(HQ26,HW26,IC26) -> 0 | IJ26: =SUM(HR26,HX26,ID26) -> 0 | IK26: =SUM(HS26,HY26,IE26) -> 0 | IL26: =SUM(IG26:IK26) -> 0 | IR26: =SUM(IM26:IQ26) -> 0 | IX26: =SUM(IS26:IW26) -> 0 | JD26: =SUM(IY26:JC26) -> 0 | JE26: =SUM(IM26,IS26,IY26) -> 0 | JF26: =SUM(IN26,IT26,IZ26) -> 0 | JG26: =SUM(IO26,IU26,JA26) -> 0 | JH26: =SUM(IP26,IV26,JB26) -> 0 | JI26: =SUM(IQ26,IW26,JC26) -> 0 | JJ26: =SUM(JE26:JI26) -> 0 | JL26: =SUM(T26,BD26,CB26,DJ26,FG26,HI26,IG26,JE26) -> 0 | JM26: =SUM(U26,BE26,CC26,DK26,FH26,HJ26,IH26,JF26) -> 0 | JN26: =SUM(V26,BF26,CD26,DL26,FI26,HK26,II26,JG26) -> 0 | JO26: =SUM(W26,BG26,CE26,DM26,FJ26,HL26,IJ26,JH26) -> 0 | JP26: =SUM(X26,BH26,CF26,DN26,FK26,HM26,IK26,JI26) -> 0 | JQ26: =SUM(DO26) -> 0 | JR26: =SUM(JL26:JQ26) -> 0
A27: IDB=2-Year Budworm | G27: =SUM(B27:F27) -> 0 | M27: =SUM(H27:L27) -> 0 | S27: =SUM(N27:R27) -> 0 | T27: =SUM(B27,H27,N27) -> 0 | U27: =SUM(C27,I27,O27) -> 0 | V27: =SUM(D27,J27,P27) -> 0 | W27: =SUM(E27,K27,Q27) -> 0 | X27: =SUM(F27,L27,R27) -> 0 | Y27: =SUM(T27:X27) -> 0 | AE27: =SUM(Z27:AD27) -> 0 | AK27: =SUM(AF27:AJ27) -> 0 | AQ27: =SUM(AL27:AP27) -> 0 | AW27: =SUM(AR27:AV27) -> 0 | BC27: =SUM(AX27:BB27) -> 0 | BD27: =SUM(Z27,AF27,AL27,AR27,AX27) -> 0 | BE27: =SUM(AA27,AG27,AM27,AS27,AY27) -> 0 | BF27: =SUM(AB27,AH27,AN27,AT27,AZ27) -> 0 | BG27: =SUM(AC27,AI27,AO27,AU27,BA27) -> 0 | BH27: =SUM(AD27,AJ27,AP27,AV27,BB27) -> 0 | BI27: =SUM(BD27:BH27) -> 0 | BO27: =SUM(BJ27:BN27) -> 0 | BQ27: 31260.576 | BR27: 797.29137 | BU27: =SUM(BP27:BT27) -> 32057.868 | BW27: 7146.5782 | BX27: 1301.4789 | CA27: =SUM(BV27:BZ27) -> 8448.0571 | CB27: =SUM(BJ27,BP27,BV27) -> 0 | CC27: =SUM(BK27,BQ27,BW27) -> 38407.154 | CD27: =SUM(BL27,BR27,BX27) -> 2098.7703 | CE27: =SUM(BM27,BS27,BY27) -> 0 | CF27: =SUM(BN27,BT27,BZ27) -> 0 | CG27: =SUM(CB27:CF27) -> 40505.925 | CI27: 20592.78 | CJ27: 1072.9627 | CN27: =SUM(CH27:CM27) -> 21665.742 | CU27: =SUM(CO27:CT27) -> 0 | DB27: =SUM(CV27:DA27) -> 0 | DD27: 185.70624 | DI27: =SUM(DC27:DH27) -> 185.70624 | DJ27: =SUM(CH27,CO27,CV27,DC27) -> 0 | DK27: =SUM(CI27,CP27,CW27,DD27) -> 20778.486 | DL27: =SUM(CJ27,CQ27,CX27,DE27) -> 1072.9627 | DM27: =SUM(CK27,CR27,CY27,DF27) -> 0 | DN27: =SUM(CL27,CS27,CZ27,DG27) -> 0 | DO27: =SUM(CM27,CT27,DA27,DH27) -> 0 | DP27: =SUM(DJ27:DO27) -> 21851.448 | DV27: =SUM(DQ27:DU27) -> 0 | EB27: =SUM(DW27:EA27) -> 0 | EH27: =SUM(EC27:EG27) -> 0 | EN27: =SUM(EI27:EM27) -> 0 | ET27: =SUM(EO27:ES27) -> 0 | EZ27: =SUM(EU27:EY27) -> 0 | FF27: =SUM(FA27:FE27) -> 0 | FG27: =SUM(DQ27,DW27,EC27,EI27,EO27,EU27,FA27) -> 0 | FH27: =SUM(DR27,DX27,ED27,EJ27,EP27,EV27,FB27) -> 0 | FI27: =SUM(DS27,DY27,EE27,EK27,EQ27,EW27,FC27) -> 0 | FJ27: =SUM(DT27,DZ27,EF27,EL27,ER27,EX27,FD27) -> 0 | FK27: =SUM(DU27,EA27,EG27,EM27,ES27,EY27,FE27) -> 0 | FL27: =SUM(FG27:FK27) -> 0 | FN27: 146.07738 | FR27: =SUM(FM27:FQ27) -> 146.07738 | FX27: =SUM(FS27:FW27) -> 0 | GD27: =SUM(FY27:GC27) -> 0 | GJ27: =SUM(GE27:GI27) -> 0 | GP27: =SUM(GK27:GO27) -> 0 | GR27: 43.046836 | GS27: 19.79152 | GV27: =SUM(GQ27:GU27) -> 62.838356 | HB27: =SUM(GW27:HA27) -> 0 | HH27: =SUM(HC27:HG27) -> 0 | HI27: =SUM(FM27,FS27,FY27,GE27,GK27,GQ27,GW27,HC27) -> 0 | HJ27: =SUM(FN27,FT27,FZ27,GF27,GL27,GR27,GX27,HD27) -> 189.12421 | HK27: =SUM(HE27,GY27,GS27,GM27,GG27,GA27,FU27,FO27) -> 19.79152 | HL27: =SUM(HF27,GZ27,GT27,GN27,GH27,GB27,FV27,FP27) -> 0 | HM27: =SUM(HG27,HA27,GU27,GO27,GI27,GC27,FW27,FQ27) -> 0 | HN27: =SUM(HI27:HM27) -> 208.91573 | HT27: =SUM(HO27:HS27) -> 0 | HV27: 6928.5889 | HZ27: =SUM(HU27:HY27) -> 6928.5889 | IB27: 5396.0334 | IF27: =SUM(IA27:IE27) -> 5396.0334 | IG27: =SUM(HO27,HU27,IA27) -> 0 | IH27: =SUM(HP27,HV27,IB27) -> 12324.622 | II27: =SUM(HQ27,HW27,IC27) -> 0 | IJ27: =SUM(HR27,HX27,ID27) -> 0 | IK27: =SUM(HS27,HY27,IE27) -> 0 | IL27: =SUM(IG27:IK27) -> 12324.622 | IR27: =SUM(IM27:IQ27) -> 0 | IX27: =SUM(IS27:IW27) -> 0 | JD27: =SUM(IY27:JC27) -> 0 | JE27: =SUM(IM27,IS27,IY27) -> 0 | JF27: =SUM(IN27,IT27,IZ27) -> 0 | JG27: =SUM(IO27,IU27,JA27) -> 0 | JH27: =SUM(IP27,IV27,JB27) -> 0 | JI27: =SUM(IQ27,IW27,JC27) -> 0 | JJ27: =SUM(JE27:JI27) -> 0 | JL27: =SUM(T27,BD27,CB27,DJ27,FG27,HI27,IG27,JE27) -> 0 | JM27: =SUM(U27,BE27,CC27,DK27,FH27,HJ27,IH27,JF27) -> 71699.387 | JN27: =SUM(V27,BF27,CD27,DL27,FI27,HK27,II27,JG27) -> 3191.5245 | JO27: =SUM(W27,BG27,CE27,DM27,FJ27,HL27,IJ27,JH27) -> 0 | JP27: =SUM(X27,BH27,CF27,DN27,FK27,HM27,IK27,JI27) -> 0 | JQ27: =SUM(DO27) -> 0 | JR27: =SUM(JL27:JQ27) -> 74890.911
A28: IDC=Larch casebearer | G28: =SUM(B28:F28) -> 0 | M28: =SUM(H28:L28) -> 0 | S28: =SUM(N28:R28) -> 0 | T28: =SUM(B28,H28,N28) -> 0 | U28: =SUM(C28,I28,O28) -> 0 | V28: =SUM(D28,J28,P28) -> 0 | W28: =SUM(E28,K28,Q28) -> 0 | X28: =SUM(F28,L28,R28) -> 0 | Y28: =SUM(T28:X28) -> 0 | AE28: =SUM(Z28:AD28) -> 0 | AK28: =SUM(AF28:AJ28) -> 0 | AQ28: =SUM(AL28:AP28) -> 0 | AW28: =SUM(AR28:AV28) -> 0 | BC28: =SUM(AX28:BB28) -> 0 | BD28: =SUM(Z28,AF28,AL28,AR28,AX28) -> 0 | BE28: =SUM(AA28,AG28,AM28,AS28,AY28) -> 0 | BF28: =SUM(AB28,AH28,AN28,AT28,AZ28) -> 0 | BG28: =SUM(AC28,AI28,AO28,AU28,BA28) -> 0 | BH28: =SUM(AD28,AJ28,AP28,AV28,BB28) -> 0 | BI28: =SUM(BD28:BH28) -> 0 | BO28: =SUM(BJ28:BN28) -> 0 | BU28: =SUM(BP28:BT28) -> 0 | CA28: =SUM(BV28:BZ28) -> 0 | CB28: =SUM(BJ28,BP28,BV28) -> 0 | CC28: =SUM(BK28,BQ28,BW28) -> 0 | CD28: =SUM(BL28,BR28,BX28) -> 0 | CE28: =SUM(BM28,BS28,BY28) -> 0 | CF28: =SUM(BN28,BT28,BZ28) -> 0 | CG28: =SUM(CB28:CF28) -> 0 | CN28: =SUM(CH28:CM28) -> 0 | CU28: =SUM(CO28:CT28) -> 0 | DB28: =SUM(CV28:DA28) -> 0 | DI28: =SUM(DC28:DH28) -> 0 | DJ28: =SUM(CH28,CO28,CV28,DC28) -> 0 | DK28: =SUM(CI28,CP28,CW28,DD28) -> 0 | DL28: =SUM(CJ28,CQ28,CX28,DE28) -> 0 | DM28: =SUM(CK28,CR28,CY28,DF28) -> 0 | DN28: =SUM(CL28,CS28,CZ28,DG28) -> 0 | DO28: =SUM(CM28,CT28,DA28,DH28) -> 0 | DP28: =SUM(DJ28:DO28) -> 0 | DV28: =SUM(DQ28:DU28) -> 0 | EB28: =SUM(DW28:EA28) -> 0 | EH28: =SUM(EC28:EG28) -> 0 | EN28: =SUM(EI28:EM28) -> 0 | ET28: =SUM(EO28:ES28) -> 0 | EZ28: =SUM(EU28:EY28) -> 0 | FF28: =SUM(FA28:FE28) -> 0 | FG28: =SUM(DQ28,DW28,EC28,EI28,EO28,EU28,FA28) -> 0 | FH28: =SUM(DR28,DX28,ED28,EJ28,EP28,EV28,FB28) -> 0 | FI28: =SUM(DS28,DY28,EE28,EK28,EQ28,EW28,FC28) -> 0 | FJ28: =SUM(DT28,DZ28,EF28,EL28,ER28,EX28,FD28) -> 0 | FK28: =SUM(DU28,EA28,EG28,EM28,ES28,EY28,FE28) -> 0 | FL28: =SUM(FG28:FK28) -> 0 | FR28: =SUM(FM28:FQ28) -> 0 | FX28: =SUM(FS28:FW28) -> 0 | GD28: =SUM(FY28:GC28) -> 0 | GJ28: =SUM(GE28:GI28) -> 0 | GP28: =SUM(GK28:GO28) -> 0 | GV28: =SUM(GQ28:GU28) -> 0 | HB28: =SUM(GW28:HA28) -> 0 | HH28: =SUM(HC28:HG28) -> 0 | HI28: =SUM(FM28,FS28,FY28,GE28,GK28,GQ28,GW28,HC28) -> 0 | HJ28: =SUM(FN28,FT28,FZ28,GF28,GL28,GR28,GX28,HD28) -> 0 | HK28: =SUM(HE28,GY28,GS28,GM28,GG28,GA28,FU28,FO28) -> 0 | HL28: =SUM(HF28,GZ28,GT28,GN28,GH28,GB28,FV28,FP28) -> 0 | HM28: =SUM(HG28,HA28,GU28,GO28,GI28,GC28,FW28,FQ28) -> 0 | HN28: =SUM(HI28:HM28) -> 0 | HT28: =SUM(HO28:HS28) -> 0 | HZ28: =SUM(HU28:HY28) -> 0 | IF28: =SUM(IA28:IE28) -> 0 | IG28: =SUM(HO28,HU28,IA28) -> 0 | IH28: =SUM(HP28,HV28,IB28) -> 0 | II28: =SUM(HQ28,HW28,IC28) -> 0 | IJ28: =SUM(HR28,HX28,ID28) -> 0 | IK28: =SUM(HS28,HY28,IE28) -> 0 | IL28: =SUM(IG28:IK28) -> 0 | IR28: =SUM(IM28:IQ28) -> 0 | IX28: =SUM(IS28:IW28) -> 0 | JD28: =SUM(IY28:JC28) -> 0 | JE28: =SUM(IM28,IS28,IY28) -> 0 | JF28: =SUM(IN28,IT28,IZ28) -> 0 | JG28: =SUM(IO28,IU28,JA28) -> 0 | JH28: =SUM(IP28,IV28,JB28) -> 0 | JI28: =SUM(IQ28,IW28,JC28) -> 0 | JJ28: =SUM(JE28:JI28) -> 0 | JL28: =SUM(T28,BD28,CB28,DJ28,FG28,HI28,IG28,JE28) -> 0 | JM28: =SUM(U28,BE28,CC28,DK28,FH28,HJ28,IH28,JF28) -> 0 | JN28: =SUM(V28,BF28,CD28,DL28,FI28,HK28,II28,JG28) -> 0 | JO28: =SUM(W28,BG28,CE28,DM28,FJ28,HL28,IJ28,JH28) -> 0 | JP28: =SUM(X28,BH28,CF28,DN28,FK28,HM28,IK28,JI28) -> 0 | JQ28: =SUM(DO28) -> 0 | JR28: =SUM(JL28:JQ28) -> 0
A29: IDE=Spruce Budworm | G29: =SUM(B29:F29) -> 0 | M29: =SUM(H29:L29) -> 0 | S29: =SUM(N29:R29) -> 0 | T29: =SUM(B29,H29,N29) -> 0 | U29: =SUM(C29,I29,O29) -> 0 | V29: =SUM(D29,J29,P29) -> 0 | W29: =SUM(E29,K29,Q29) -> 0 | X29: =SUM(F29,L29,R29) -> 0 | Y29: =SUM(T29:X29) -> 0 | AE29: =SUM(Z29:AD29) -> 0 | AK29: =SUM(AF29:AJ29) -> 0 | AQ29: =SUM(AL29:AP29) -> 0 | AW29: =SUM(AR29:AV29) -> 0 | BC29: =SUM(AX29:BB29) -> 0 | BD29: =SUM(Z29,AF29,AL29,AR29,AX29) -> 0 | BE29: =SUM(AA29,AG29,AM29,AS29,AY29) -> 0 | BF29: =SUM(AB29,AH29,AN29,AT29,AZ29) -> 0 | BG29: =SUM(AC29,AI29,AO29,AU29,BA29) -> 0 | BH29: =SUM(AD29,AJ29,AP29,AV29,BB29) -> 0 | BI29: =SUM(BD29:BH29) -> 0 | BO29: =SUM(BJ29:BN29) -> 0 | BU29: =SUM(BP29:BT29) -> 0 | CA29: =SUM(BV29:BZ29) -> 0 | CB29: =SUM(BJ29,BP29,BV29) -> 0 | CC29: =SUM(BK29,BQ29,BW29) -> 0 | CD29: =SUM(BL29,BR29,BX29) -> 0 | CE29: =SUM(BM29,BS29,BY29) -> 0 | CF29: =SUM(BN29,BT29,BZ29) -> 0 | CG29: =SUM(CB29:CF29) -> 0 | CN29: =SUM(CH29:CM29) -> 0 | CU29: =SUM(CO29:CT29) -> 0 | DB29: =SUM(CV29:DA29) -> 0 | DI29: =SUM(DC29:DH29) -> 0 | DJ29: =SUM(CH29,CO29,CV29,DC29) -> 0 | DK29: =SUM(CI29,CP29,CW29,DD29) -> 0 | DL29: =SUM(CJ29,CQ29,CX29,DE29) -> 0 | DM29: =SUM(CK29,CR29,CY29,DF29) -> 0 | DN29: =SUM(CL29,CS29,CZ29,DG29) -> 0 | DO29: =SUM(CM29,CT29,DA29,DH29) -> 0 | DP29: =SUM(DJ29:DO29) -> 0 | DV29: =SUM(DQ29:DU29) -> 0 | EB29: =SUM(DW29:EA29) -> 0 | EH29: =SUM(EC29:EG29) -> 0 | EN29: =SUM(EI29:EM29) -> 0 | ET29: =SUM(EO29:ES29) -> 0 | EZ29: =SUM(EU29:EY29) -> 0 | FF29: =SUM(FA29:FE29) -> 0 | FG29: =SUM(DQ29,DW29,EC29,EI29,EO29,EU29,FA29) -> 0 | FH29: =SUM(DR29,DX29,ED29,EJ29,EP29,EV29,FB29) -> 0 | FI29: =SUM(DS29,DY29,EE29,EK29,EQ29,EW29,FC29) -> 0 | FJ29: =SUM(DT29,DZ29,EF29,EL29,ER29,EX29,FD29) -> 0 | FK29: =SUM(DU29,EA29,EG29,EM29,ES29,EY29,FE29) -> 0 | FL29: =SUM(FG29:FK29) -> 0 | FR29: =SUM(FM29:FQ29) -> 0 | FX29: =SUM(FS29:FW29) -> 0 | GD29: =SUM(FY29:GC29) -> 0 | GJ29: =SUM(GE29:GI29) -> 0 | GP29: =SUM(GK29:GO29) -> 0 | GV29: =SUM(GQ29:GU29) -> 0 | HB29: =SUM(GW29:HA29) -> 0 | HH29: =SUM(HC29:HG29) -> 0 | HI29: =SUM(FM29,FS29,FY29,GE29,GK29,GQ29,GW29,HC29) -> 0 | HJ29: =SUM(FN29,FT29,FZ29,GF29,GL29,GR29,GX29,HD29) -> 0 | HK29: =SUM(HE29,GY29,GS29,GM29,GG29,GA29,FU29,FO29) -> 0 | HL29: =SUM(HF29,GZ29,GT29,GN29,GH29,GB29,FV29,FP29) -> 0 | HM29: =SUM(HG29,HA29,GU29,GO29,GI29,GC29,FW29,FQ29) -> 0 | HN29: =SUM(HI29:HM29) -> 0 | HT29: =SUM(HO29:HS29) -> 0 | HZ29: =SUM(HU29:HY29) -> 0 | IF29: =SUM(IA29:IE29) -> 0 | IG29: =SUM(HO29,HU29,IA29) -> 0 | IH29: =SUM(HP29,HV29,IB29) -> 0 | II29: =SUM(HQ29,HW29,IC29) -> 0 | IJ29: =SUM(HR29,HX29,ID29) -> 0 | IK29: =SUM(HS29,HY29,IE29) -> 0 | IL29: =SUM(IG29:IK29) -> 0 | IR29: =SUM(IM29:IQ29) -> 0 | IX29: =SUM(IS29:IW29) -> 0 | JD29: =SUM(IY29:JC29) -> 0 | JE29: =SUM(IM29,IS29,IY29) -> 0 | JF29: =SUM(IN29,IT29,IZ29) -> 0 | JG29: =SUM(IO29,IU29,JA29) -> 0 | JH29: =SUM(IP29,IV29,JB29) -> 0 | JI29: =SUM(IQ29,IW29,JC29) -> 0 | JJ29: =SUM(JE29:JI29) -> 0 | JL29: =SUM(T29,BD29,CB29,DJ29,FG29,HI29,IG29,JE29) -> 0 | JM29: =SUM(U29,BE29,CC29,DK29,FH29,HJ29,IH29,JF29) -> 0 | JN29: =SUM(V29,BF29,CD29,DL29,FI29,HK29,II29,JG29) -> 0 | JO29: =SUM(W29,BG29,CE29,DM29,FJ29,HL29,IJ29,JH29) -> 0 | JP29: =SUM(X29,BH29,CF29,DN29,FK29,HM29,IK29,JI29) -> 0 | JQ29: =SUM(DO29) -> 0 | JR29: =SUM(JL29:JQ29) -> 0
A30: IDF=Forest Tent Caterpillar | G30: =SUM(B30:F30) -> 0 | M30: =SUM(H30:L30) -> 0 | S30: =SUM(N30:R30) -> 0 | T30: =SUM(B30,H30,N30) -> 0 | U30: =SUM(C30,I30,O30) -> 0 | V30: =SUM(D30,J30,P30) -> 0 | W30: =SUM(E30,K30,Q30) -> 0 | X30: =SUM(F30,L30,R30) -> 0 | Y30: =SUM(T30:X30) -> 0 | AE30: =SUM(Z30:AD30) -> 0 | AK30: =SUM(AF30:AJ30) -> 0 | AQ30: =SUM(AL30:AP30) -> 0 | AW30: =SUM(AR30:AV30) -> 0 | BC30: =SUM(AX30:BB30) -> 0 | BD30: =SUM(Z30,AF30,AL30,AR30,AX30) -> 0 | BE30: =SUM(AA30,AG30,AM30,AS30,AY30) -> 0 | BF30: =SUM(AB30,AH30,AN30,AT30,AZ30) -> 0 | BG30: =SUM(AC30,AI30,AO30,AU30,BA30) -> 0 | BH30: =SUM(AD30,AJ30,AP30,AV30,BB30) -> 0 | BI30: =SUM(BD30:BH30) -> 0 | BO30: =SUM(BJ30:BN30) -> 0 | BQ30: 8092.1965 | BR30: 1119.0929 | BU30: =SUM(BP30:BT30) -> 9211.2893 | BY30: 39.803006 | CA30: =SUM(BV30:BZ30) -> 39.803006 | CB30: =SUM(BJ30,BP30,BV30) -> 0 | CC30: =SUM(BK30,BQ30,BW30) -> 8092.1965 | CD30: =SUM(BL30,BR30,BX30) -> 1119.0929 | CE30: =SUM(BM30,BS30,BY30) -> 39.803006 | CF30: =SUM(BN30,BT30,BZ30) -> 0 | CG30: =SUM(CB30:CF30) -> 9251.0923 | CI30: 208.76945 | CJ30: 645.3194 | CN30: =SUM(CH30:CM30) -> 854.08885 | CU30: =SUM(CO30:CT30) -> 0 | DB30: =SUM(CV30:DA30) -> 0 | DD30: 276.69113 | DE30: 174.991 | DI30: =SUM(DC30:DH30) -> 451.68214 | DJ30: =SUM(CH30,CO30,CV30,DC30) -> 0 | DK30: =SUM(CI30,CP30,CW30,DD30) -> 485.46058 | DL30: =SUM(CJ30,CQ30,CX30,DE30) -> 820.3104 | DM30: =SUM(CK30,CR30,CY30,DF30) -> 0 | DN30: =SUM(CL30,CS30,CZ30,DG30) -> 0 | DO30: =SUM(CM30,CT30,DA30,DH30) -> 0 | DP30: =SUM(DJ30:DO30) -> 1305.771 | DV30: =SUM(DQ30:DU30) -> 0 | EB30: =SUM(DW30:EA30) -> 0 | EH30: =SUM(EC30:EG30) -> 0 | EN30: =SUM(EI30:EM30) -> 0 | ET30: =SUM(EO30:ES30) -> 0 | EZ30: =SUM(EU30:EY30) -> 0 | FF30: =SUM(FA30:FE30) -> 0 | FG30: =SUM(DQ30,DW30,EC30,EI30,EO30,EU30,FA30) -> 0 | FH30: =SUM(DR30,DX30,ED30,EJ30,EP30,EV30,FB30) -> 0 | FI30: =SUM(DS30,DY30,EE30,EK30,EQ30,EW30,FC30) -> 0 | FJ30: =SUM(DT30,DZ30,EF30,EL30,ER30,EX30,FD30) -> 0 | FK30: =SUM(DU30,EA30,EG30,EM30,ES30,EY30,FE30) -> 0 | FL30: =SUM(FG30:FK30) -> 0 | FR30: =SUM(FM30:FQ30) -> 0 | FX30: =SUM(FS30:FW30) -> 0 | GD30: =SUM(FY30:GC30) -> 0 | GG30: 746.79668 | GJ30: =SUM(GE30:GI30) -> 746.79668 | GP30: =SUM(GK30:GO30) -> 0 | GV30: =SUM(GQ30:GU30) -> 0 | HB30: =SUM(GW30:HA30) -> 0 | HH30: =SUM(HC30:HG30) -> 0 | HI30: =SUM(FM30,FS30,FY30,GE30,GK30,GQ30,GW30,HC30) -> 0 | HJ30: =SUM(FN30,FT30,FZ30,GF30,GL30,GR30,GX30,HD30) -> 0 | HK30: =SUM(HE30,GY30,GS30,GM30,GG30,GA30,FU30,FO30) -> 746.79668 | HL30: =SUM(HF30,GZ30,GT30,GN30,GH30,GB30,FV30,FP30) -> 0 | HM30: =SUM(HG30,HA30,GU30,GO30,GI30,GC30,FW30,FQ30) -> 0 | HN30: =SUM(HI30:HM30) -> 746.79668 | HQ30: 5399.2671 | HT30: =SUM(HO30:HS30) -> 5399.2671 | HZ30: =SUM(HU30:HY30) -> 0 | IB30: 14504.658 | IC30: 90480.349 | ID30: 73880.618 | IF30: =SUM(IA30:IE30) -> 178865.62 | IG30: =SUM(HO30,HU30,IA30) -> 0 | IH30: =SUM(HP30,HV30,IB30) -> 14504.658 | II30: =SUM(HQ30,HW30,IC30) -> 95879.616 | IJ30: =SUM(HR30,HX30,ID30) -> 73880.618 | IK30: =SUM(HS30,HY30,IE30) -> 0 | IL30: =SUM(IG30:IK30) -> 184264.89 | IN30: 64.806399 | IO30: 3298.6761 | IR30: =SUM(IM30:IQ30) -> 3363.4825 | IX30: =SUM(IS30:IW30) -> 0 | JD30: =SUM(IY30:JC30) -> 0 | JE30: =SUM(IM30,IS30,IY30) -> 0 | JF30: =SUM(IN30,IT30,IZ30) -> 64.806399 | JG30: =SUM(IO30,IU30,JA30) -> 3298.6761 | JH30: =SUM(IP30,IV30,JB30) -> 0 | JI30: =SUM(IQ30,IW30,JC30) -> 0 | JJ30: =SUM(JE30:JI30) -> 3363.4825 | JL30: =SUM(T30,BD30,CB30,DJ30,FG30,HI30,IG30,JE30) -> 0 | JM30: =SUM(U30,BE30,CC30,DK30,FH30,HJ30,IH30,JF30) -> 23147.121 | JN30: =SUM(V30,BF30,CD30,DL30,FI30,HK30,II30,JG30) -> 101864.49 | JO30: =SUM(W30,BG30,CE30,DM30,FJ30,HL30,IJ30,JH30) -> 73920.421 | JP30: =SUM(X30,BH30,CF30,DN30,FK30,HM30,IK30,JI30) -> 0 | JQ30: =SUM(DO30) -> 0 | JR30: =SUM(JL30:JQ30) -> 198932.03
A31: IDH=Western Blackheaded Budworm | G31: =SUM(B31:F31) -> 0 | M31: =SUM(H31:L31) -> 0 | S31: =SUM(N31:R31) -> 0 | T31: =SUM(B31,H31,N31) -> 0 | U31: =SUM(C31,I31,O31) -> 0 | V31: =SUM(D31,J31,P31) -> 0 | W31: =SUM(E31,K31,Q31) -> 0 | X31: =SUM(F31,L31,R31) -> 0 | Y31: =SUM(T31:X31) -> 0 | AE31: =SUM(Z31:AD31) -> 0 | AG31: 18541.188 | AH31: 8304.2716 | AI31: 1394.9185 | AK31: =SUM(AF31:AJ31) -> 28240.379 | AQ31: =SUM(AL31:AP31) -> 0 | AS31: 5753.9442 | AT31: 361.5833 | AW31: =SUM(AR31:AV31) -> 6115.5275 | AY31: 413.16746 | AZ31: 80.272668 | BC31: =SUM(AX31:BB31) -> 493.44013 | BD31: =SUM(Z31,AF31,AL31,AR31,AX31) -> 0 | BE31: =SUM(AA31,AG31,AM31,AS31,AY31) -> 24708.3 | BF31: =SUM(AB31,AH31,AN31,AT31,AZ31) -> 8746.1276 | BG31: =SUM(AC31,AI31,AO31,AU31,BA31) -> 1394.9185 | BH31: =SUM(AD31,AJ31,AP31,AV31,BB31) -> 0 | BI31: =SUM(BD31:BH31) -> 34849.346 | BO31: =SUM(BJ31:BN31) -> 0 | BU31: =SUM(BP31:BT31) -> 0 | CA31: =SUM(BV31:BZ31) -> 0 | CB31: =SUM(BJ31,BP31,BV31) -> 0 | CC31: =SUM(BK31,BQ31,BW31) -> 0 | CD31: =SUM(BL31,BR31,BX31) -> 0 | CE31: =SUM(BM31,BS31,BY31) -> 0 | CF31: =SUM(BN31,BT31,BZ31) -> 0 | CG31: =SUM(CB31:CF31) -> 0 | CN31: =SUM(CH31:CM31) -> 0 | CU31: =SUM(CO31:CT31) -> 0 | DB31: =SUM(CV31:DA31) -> 0 | DI31: =SUM(DC31:DH31) -> 0 | DJ31: =SUM(CH31,CO31,CV31,DC31) -> 0 | DK31: =SUM(CI31,CP31,CW31,DD31) -> 0 | DL31: =SUM(CJ31,CQ31,CX31,DE31) -> 0 | DM31: =SUM(CK31,CR31,CY31,DF31) -> 0 | DN31: =SUM(CL31,CS31,CZ31,DG31) -> 0 | DO31: =SUM(CM31,CT31,DA31,DH31) -> 0 | DP31: =SUM(DJ31:DO31) -> 0 | DV31: =SUM(DQ31:DU31) -> 0 | EB31: =SUM(DW31:EA31) -> 0 | EH31: =SUM(EC31:EG31) -> 0 | EN31: =SUM(EI31:EM31) -> 0 | ET31: =SUM(EO31:ES31) -> 0 | EZ31: =SUM(EU31:EY31) -> 0 | FF31: =SUM(FA31:FE31) -> 0 | FG31: =SUM(DQ31,DW31,EC31,EI31,EO31,EU31,FA31) -> 0 | FH31: =SUM(DR31,DX31,ED31,EJ31,EP31,EV31,FB31) -> 0 | FI31: =SUM(DS31,DY31,EE31,EK31,EQ31,EW31,FC31) -> 0 | FJ31: =SUM(DT31,DZ31,EF31,EL31,ER31,EX31,FD31) -> 0 | FK31: =SUM(DU31,EA31,EG31,EM31,ES31,EY31,FE31) -> 0 | FL31: =SUM(FG31:FK31) -> 0 | FR31: =SUM(FM31:FQ31) -> 0 | FX31: =SUM(FS31:FW31) -> 0 | GD31: =SUM(FY31:GC31) -> 0 | GJ31: =SUM(GE31:GI31) -> 0 | GP31: =SUM(GK31:GO31) -> 0 | GV31: =SUM(GQ31:GU31) -> 0 | HB31: =SUM(GW31:HA31) -> 0 | HH31: =SUM(HC31:HG31) -> 0 | HI31: =SUM(FM31,FS31,FY31,GE31,GK31,GQ31,GW31,HC31) -> 0 | HJ31: =SUM(FN31,FT31,FZ31,GF31,GL31,GR31,GX31,HD31) -> 0 | HK31: =SUM(HE31,GY31,GS31,GM31,GG31,GA31,FU31,FO31) -> 0 | HL31: =SUM(HF31,GZ31,GT31,GN31,GH31,GB31,FV31,FP31) -> 0 | HM31: =SUM(HG31,HA31,GU31,GO31,GI31,GC31,FW31,FQ31) -> 0 | HN31: =SUM(HI31:HM31) -> 0 | HT31: =SUM(HO31:HS31) -> 0 | HZ31: =SUM(HU31:HY31) -> 0 | IF31: =SUM(IA31:IE31) -> 0 | IG31: =SUM(HO31,HU31,IA31) -> 0 | IH31: =SUM(HP31,HV31,IB31) -> 0 | II31: =SUM(HQ31,HW31,IC31) -> 0 | IJ31: =SUM(HR31,HX31,ID31) -> 0 | IK31: =SUM(HS31,HY31,IE31) -> 0 | IL31: =SUM(IG31:IK31) -> 0 | IR31: =SUM(IM31:IQ31) -> 0 | IX31: =SUM(IS31:IW31) -> 0 | JD31: =SUM(IY31:JC31) -> 0 | JE31: =SUM(IM31,IS31,IY31) -> 0 | JF31: =SUM(IN31,IT31,IZ31) -> 0 | JG31: =SUM(IO31,IU31,JA31) -> 0 | JH31: =SUM(IP31,IV31,JB31) -> 0 | JI31: =SUM(IQ31,IW31,JC31) -> 0 | JJ31: =SUM(JE31:JI31) -> 0 | JL31: =SUM(T31,BD31,CB31,DJ31,FG31,HI31,IG31,JE31) -> 0 | JM31: =SUM(U31,BE31,CC31,DK31,FH31,HJ31,IH31,JF31) -> 24708.3 | JN31: =SUM(V31,BF31,CD31,DL31,FI31,HK31,II31,JG31) -> 8746.1276 | JO31: =SUM(W31,BG31,CE31,DM31,FJ31,HL31,IJ31,JH31) -> 1394.9185 | JP31: =SUM(X31,BH31,CF31,DN31,FK31,HM31,IK31,JI31) -> 0 | JQ31: =SUM(DO31) -> 0 | JR31: =SUM(JL31:JQ31) -> 34849.346
A32: IDI=Pine needle sheathminer | G32: =SUM(B32:F32) -> 0 | M32: =SUM(H32:L32) -> 0 | S32: =SUM(N32:R32) -> 0 | T32: =SUM(B32,H32,N32) -> 0 | U32: =SUM(C32,I32,O32) -> 0 | V32: =SUM(D32,J32,P32) -> 0 | W32: =SUM(E32,K32,Q32) -> 0 | X32: =SUM(F32,L32,R32) -> 0 | Y32: =SUM(T32:X32) -> 0 | AE32: =SUM(Z32:AD32) -> 0 | AK32: =SUM(AF32:AJ32) -> 0 | AQ32: =SUM(AL32:AP32) -> 0 | AW32: =SUM(AR32:AV32) -> 0 | BC32: =SUM(AX32:BB32) -> 0 | BD32: =SUM(Z32,AF32,AL32,AR32,AX32) -> 0 | BE32: =SUM(AA32,AG32,AM32,AS32,AY32) -> 0 | BF32: =SUM(AB32,AH32,AN32,AT32,AZ32) -> 0 | BG32: =SUM(AC32,AI32,AO32,AU32,BA32) -> 0 | BH32: =SUM(AD32,AJ32,AP32,AV32,BB32) -> 0 | BI32: =SUM(BD32:BH32) -> 0 | BO32: =SUM(BJ32:BN32) -> 0 | BQ32: 68.805382 | BR32: 105.73308 | BU32: =SUM(BP32:BT32) -> 174.53847 | CA32: =SUM(BV32:BZ32) -> 0 | CB32: =SUM(BJ32,BP32,BV32) -> 0 | CC32: =SUM(BK32,BQ32,BW32) -> 68.805382 | CD32: =SUM(BL32,BR32,BX32) -> 105.73308 | CE32: =SUM(BM32,BS32,BY32) -> 0 | CF32: =SUM(BN32,BT32,BZ32) -> 0 | CG32: =SUM(CB32:CF32) -> 174.53847 | CI32: 45.295313 | CJ32: 52.993824 | CN32: =SUM(CH32:CM32) -> 98.289137 | CU32: =SUM(CO32:CT32) -> 0 | DB32: =SUM(CV32:DA32) -> 0 | DD32: 24.39465 | DE32: 220.12949 | DI32: =SUM(DC32:DH32) -> 244.52414 | DJ32: =SUM(CH32,CO32,CV32,DC32) -> 0 | DK32: =SUM(CI32,CP32,CW32,DD32) -> 69.689964 | DL32: =SUM(CJ32,CQ32,CX32,DE32) -> 273.12332 | DM32: =SUM(CK32,CR32,CY32,DF32) -> 0 | DN32: =SUM(CL32,CS32,CZ32,DG32) -> 0 | DO32: =SUM(CM32,CT32,DA32,DH32) -> 0 | DP32: =SUM(DJ32:DO32) -> 342.81328 | DV32: =SUM(DQ32:DU32) -> 0 | EB32: =SUM(DW32:EA32) -> 0 | EH32: =SUM(EC32:EG32) -> 0 | EN32: =SUM(EI32:EM32) -> 0 | ET32: =SUM(EO32:ES32) -> 0 | EZ32: =SUM(EU32:EY32) -> 0 | FF32: =SUM(FA32:FE32) -> 0 | FG32: =SUM(DQ32,DW32,EC32,EI32,EO32,EU32,FA32) -> 0 | FH32: =SUM(DR32,DX32,ED32,EJ32,EP32,EV32,FB32) -> 0 | FI32: =SUM(DS32,DY32,EE32,EK32,EQ32,EW32,FC32) -> 0 | FJ32: =SUM(DT32,DZ32,EF32,EL32,ER32,EX32,FD32) -> 0 | FK32: =SUM(DU32,EA32,EG32,EM32,ES32,EY32,FE32) -> 0 | FL32: =SUM(FG32:FK32) -> 0 | FR32: =SUM(FM32:FQ32) -> 0 | FX32: =SUM(FS32:FW32) -> 0 | GD32: =SUM(FY32:GC32) -> 0 | GJ32: =SUM(GE32:GI32) -> 0 | GP32: =SUM(GK32:GO32) -> 0 | GV32: =SUM(GQ32:GU32) -> 0 | HB32: =SUM(GW32:HA32) -> 0 | HH32: =SUM(HC32:HG32) -> 0 | HI32: =SUM(FM32,FS32,FY32,GE32,GK32,GQ32,GW32,HC32) -> 0 | HJ32: =SUM(FN32,FT32,FZ32,GF32,GL32,GR32,GX32,HD32) -> 0 | HK32: =SUM(HE32,GY32,GS32,GM32,GG32,GA32,FU32,FO32) -> 0 | HL32: =SUM(HF32,GZ32,GT32,GN32,GH32,GB32,FV32,FP32) -> 0 | HM32: =SUM(HG32,HA32,GU32,GO32,GI32,GC32,FW32,FQ32) -> 0 | HN32: =SUM(HI32:HM32) -> 0 | HT32: =SUM(HO32:HS32) -> 0 | HZ32: =SUM(HU32:HY32) -> 0 | IF32: =SUM(IA32:IE32) -> 0 | IG32: =SUM(HO32,HU32,IA32) -> 0 | IH32: =SUM(HP32,HV32,IB32) -> 0 | II32: =SUM(HQ32,HW32,IC32) -> 0 | IJ32: =SUM(HR32,HX32,ID32) -> 0 | IK32: =SUM(HS32,HY32,IE32) -> 0 | IL32: =SUM(IG32:IK32) -> 0 | IR32: =SUM(IM32:IQ32) -> 0 | IX32: =SUM(IS32:IW32) -> 0 | JD32: =SUM(IY32:JC32) -> 0 | JE32: =SUM(IM32,IS32,IY32) -> 0 | JF32: =SUM(IN32,IT32,IZ32) -> 0 | JG32: =SUM(IO32,IU32,JA32) -> 0 | JH32: =SUM(IP32,IV32,JB32) -> 0 | JI32: =SUM(IQ32,IW32,JC32) -> 0 | JJ32: =SUM(JE32:JI32) -> 0 | JL32: =SUM(T32,BD32,CB32,DJ32,FG32,HI32,IG32,JE32) -> 0 | JM32: =SUM(U32,BE32,CC32,DK32,FH32,HJ32,IH32,JF32) -> 138.49535 | JN32: =SUM(V32,BF32,CD32,DL32,FI32,HK32,II32,JG32) -> 378.8564 | JO32: =SUM(W32,BG32,CE32,DM32,FJ32,HL32,IJ32,JH32) -> 0 | JP32: =SUM(X32,BH32,CF32,DN32,FK32,HM32,IK32,JI32) -> 0 | JQ32: =SUM(DO32) -> 0 | JR32: =SUM(JL32:JQ32) -> 517.35175
A33: IDK=Northern Tent Caterpillar | G33: =SUM(B33:F33) -> 0 | M33: =SUM(H33:L33) -> 0 | S33: =SUM(N33:R33) -> 0 | T33: =SUM(B33,H33,N33) -> 0 | U33: =SUM(C33,I33,O33) -> 0 | V33: =SUM(D33,J33,P33) -> 0 | W33: =SUM(E33,K33,Q33) -> 0 | X33: =SUM(F33,L33,R33) -> 0 | Y33: =SUM(T33:X33) -> 0 | AE33: =SUM(Z33:AD33) -> 0 | AK33: =SUM(AF33:AJ33) -> 0 | AQ33: =SUM(AL33:AP33) -> 0 | AW33: =SUM(AR33:AV33) -> 0 | BC33: =SUM(AX33:BB33) -> 0 | BD33: =SUM(Z33,AF33,AL33,AR33,AX33) -> 0 | BE33: =SUM(AA33,AG33,AM33,AS33,AY33) -> 0 | BF33: =SUM(AB33,AH33,AN33,AT33,AZ33) -> 0 | BG33: =SUM(AC33,AI33,AO33,AU33,BA33) -> 0 | BH33: =SUM(AD33,AJ33,AP33,AV33,BB33) -> 0 | BI33: =SUM(BD33:BH33) -> 0 | BO33: =SUM(BJ33:BN33) -> 0 | BU33: =SUM(BP33:BT33) -> 0 | CA33: =SUM(BV33:BZ33) -> 0 | CB33: =SUM(BJ33,BP33,BV33) -> 0 | CC33: =SUM(BK33,BQ33,BW33) -> 0 | CD33: =SUM(BL33,BR33,BX33) -> 0 | CE33: =SUM(BM33,BS33,BY33) -> 0 | CF33: =SUM(BN33,BT33,BZ33) -> 0 | CG33: =SUM(CB33:CF33) -> 0 | CN33: =SUM(CH33:CM33) -> 0 | CU33: =SUM(CO33:CT33) -> 0 | DB33: =SUM(CV33:DA33) -> 0 | DI33: =SUM(DC33:DH33) -> 0 | DJ33: =SUM(CH33,CO33,CV33,DC33) -> 0 | DK33: =SUM(CI33,CP33,CW33,DD33) -> 0 | DL33: =SUM(CJ33,CQ33,CX33,DE33) -> 0 | DM33: =SUM(CK33,CR33,CY33,DF33) -> 0 | DN33: =SUM(CL33,CS33,CZ33,DG33) -> 0 | DO33: =SUM(CM33,CT33,DA33,DH33) -> 0 | DP33: =SUM(DJ33:DO33) -> 0 | DV33: =SUM(DQ33:DU33) -> 0 | EB33: =SUM(DW33:EA33) -> 0 | EH33: =SUM(EC33:EG33) -> 0 | EN33: =SUM(EI33:EM33) -> 0 | ET33: =SUM(EO33:ES33) -> 0 | EZ33: =SUM(EU33:EY33) -> 0 | FF33: =SUM(FA33:FE33) -> 0 | FG33: =SUM(DQ33,DW33,EC33,EI33,EO33,EU33,FA33) -> 0 | FH33: =SUM(DR33,DX33,ED33,EJ33,EP33,EV33,FB33) -> 0 | FI33: =SUM(DS33,DY33,EE33,EK33,EQ33,EW33,FC33) -> 0 | FJ33: =SUM(DT33,DZ33,EF33,EL33,ER33,EX33,FD33) -> 0 | FK33: =SUM(DU33,EA33,EG33,EM33,ES33,EY33,FE33) -> 0 | FL33: =SUM(FG33:FK33) -> 0 | FR33: =SUM(FM33:FQ33) -> 0 | FX33: =SUM(FS33:FW33) -> 0 | GD33: =SUM(FY33:GC33) -> 0 | GJ33: =SUM(GE33:GI33) -> 0 | GP33: =SUM(GK33:GO33) -> 0 | GV33: =SUM(GQ33:GU33) -> 0 | HB33: =SUM(GW33:HA33) -> 0 | HH33: =SUM(HC33:HG33) -> 0 | HI33: =SUM(FM33,FS33,FY33,GE33,GK33,GQ33,GW33,HC33) -> 0 | HJ33: =SUM(FN33,FT33,FZ33,GF33,GL33,GR33,GX33,HD33) -> 0 | HK33: =SUM(HE33,GY33,GS33,GM33,GG33,GA33,FU33,FO33) -> 0 | HL33: =SUM(HF33,GZ33,GT33,GN33,GH33,GB33,FV33,FP33) -> 0 | HM33: =SUM(HG33,HA33,GU33,GO33,GI33,GC33,FW33,FQ33) -> 0 | HN33: =SUM(HI33:HM33) -> 0 | HT33: =SUM(HO33:HS33) -> 0 | HZ33: =SUM(HU33:HY33) -> 0 | IF33: =SUM(IA33:IE33) -> 0 | IG33: =SUM(HO33,HU33,IA33) -> 0 | IH33: =SUM(HP33,HV33,IB33) -> 0 | II33: =SUM(HQ33,HW33,IC33) -> 0 | IJ33: =SUM(HR33,HX33,ID33) -> 0 | IK33: =SUM(HS33,HY33,IE33) -> 0 | IL33: =SUM(IG33:IK33) -> 0 | IR33: =SUM(IM33:IQ33) -> 0 | IX33: =SUM(IS33:IW33) -> 0 | JD33: =SUM(IY33:JC33) -> 0 | JE33: =SUM(IM33,IS33,IY33) -> 0 | JF33: =SUM(IN33,IT33,IZ33) -> 0 | JG33: =SUM(IO33,IU33,JA33) -> 0 | JH33: =SUM(IP33,IV33,JB33) -> 0 | JI33: =SUM(IQ33,IW33,JC33) -> 0 | JJ33: =SUM(JE33:JI33) -> 0 | JL33: =SUM(T33,BD33,CB33,DJ33,FG33,HI33,IG33,JE33) -> 0 | JM33: =SUM(U33,BE33,CC33,DK33,FH33,HJ33,IH33,JF33) -> 0 | JN33: =SUM(V33,BF33,CD33,DL33,FI33,HK33,II33,JG33) -> 0 | JO33: =SUM(W33,BG33,CE33,DM33,FJ33,HL33,IJ33,JH33) -> 0 | JP33: =SUM(X33,BH33,CF33,DN33,FK33,HM33,IK33,JI33) -> 0 | JQ33: =SUM(DO33) -> 0 | JR33: =SUM(JL33:JQ33) -> 0
A34: IDL=Western Hemlock Looper | G34: =SUM(B34:F34) -> 0 | M34: =SUM(H34:L34) -> 0 | S34: =SUM(N34:R34) -> 0 | T34: =SUM(B34,H34,N34) -> 0 | U34: =SUM(C34,I34,O34) -> 0 | V34: =SUM(D34,J34,P34) -> 0 | W34: =SUM(E34,K34,Q34) -> 0 | X34: =SUM(F34,L34,R34) -> 0 | Y34: =SUM(T34:X34) -> 0 | AE34: =SUM(Z34:AD34) -> 0 | AK34: =SUM(AF34:AJ34) -> 0 | AQ34: =SUM(AL34:AP34) -> 0 | AW34: =SUM(AR34:AV34) -> 0 | BC34: =SUM(AX34:BB34) -> 0 | BD34: =SUM(Z34,AF34,AL34,AR34,AX34) -> 0 | BE34: =SUM(AA34,AG34,AM34,AS34,AY34) -> 0 | BF34: =SUM(AB34,AH34,AN34,AT34,AZ34) -> 0 | BG34: =SUM(AC34,AI34,AO34,AU34,BA34) -> 0 | BH34: =SUM(AD34,AJ34,AP34,AV34,BB34) -> 0 | BI34: =SUM(BD34:BH34) -> 0 | BO34: =SUM(BJ34:BN34) -> 0 | BU34: =SUM(BP34:BT34) -> 0 | BW34: 4443.4245 | BX34: 961.59428 | BY34: 52.412143 | CA34: =SUM(BV34:BZ34) -> 5457.4309 | CB34: =SUM(BJ34,BP34,BV34) -> 0 | CC34: =SUM(BK34,BQ34,BW34) -> 4443.4245 | CD34: =SUM(BL34,BR34,BX34) -> 961.59428 | CE34: =SUM(BM34,BS34,BY34) -> 52.412143 | CF34: =SUM(BN34,BT34,BZ34) -> 0 | CG34: =SUM(CB34:CF34) -> 5457.4309 | CI34: 471.57193 | CN34: =SUM(CH34:CM34) -> 471.57193 | CU34: =SUM(CO34:CT34) -> 0 | DB34: =SUM(CV34:DA34) -> 0 | DD34: 1087.8743 | DE34: 146.80673 | DI34: =SUM(DC34:DH34) -> 1234.681 | DJ34: =SUM(CH34,CO34,CV34,DC34) -> 0 | DK34: =SUM(CI34,CP34,CW34,DD34) -> 1559.4462 | DL34: =SUM(CJ34,CQ34,CX34,DE34) -> 146.80673 | DM34: =SUM(CK34,CR34,CY34,DF34) -> 0 | DN34: =SUM(CL34,CS34,CZ34,DG34) -> 0 | DO34: =SUM(CM34,CT34,DA34,DH34) -> 0 | DP34: =SUM(DJ34:DO34) -> 1706.2529 | DV34: =SUM(DQ34:DU34) -> 0 | EB34: =SUM(DW34:EA34) -> 0 | EH34: =SUM(EC34:EG34) -> 0 | EJ34: 327.82436 | EK34: 247.76512 | EL34: 40.510003 | EN34: =SUM(EI34:EM34) -> 616.09948 | ET34: =SUM(EO34:ES34) -> 0 | EZ34: =SUM(EU34:EY34) -> 0 | FB34: 212.15093 | FC34: 110.60938 | FF34: =SUM(FA34:FE34) -> 322.76031 | FG34: =SUM(DQ34,DW34,EC34,EI34,EO34,EU34,FA34) -> 0 | FH34: =SUM(DR34,DX34,ED34,EJ34,EP34,EV34,FB34) -> 539.97528 | FI34: =SUM(DS34,DY34,EE34,EK34,EQ34,EW34,FC34) -> 358.3745 | FJ34: =SUM(DT34,DZ34,EF34,EL34,ER34,EX34,FD34) -> 40.510003 | FK34: =SUM(DU34,EA34,EG34,EM34,ES34,EY34,FE34) -> 0 | FL34: =SUM(FG34:FK34) -> 938.85979 | FR34: =SUM(FM34:FQ34) -> 0 | FX34: =SUM(FS34:FW34) -> 0 | GD34: =SUM(FY34:GC34) -> 0 | GJ34: =SUM(GE34:GI34) -> 0 | GP34: =SUM(GK34:GO34) -> 0 | GV34: =SUM(GQ34:GU34) -> 0 | HB34: =SUM(GW34:HA34) -> 0 | HH34: =SUM(HC34:HG34) -> 0 | HI34: =SUM(FM34,FS34,FY34,GE34,GK34,GQ34,GW34,HC34) -> 0 | HJ34: =SUM(FN34,FT34,FZ34,GF34,GL34,GR34,GX34,HD34) -> 0 | HK34: =SUM(HE34,GY34,GS34,GM34,GG34,GA34,FU34,FO34) -> 0 | HL34: =SUM(HF34,GZ34,GT34,GN34,GH34,GB34,FV34,FP34) -> 0 | HM34: =SUM(HG34,HA34,GU34,GO34,GI34,GC34,FW34,FQ34) -> 0 | HN34: =SUM(HI34:HM34) -> 0 | HT34: =SUM(HO34:HS34) -> 0 | HZ34: =SUM(HU34:HY34) -> 0 | IF34: =SUM(IA34:IE34) -> 0 | IG34: =SUM(HO34,HU34,IA34) -> 0 | IH34: =SUM(HP34,HV34,IB34) -> 0 | II34: =SUM(HQ34,HW34,IC34) -> 0 | IJ34: =SUM(HR34,HX34,ID34) -> 0 | IK34: =SUM(HS34,HY34,IE34) -> 0 | IL34: =SUM(IG34:IK34) -> 0 | IR34: =SUM(IM34:IQ34) -> 0 | IX34: =SUM(IS34:IW34) -> 0 | JD34: =SUM(IY34:JC34) -> 0 | JE34: =SUM(IM34,IS34,IY34) -> 0 | JF34: =SUM(IN34,IT34,IZ34) -> 0 | JG34: =SUM(IO34,IU34,JA34) -> 0 | JH34: =SUM(IP34,IV34,JB34) -> 0 | JI34: =SUM(IQ34,IW34,JC34) -> 0 | JJ34: =SUM(JE34:JI34) -> 0 | JL34: =SUM(T34,BD34,CB34,DJ34,FG34,HI34,IG34,JE34) -> 0 | JM34: =SUM(U34,BE34,CC34,DK34,FH34,HJ34,IH34,JF34) -> 6542.846 | JN34: =SUM(V34,BF34,CD34,DL34,FI34,HK34,II34,JG34) -> 1466.7755 | JO34: =SUM(W34,BG34,CE34,DM34,FJ34,HL34,IJ34,JH34) -> 92.922147 | JP34: =SUM(X34,BH34,CF34,DN34,FK34,HM34,IK34,JI34) -> 0 | JQ34: =SUM(DO34) -> 0 | JR34: =SUM(JL34:JQ34) -> 8102.5436
A35: IDN=Birch Leaf Miner | G35: =SUM(B35:F35) -> 0 | M35: =SUM(H35:L35) -> 0 | S35: =SUM(N35:R35) -> 0 | T35: =SUM(B35,H35,N35) -> 0 | U35: =SUM(C35,I35,O35) -> 0 | V35: =SUM(D35,J35,P35) -> 0 | W35: =SUM(E35,K35,Q35) -> 0 | X35: =SUM(F35,L35,R35) -> 0 | Y35: =SUM(T35:X35) -> 0 | AE35: =SUM(Z35:AD35) -> 0 | AK35: =SUM(AF35:AJ35) -> 0 | AQ35: =SUM(AL35:AP35) -> 0 | AW35: =SUM(AR35:AV35) -> 0 | BC35: =SUM(AX35:BB35) -> 0 | BD35: =SUM(Z35,AF35,AL35,AR35,AX35) -> 0 | BE35: =SUM(AA35,AG35,AM35,AS35,AY35) -> 0 | BF35: =SUM(AB35,AH35,AN35,AT35,AZ35) -> 0 | BG35: =SUM(AC35,AI35,AO35,AU35,BA35) -> 0 | BH35: =SUM(AD35,AJ35,AP35,AV35,BB35) -> 0 | BI35: =SUM(BD35:BH35) -> 0 | BO35: =SUM(BJ35:BN35) -> 0 | BU35: =SUM(BP35:BT35) -> 0 | CA35: =SUM(BV35:BZ35) -> 0 | CB35: =SUM(BJ35,BP35,BV35) -> 0 | CC35: =SUM(BK35,BQ35,BW35) -> 0 | CD35: =SUM(BL35,BR35,BX35) -> 0 | CE35: =SUM(BM35,BS35,BY35) -> 0 | CF35: =SUM(BN35,BT35,BZ35) -> 0 | CG35: =SUM(CB35:CF35) -> 0 | CI35: 383.9143 | CJ35: 681.22959 | CN35: =SUM(CH35:CM35) -> 1065.1439 | CU35: =SUM(CO35:CT35) -> 0 | DB35: =SUM(CV35:DA35) -> 0 | DD35: 283.37807 | DE35: 333.57351 | DF35: 7.083185 | DI35: =SUM(DC35:DH35) -> 624.03477 | DJ35: =SUM(CH35,CO35,CV35,DC35) -> 0 | DK35: =SUM(CI35,CP35,CW35,DD35) -> 667.29237 | DL35: =SUM(CJ35,CQ35,CX35,DE35) -> 1014.8031 | DM35: =SUM(CK35,CR35,CY35,DF35) -> 7.083185 | DN35: =SUM(CL35,CS35,CZ35,DG35) -> 0 | DO35: =SUM(CM35,CT35,DA35,DH35) -> 0 | DP35: =SUM(DJ35:DO35) -> 1689.1787 | DR35: 5.3173359 | DS35: 101.86414 | DV35: =SUM(DQ35:DU35) -> 107.18148 | EB35: =SUM(DW35:EA35) -> 0 | EE35: 6.3276839 | EF35: 16.132071 | EH35: =SUM(EC35:EG35) -> 22.459755 | EJ35: 14.202663 | EK35: 135.03683 | EN35: =SUM(EI35:EM35) -> 149.23949 | EP35: 5.4684209 | ET35: =SUM(EO35:ES35) -> 5.4684209 | EV35: 402.17538 | EW35: 246.89216 | EX35: 27.674038 | EZ35: =SUM(EU35:EY35) -> 676.74159 | FB35: 103.72528 | FC35: 78.122189 | FF35: =SUM(FA35:FE35) -> 181.84747 | FG35: =SUM(DQ35,DW35,EC35,EI35,EO35,EU35,FA35) -> 0 | FH35: =SUM(DR35,DX35,ED35,EJ35,EP35,EV35,FB35) -> 530.88908 | FI35: =SUM(DS35,DY35,EE35,EK35,EQ35,EW35,FC35) -> 568.243 | FJ35: =SUM(DT35,DZ35,EF35,EL35,ER35,EX35,FD35) -> 43.806109 | FK35: =SUM(DU35,EA35,EG35,EM35,ES35,EY35,FE35) -> 0 | FL35: =SUM(FG35:FK35) -> 1142.9382 | FR35: =SUM(FM35:FQ35) -> 0 | FX35: =SUM(FS35:FW35) -> 0 | GD35: =SUM(FY35:GC35) -> 0 | GJ35: =SUM(GE35:GI35) -> 0 | GP35: =SUM(GK35:GO35) -> 0 | GV35: =SUM(GQ35:GU35) -> 0 | HB35: =SUM(GW35:HA35) -> 0 | HH35: =SUM(HC35:HG35) -> 0 | HI35: =SUM(FM35,FS35,FY35,GE35,GK35,GQ35,GW35,HC35) -> 0 | HJ35: =SUM(FN35,FT35,FZ35,GF35,GL35,GR35,GX35,HD35) -> 0 | HK35: =SUM(HE35,GY35,GS35,GM35,GG35,GA35,FU35,FO35) -> 0 | HL35: =SUM(HF35,GZ35,GT35,GN35,GH35,GB35,FV35,FP35) -> 0 | HM35: =SUM(HG35,HA35,GU35,GO35,GI35,GC35,FW35,FQ35) -> 0 | HN35: =SUM(HI35:HM35) -> 0 | HT35: =SUM(HO35:HS35) -> 0 | HZ35: =SUM(HU35:HY35) -> 0 | IF35: =SUM(IA35:IE35) -> 0 | IG35: =SUM(HO35,HU35,IA35) -> 0 | IH35: =SUM(HP35,HV35,IB35) -> 0 | II35: =SUM(HQ35,HW35,IC35) -> 0 | IJ35: =SUM(HR35,HX35,ID35) -> 0 | IK35: =SUM(HS35,HY35,IE35) -> 0 | IL35: =SUM(IG35:IK35) -> 0 | IR35: =SUM(IM35:IQ35) -> 0 | IX35: =SUM(IS35:IW35) -> 0 | JD35: =SUM(IY35:JC35) -> 0 | JE35: =SUM(IM35,IS35,IY35) -> 0 | JF35: =SUM(IN35,IT35,IZ35) -> 0 | JG35: =SUM(IO35,IU35,JA35) -> 0 | JH35: =SUM(IP35,IV35,JB35) -> 0 | JI35: =SUM(IQ35,IW35,JC35) -> 0 | JJ35: =SUM(JE35:JI35) -> 0 | JL35: =SUM(T35,BD35,CB35,DJ35,FG35,HI35,IG35,JE35) -> 0 | JM35: =SUM(U35,BE35,CC35,DK35,FH35,HJ35,IH35,JF35) -> 1198.1815 | JN35: =SUM(V35,BF35,CD35,DL35,FI35,HK35,II35,JG35) -> 1583.0461 | JO35: =SUM(W35,BG35,CE35,DM35,FJ35,HL35,IJ35,JH35) -> 50.889294 | JP35: =SUM(X35,BH35,CF35,DN35,FK35,HM35,IK35,JI35) -> 0 | JQ35: =SUM(DO35) -> 0 | JR35: =SUM(JL35:JQ35) -> 2832.1169
A36: IDP=Larch Sawfly | G36: =SUM(B36:F36) -> 0 | M36: =SUM(H36:L36) -> 0 | S36: =SUM(N36:R36) -> 0 | T36: =SUM(B36,H36,N36) -> 0 | U36: =SUM(C36,I36,O36) -> 0 | V36: =SUM(D36,J36,P36) -> 0 | W36: =SUM(E36,K36,Q36) -> 0 | X36: =SUM(F36,L36,R36) -> 0 | Y36: =SUM(T36:X36) -> 0 | AE36: =SUM(Z36:AD36) -> 0 | AK36: =SUM(AF36:AJ36) -> 0 | AQ36: =SUM(AL36:AP36) -> 0 | AW36: =SUM(AR36:AV36) -> 0 | BC36: =SUM(AX36:BB36) -> 0 | BD36: =SUM(Z36,AF36,AL36,AR36,AX36) -> 0 | BE36: =SUM(AA36,AG36,AM36,AS36,AY36) -> 0 | BF36: =SUM(AB36,AH36,AN36,AT36,AZ36) -> 0 | BG36: =SUM(AC36,AI36,AO36,AU36,BA36) -> 0 | BH36: =SUM(AD36,AJ36,AP36,AV36,BB36) -> 0 | BI36: =SUM(BD36:BH36) -> 0 | BO36: =SUM(BJ36:BN36) -> 0 | BU36: =SUM(BP36:BT36) -> 0 | CA36: =SUM(BV36:BZ36) -> 0 | CB36: =SUM(BJ36,BP36,BV36) -> 0 | CC36: =SUM(BK36,BQ36,BW36) -> 0 | CD36: =SUM(BL36,BR36,BX36) -> 0 | CE36: =SUM(BM36,BS36,BY36) -> 0 | CF36: =SUM(BN36,BT36,BZ36) -> 0 | CG36: =SUM(CB36:CF36) -> 0 | CN36: =SUM(CH36:CM36) -> 0 | CU36: =SUM(CO36:CT36) -> 0 | DB36: =SUM(CV36:DA36) -> 0 | DI36: =SUM(DC36:DH36) -> 0 | DJ36: =SUM(CH36,CO36,CV36,DC36) -> 0 | DK36: =SUM(CI36,CP36,CW36,DD36) -> 0 | DL36: =SUM(CJ36,CQ36,CX36,DE36) -> 0 | DM36: =SUM(CK36,CR36,CY36,DF36) -> 0 | DN36: =SUM(CL36,CS36,CZ36,DG36) -> 0 | DO36: =SUM(CM36,CT36,DA36,DH36) -> 0 | DP36: =SUM(DJ36:DO36) -> 0 | DV36: =SUM(DQ36:DU36) -> 0 | EB36: =SUM(DW36:EA36) -> 0 | EH36: =SUM(EC36:EG36) -> 0 | EN36: =SUM(EI36:EM36) -> 0 | ET36: =SUM(EO36:ES36) -> 0 | EZ36: =SUM(EU36:EY36) -> 0 | FF36: =SUM(FA36:FE36) -> 0 | FG36: =SUM(DQ36,DW36,EC36,EI36,EO36,EU36,FA36) -> 0 | FH36: =SUM(DR36,DX36,ED36,EJ36,EP36,EV36,FB36) -> 0 | FI36: =SUM(DS36,DY36,EE36,EK36,EQ36,EW36,FC36) -> 0 | FJ36: =SUM(DT36,DZ36,EF36,EL36,ER36,EX36,FD36) -> 0 | FK36: =SUM(DU36,EA36,EG36,EM36,ES36,EY36,FE36) -> 0 | FL36: =SUM(FG36:FK36) -> 0 | FR36: =SUM(FM36:FQ36) -> 0 | FX36: =SUM(FS36:FW36) -> 0 | GD36: =SUM(FY36:GC36) -> 0 | GJ36: =SUM(GE36:GI36) -> 0 | GP36: =SUM(GK36:GO36) -> 0 | GV36: =SUM(GQ36:GU36) -> 0 | HB36: =SUM(GW36:HA36) -> 0 | HH36: =SUM(HC36:HG36) -> 0 | HI36: =SUM(FM36,FS36,FY36,GE36,GK36,GQ36,GW36,HC36) -> 0 | HJ36: =SUM(FN36,FT36,FZ36,GF36,GL36,GR36,GX36,HD36) -> 0 | HK36: =SUM(HE36,GY36,GS36,GM36,GG36,GA36,FU36,FO36) -> 0 | HL36: =SUM(HF36,GZ36,GT36,GN36,GH36,GB36,FV36,FP36) -> 0 | HM36: =SUM(HG36,HA36,GU36,GO36,GI36,GC36,FW36,FQ36) -> 0 | HN36: =SUM(HI36:HM36) -> 0 | HT36: =SUM(HO36:HS36) -> 0 | HZ36: =SUM(HU36:HY36) -> 0 | IF36: =SUM(IA36:IE36) -> 0 | IG36: =SUM(HO36,HU36,IA36) -> 0 | IH36: =SUM(HP36,HV36,IB36) -> 0 | II36: =SUM(HQ36,HW36,IC36) -> 0 | IJ36: =SUM(HR36,HX36,ID36) -> 0 | IK36: =SUM(HS36,HY36,IE36) -> 0 | IL36: =SUM(IG36:IK36) -> 0 | IR36: =SUM(IM36:IQ36) -> 0 | IX36: =SUM(IS36:IW36) -> 0 | JD36: =SUM(IY36:JC36) -> 0 | JE36: =SUM(IM36,IS36,IY36) -> 0 | JF36: =SUM(IN36,IT36,IZ36) -> 0 | JG36: =SUM(IO36,IU36,JA36) -> 0 | JH36: =SUM(IP36,IV36,JB36) -> 0 | JI36: =SUM(IQ36,IW36,JC36) -> 0 | JJ36: =SUM(JE36:JI36) -> 0 | JL36: =SUM(T36,BD36,CB36,DJ36,FG36,HI36,IG36,JE36) -> 0 | JM36: =SUM(U36,BE36,CC36,DK36,FH36,HJ36,IH36,JF36) -> 0 | JN36: =SUM(V36,BF36,CD36,DL36,FI36,HK36,II36,JG36) -> 0 | JO36: =SUM(W36,BG36,CE36,DM36,FJ36,HL36,IJ36,JH36) -> 0 | JP36: =SUM(X36,BH36,CF36,DN36,FK36,HM36,IK36,JI36) -> 0 | JQ36: =SUM(DO36) -> 0 | JR36: =SUM(JL36:JQ36) -> 0
A37: IDR=Alder Sawfly | G37: =SUM(B37:F37) -> 0 | M37: =SUM(H37:L37) -> 0 | S37: =SUM(N37:R37) -> 0 | T37: =SUM(B37,H37,N37) -> 0 | U37: =SUM(C37,I37,O37) -> 0 | V37: =SUM(D37,J37,P37) -> 0 | W37: =SUM(E37,K37,Q37) -> 0 | X37: =SUM(F37,L37,R37) -> 0 | Y37: =SUM(T37:X37) -> 0 | AE37: =SUM(Z37:AD37) -> 0 | AK37: =SUM(AF37:AJ37) -> 0 | AQ37: =SUM(AL37:AP37) -> 0 | AW37: =SUM(AR37:AV37) -> 0 | BC37: =SUM(AX37:BB37) -> 0 | BD37: =SUM(Z37,AF37,AL37,AR37,AX37) -> 0 | BE37: =SUM(AA37,AG37,AM37,AS37,AY37) -> 0 | BF37: =SUM(AB37,AH37,AN37,AT37,AZ37) -> 0 | BG37: =SUM(AC37,AI37,AO37,AU37,BA37) -> 0 | BH37: =SUM(AD37,AJ37,AP37,AV37,BB37) -> 0 | BI37: =SUM(BD37:BH37) -> 0 | BO37: =SUM(BJ37:BN37) -> 0 | BU37: =SUM(BP37:BT37) -> 0 | CA37: =SUM(BV37:BZ37) -> 0 | CB37: =SUM(BJ37,BP37,BV37) -> 0 | CC37: =SUM(BK37,BQ37,BW37) -> 0 | CD37: =SUM(BL37,BR37,BX37) -> 0 | CE37: =SUM(BM37,BS37,BY37) -> 0 | CF37: =SUM(BN37,BT37,BZ37) -> 0 | CG37: =SUM(CB37:CF37) -> 0 | CN37: =SUM(CH37:CM37) -> 0 | CU37: =SUM(CO37:CT37) -> 0 | DB37: =SUM(CV37:DA37) -> 0 | DI37: =SUM(DC37:DH37) -> 0 | DJ37: =SUM(CH37,CO37,CV37,DC37) -> 0 | DK37: =SUM(CI37,CP37,CW37,DD37) -> 0 | DL37: =SUM(CJ37,CQ37,CX37,DE37) -> 0 | DM37: =SUM(CK37,CR37,CY37,DF37) -> 0 | DN37: =SUM(CL37,CS37,CZ37,DG37) -> 0 | DO37: =SUM(CM37,CT37,DA37,DH37) -> 0 | DP37: =SUM(DJ37:DO37) -> 0 | DV37: =SUM(DQ37:DU37) -> 0 | EB37: =SUM(DW37:EA37) -> 0 | EH37: =SUM(EC37:EG37) -> 0 | EN37: =SUM(EI37:EM37) -> 0 | ET37: =SUM(EO37:ES37) -> 0 | EZ37: =SUM(EU37:EY37) -> 0 | FF37: =SUM(FA37:FE37) -> 0 | FG37: =SUM(DQ37,DW37,EC37,EI37,EO37,EU37,FA37) -> 0 | FH37: =SUM(DR37,DX37,ED37,EJ37,EP37,EV37,FB37) -> 0 | FI37: =SUM(DS37,DY37,EE37,EK37,EQ37,EW37,FC37) -> 0 | FJ37: =SUM(DT37,DZ37,EF37,EL37,ER37,EX37,FD37) -> 0 | FK37: =SUM(DU37,EA37,EG37,EM37,ES37,EY37,FE37) -> 0 | FL37: =SUM(FG37:FK37) -> 0 | FR37: =SUM(FM37:FQ37) -> 0 | FX37: =SUM(FS37:FW37) -> 0 | GD37: =SUM(FY37:GC37) -> 0 | GJ37: =SUM(GE37:GI37) -> 0 | GP37: =SUM(GK37:GO37) -> 0 | GV37: =SUM(GQ37:GU37) -> 0 | HB37: =SUM(GW37:HA37) -> 0 | HH37: =SUM(HC37:HG37) -> 0 | HI37: =SUM(FM37,FS37,FY37,GE37,GK37,GQ37,GW37,HC37) -> 0 | HJ37: =SUM(FN37,FT37,FZ37,GF37,GL37,GR37,GX37,HD37) -> 0 | HK37: =SUM(HE37,GY37,GS37,GM37,GG37,GA37,FU37,FO37) -> 0 | HL37: =SUM(HF37,GZ37,GT37,GN37,GH37,GB37,FV37,FP37) -> 0 | HM37: =SUM(HG37,HA37,GU37,GO37,GI37,GC37,FW37,FQ37) -> 0 | HN37: =SUM(HI37:HM37) -> 0 | HT37: =SUM(HO37:HS37) -> 0 | HZ37: =SUM(HU37:HY37) -> 0 | IF37: =SUM(IA37:IE37) -> 0 | IG37: =SUM(HO37,HU37,IA37) -> 0 | IH37: =SUM(HP37,HV37,IB37) -> 0 | II37: =SUM(HQ37,HW37,IC37) -> 0 | IJ37: =SUM(HR37,HX37,ID37) -> 0 | IK37: =SUM(HS37,HY37,IE37) -> 0 | IL37: =SUM(IG37:IK37) -> 0 | IR37: =SUM(IM37:IQ37) -> 0 | IX37: =SUM(IS37:IW37) -> 0 | JD37: =SUM(IY37:JC37) -> 0 | JE37: =SUM(IM37,IS37,IY37) -> 0 | JF37: =SUM(IN37,IT37,IZ37) -> 0 | JG37: =SUM(IO37,IU37,JA37) -> 0 | JH37: =SUM(IP37,IV37,JB37) -> 0 | JI37: =SUM(IQ37,IW37,JC37) -> 0 | JJ37: =SUM(JE37:JI37) -> 0 | JL37: =SUM(T37,BD37,CB37,DJ37,FG37,HI37,IG37,JE37) -> 0 | JM37: =SUM(U37,BE37,CC37,DK37,FH37,HJ37,IH37,JF37) -> 0 | JN37: =SUM(V37,BF37,CD37,DL37,FI37,HK37,II37,JG37) -> 0 | JO37: =SUM(W37,BG37,CE37,DM37,FJ37,HL37,IJ37,JH37) -> 0 | JP37: =SUM(X37,BH37,CF37,DN37,FK37,HM37,IK37,JI37) -> 0 | JQ37: =SUM(DO37) -> 0 | JR37: =SUM(JL37:JQ37) -> 0
A38: IDS=Conifer Sawflies | G38: =SUM(B38:F38) -> 0 | M38: =SUM(H38:L38) -> 0 | S38: =SUM(N38:R38) -> 0 | T38: =SUM(B38,H38,N38) -> 0 | U38: =SUM(C38,I38,O38) -> 0 | V38: =SUM(D38,J38,P38) -> 0 | W38: =SUM(E38,K38,Q38) -> 0 | X38: =SUM(F38,L38,R38) -> 0 | Y38: =SUM(T38:X38) -> 0 | AE38: =SUM(Z38:AD38) -> 0 | AK38: =SUM(AF38:AJ38) -> 0 | AQ38: =SUM(AL38:AP38) -> 0 | AW38: =SUM(AR38:AV38) -> 0 | BC38: =SUM(AX38:BB38) -> 0 | BD38: =SUM(Z38,AF38,AL38,AR38,AX38) -> 0 | BE38: =SUM(AA38,AG38,AM38,AS38,AY38) -> 0 | BF38: =SUM(AB38,AH38,AN38,AT38,AZ38) -> 0 | BG38: =SUM(AC38,AI38,AO38,AU38,BA38) -> 0 | BH38: =SUM(AD38,AJ38,AP38,AV38,BB38) -> 0 | BI38: =SUM(BD38:BH38) -> 0 | BO38: =SUM(BJ38:BN38) -> 0 | BU38: =SUM(BP38:BT38) -> 0 | CA38: =SUM(BV38:BZ38) -> 0 | CB38: =SUM(BJ38,BP38,BV38) -> 0 | CC38: =SUM(BK38,BQ38,BW38) -> 0 | CD38: =SUM(BL38,BR38,BX38) -> 0 | CE38: =SUM(BM38,BS38,BY38) -> 0 | CF38: =SUM(BN38,BT38,BZ38) -> 0 | CG38: =SUM(CB38:CF38) -> 0 | CN38: =SUM(CH38:CM38) -> 0 | CU38: =SUM(CO38:CT38) -> 0 | DB38: =SUM(CV38:DA38) -> 0 | DI38: =SUM(DC38:DH38) -> 0 | DJ38: =SUM(CH38,CO38,CV38,DC38) -> 0 | DK38: =SUM(CI38,CP38,CW38,DD38) -> 0 | DL38: =SUM(CJ38,CQ38,CX38,DE38) -> 0 | DM38: =SUM(CK38,CR38,CY38,DF38) -> 0 | DN38: =SUM(CL38,CS38,CZ38,DG38) -> 0 | DO38: =SUM(CM38,CT38,DA38,DH38) -> 0 | DP38: =SUM(DJ38:DO38) -> 0 | DV38: =SUM(DQ38:DU38) -> 0 | EB38: =SUM(DW38:EA38) -> 0 | EH38: =SUM(EC38:EG38) -> 0 | EN38: =SUM(EI38:EM38) -> 0 | ET38: =SUM(EO38:ES38) -> 0 | EZ38: =SUM(EU38:EY38) -> 0 | FF38: =SUM(FA38:FE38) -> 0 | FG38: =SUM(DQ38,DW38,EC38,EI38,EO38,EU38,FA38) -> 0 | FH38: =SUM(DR38,DX38,ED38,EJ38,EP38,EV38,FB38) -> 0 | FI38: =SUM(DS38,DY38,EE38,EK38,EQ38,EW38,FC38) -> 0 | FJ38: =SUM(DT38,DZ38,EF38,EL38,ER38,EX38,FD38) -> 0 | FK38: =SUM(DU38,EA38,EG38,EM38,ES38,EY38,FE38) -> 0 | FL38: =SUM(FG38:FK38) -> 0 | FR38: =SUM(FM38:FQ38) -> 0 | FX38: =SUM(FS38:FW38) -> 0 | GD38: =SUM(FY38:GC38) -> 0 | GJ38: =SUM(GE38:GI38) -> 0 | GP38: =SUM(GK38:GO38) -> 0 | GV38: =SUM(GQ38:GU38) -> 0 | HB38: =SUM(GW38:HA38) -> 0 | HE38: 3513.7427 | HF38: 2632.7213 | HH38: =SUM(HC38:HG38) -> 6146.464 | HI38: =SUM(FM38,FS38,FY38,GE38,GK38,GQ38,GW38,HC38) -> 0 | HJ38: =SUM(FN38,FT38,FZ38,GF38,GL38,GR38,GX38,HD38) -> 0 | HK38: =SUM(HE38,GY38,GS38,GM38,GG38,GA38,FU38,FO38) -> 3513.7427 | HL38: =SUM(HF38,GZ38,GT38,GN38,GH38,GB38,FV38,FP38) -> 2632.7213 | HM38: =SUM(HG38,HA38,GU38,GO38,GI38,GC38,FW38,FQ38) -> 0 | HN38: =SUM(HI38:HM38) -> 6146.464 | HT38: =SUM(HO38:HS38) -> 0 | HZ38: =SUM(HU38:HY38) -> 0 | IF38: =SUM(IA38:IE38) -> 0 | IG38: =SUM(HO38,HU38,IA38) -> 0 | IH38: =SUM(HP38,HV38,IB38) -> 0 | II38: =SUM(HQ38,HW38,IC38) -> 0 | IJ38: =SUM(HR38,HX38,ID38) -> 0 | IK38: =SUM(HS38,HY38,IE38) -> 0 | IL38: =SUM(IG38:IK38) -> 0 | IR38: =SUM(IM38:IQ38) -> 0 | IX38: =SUM(IS38:IW38) -> 0 | JD38: =SUM(IY38:JC38) -> 0 | JE38: =SUM(IM38,IS38,IY38) -> 0 | JF38: =SUM(IN38,IT38,IZ38) -> 0 | JG38: =SUM(IO38,IU38,JA38) -> 0 | JH38: =SUM(IP38,IV38,JB38) -> 0 | JI38: =SUM(IQ38,IW38,JC38) -> 0 | JJ38: =SUM(JE38:JI38) -> 0 | JL38: =SUM(T38,BD38,CB38,DJ38,FG38,HI38,IG38,JE38) -> 0 | JM38: =SUM(U38,BE38,CC38,DK38,FH38,HJ38,IH38,JF38) -> 0 | JN38: =SUM(V38,BF38,CD38,DL38,FI38,HK38,II38,JG38) -> 3513.7427 | JO38: =SUM(W38,BG38,CE38,DM38,FJ38,HL38,IJ38,JH38) -> 2632.7213 | JP38: =SUM(X38,BH38,CF38,DN38,FK38,HM38,IK38,JI38) -> 0 | JQ38: =SUM(DO38) -> 0 | JR38: =SUM(JL38:JQ38) -> 6146.464
A39: IDT=Douglas-fir Tussock Moth | G39: =SUM(B39:F39) -> 0 | M39: =SUM(H39:L39) -> 0 | S39: =SUM(N39:R39) -> 0 | T39: =SUM(B39,H39,N39) -> 0 | U39: =SUM(C39,I39,O39) -> 0 | V39: =SUM(D39,J39,P39) -> 0 | W39: =SUM(E39,K39,Q39) -> 0 | X39: =SUM(F39,L39,R39) -> 0 | Y39: =SUM(T39:X39) -> 0 | AE39: =SUM(Z39:AD39) -> 0 | AK39: =SUM(AF39:AJ39) -> 0 | AQ39: =SUM(AL39:AP39) -> 0 | AW39: =SUM(AR39:AV39) -> 0 | BC39: =SUM(AX39:BB39) -> 0 | BD39: =SUM(Z39,AF39,AL39,AR39,AX39) -> 0 | BE39: =SUM(AA39,AG39,AM39,AS39,AY39) -> 0 | BF39: =SUM(AB39,AH39,AN39,AT39,AZ39) -> 0 | BG39: =SUM(AC39,AI39,AO39,AU39,BA39) -> 0 | BH39: =SUM(AD39,AJ39,AP39,AV39,BB39) -> 0 | BI39: =SUM(BD39:BH39) -> 0 | BO39: =SUM(BJ39:BN39) -> 0 | BU39: =SUM(BP39:BT39) -> 0 | CA39: =SUM(BV39:BZ39) -> 0 | CB39: =SUM(BJ39,BP39,BV39) -> 0 | CC39: =SUM(BK39,BQ39,BW39) -> 0 | CD39: =SUM(BL39,BR39,BX39) -> 0 | CE39: =SUM(BM39,BS39,BY39) -> 0 | CF39: =SUM(BN39,BT39,BZ39) -> 0 | CG39: =SUM(CB39:CF39) -> 0 | CI39: 2.1931801 | CJ39: 21.758264 | CK39: 25.520029 | CM39: 1970.4568 | CN39: =SUM(CH39:CM39) -> 2019.9283 | CP39: 27.369147 | CQ39: 10.519054 | CT39: 86.335081 | CU39: =SUM(CO39:CT39) -> 124.22328 | DB39: =SUM(CV39:DA39) -> 0 | DI39: =SUM(DC39:DH39) -> 0 | DJ39: =SUM(CH39,CO39,CV39,DC39) -> 0 | DK39: =SUM(CI39,CP39,CW39,DD39) -> 29.562327 | DL39: =SUM(CJ39,CQ39,CX39,DE39) -> 32.277318 | DM39: =SUM(CK39,CR39,CY39,DF39) -> 25.520029 | DN39: =SUM(CL39,CS39,CZ39,DG39) -> 0 | DO39: =SUM(CM39,CT39,DA39,DH39) -> 2056.7919 | DP39: =SUM(DJ39:DO39) -> 2144.1516 | DV39: =SUM(DQ39:DU39) -> 0 | EB39: =SUM(DW39:EA39) -> 0 | EH39: =SUM(EC39:EG39) -> 0 | EN39: =SUM(EI39:EM39) -> 0 | ET39: =SUM(EO39:ES39) -> 0 | EZ39: =SUM(EU39:EY39) -> 0 | FF39: =SUM(FA39:FE39) -> 0 | FG39: =SUM(DQ39,DW39,EC39,EI39,EO39,EU39,FA39) -> 0 | FH39: =SUM(DR39,DX39,ED39,EJ39,EP39,EV39,FB39) -> 0 | FI39: =SUM(DS39,DY39,EE39,EK39,EQ39,EW39,FC39) -> 0 | FJ39: =SUM(DT39,DZ39,EF39,EL39,ER39,EX39,FD39) -> 0 | FK39: =SUM(DU39,EA39,EG39,EM39,ES39,EY39,FE39) -> 0 | FL39: =SUM(FG39:FK39) -> 0 | FR39: =SUM(FM39:FQ39) -> 0 | FX39: =SUM(FS39:FW39) -> 0 | GD39: =SUM(FY39:GC39) -> 0 | GJ39: =SUM(GE39:GI39) -> 0 | GP39: =SUM(GK39:GO39) -> 0 | GV39: =SUM(GQ39:GU39) -> 0 | HB39: =SUM(GW39:HA39) -> 0 | HH39: =SUM(HC39:HG39) -> 0 | HI39: =SUM(FM39,FS39,FY39,GE39,GK39,GQ39,GW39,HC39) -> 0 | HJ39: =SUM(FN39,FT39,FZ39,GF39,GL39,GR39,GX39,HD39) -> 0 | HK39: =SUM(HE39,GY39,GS39,GM39,GG39,GA39,FU39,FO39) -> 0 | HL39: =SUM(HF39,GZ39,GT39,GN39,GH39,GB39,FV39,FP39) -> 0 | HM39: =SUM(HG39,HA39,GU39,GO39,GI39,GC39,FW39,FQ39) -> 0 | HN39: =SUM(HI39:HM39) -> 0 | HT39: =SUM(HO39:HS39) -> 0 | HZ39: =SUM(HU39:HY39) -> 0 | IF39: =SUM(IA39:IE39) -> 0 | IG39: =SUM(HO39,HU39,IA39) -> 0 | IH39: =SUM(HP39,HV39,IB39) -> 0 | II39: =SUM(HQ39,HW39,IC39) -> 0 | IJ39: =SUM(HR39,HX39,ID39) -> 0 | IK39: =SUM(HS39,HY39,IE39) -> 0 | IL39: =SUM(IG39:IK39) -> 0 | IR39: =SUM(IM39:IQ39) -> 0 | IX39: =SUM(IS39:IW39) -> 0 | JD39: =SUM(IY39:JC39) -> 0 | JE39: =SUM(IM39,IS39,IY39) -> 0 | JF39: =SUM(IN39,IT39,IZ39) -> 0 | JG39: =SUM(IO39,IU39,JA39) -> 0 | JH39: =SUM(IP39,IV39,JB39) -> 0 | JI39: =SUM(IQ39,IW39,JC39) -> 0 | JJ39: =SUM(JE39:JI39) -> 0 | JL39: =SUM(T39,BD39,CB39,DJ39,FG39,HI39,IG39,JE39) -> 0 | JM39: =SUM(U39,BE39,CC39,DK39,FH39,HJ39,IH39,JF39) -> 29.562327 | JN39: =SUM(V39,BF39,CD39,DL39,FI39,HK39,II39,JG39) -> 32.277318 | JO39: =SUM(W39,BG39,CE39,DM39,FJ39,HL39,IJ39,JH39) -> 25.520029 | JP39: =SUM(X39,BH39,CF39,DN39,FK39,HM39,IK39,JI39) -> 0 | JQ39: =SUM(DO39) -> 2056.7919 | JR39: =SUM(JL39:JQ39) -> 2144.1516
A40: IDU=Satin Moth | G40: =SUM(B40:F40) -> 0 | M40: =SUM(H40:L40) -> 0 | S40: =SUM(N40:R40) -> 0 | T40: =SUM(B40,H40,N40) -> 0 | U40: =SUM(C40,I40,O40) -> 0 | V40: =SUM(D40,J40,P40) -> 0 | W40: =SUM(E40,K40,Q40) -> 0 | X40: =SUM(F40,L40,R40) -> 0 | Y40: =SUM(T40:X40) -> 0 | AE40: =SUM(Z40:AD40) -> 0 | AK40: =SUM(AF40:AJ40) -> 0 | AQ40: =SUM(AL40:AP40) -> 0 | AW40: =SUM(AR40:AV40) -> 0 | BC40: =SUM(AX40:BB40) -> 0 | BD40: =SUM(Z40,AF40,AL40,AR40,AX40) -> 0 | BE40: =SUM(AA40,AG40,AM40,AS40,AY40) -> 0 | BF40: =SUM(AB40,AH40,AN40,AT40,AZ40) -> 0 | BG40: =SUM(AC40,AI40,AO40,AU40,BA40) -> 0 | BH40: =SUM(AD40,AJ40,AP40,AV40,BB40) -> 0 | BI40: =SUM(BD40:BH40) -> 0 | BO40: =SUM(BJ40:BN40) -> 0 | BU40: =SUM(BP40:BT40) -> 0 | CA40: =SUM(BV40:BZ40) -> 0 | CB40: =SUM(BJ40,BP40,BV40) -> 0 | CC40: =SUM(BK40,BQ40,BW40) -> 0 | CD40: =SUM(BL40,BR40,BX40) -> 0 | CE40: =SUM(BM40,BS40,BY40) -> 0 | CF40: =SUM(BN40,BT40,BZ40) -> 0 | CG40: =SUM(CB40:CF40) -> 0 | CN40: =SUM(CH40:CM40) -> 0 | CU40: =SUM(CO40:CT40) -> 0 | CX40: 60.073674 | DB40: =SUM(CV40:DA40) -> 60.073674 | DE40: 5.5091133 | DF40: 36.631628 | DI40: =SUM(DC40:DH40) -> 42.140741 | DJ40: =SUM(CH40,CO40,CV40,DC40) -> 0 | DK40: =SUM(CI40,CP40,CW40,DD40) -> 0 | DL40: =SUM(CJ40,CQ40,CX40,DE40) -> 65.582787 | DM40: =SUM(CK40,CR40,CY40,DF40) -> 36.631628 | DN40: =SUM(CL40,CS40,CZ40,DG40) -> 0 | DO40: =SUM(CM40,CT40,DA40,DH40) -> 0 | DP40: =SUM(DJ40:DO40) -> 102.21441 | DV40: =SUM(DQ40:DU40) -> 0 | EB40: =SUM(DW40:EA40) -> 0 | EH40: =SUM(EC40:EG40) -> 0 | EN40: =SUM(EI40:EM40) -> 0 | ET40: =SUM(EO40:ES40) -> 0 | EZ40: =SUM(EU40:EY40) -> 0 | FF40: =SUM(FA40:FE40) -> 0 | FG40: =SUM(DQ40,DW40,EC40,EI40,EO40,EU40,FA40) -> 0 | FH40: =SUM(DR40,DX40,ED40,EJ40,EP40,EV40,FB40) -> 0 | FI40: =SUM(DS40,DY40,EE40,EK40,EQ40,EW40,FC40) -> 0 | FJ40: =SUM(DT40,DZ40,EF40,EL40,ER40,EX40,FD40) -> 0 | FK40: =SUM(DU40,EA40,EG40,EM40,ES40,EY40,FE40) -> 0 | FL40: =SUM(FG40:FK40) -> 0 | FR40: =SUM(FM40:FQ40) -> 0 | FX40: =SUM(FS40:FW40) -> 0 | GD40: =SUM(FY40:GC40) -> 0 | GJ40: =SUM(GE40:GI40) -> 0 | GP40: =SUM(GK40:GO40) -> 0 | GV40: =SUM(GQ40:GU40) -> 0 | HB40: =SUM(GW40:HA40) -> 0 | HH40: =SUM(HC40:HG40) -> 0 | HI40: =SUM(FM40,FS40,FY40,GE40,GK40,GQ40,GW40,HC40) -> 0 | HJ40: =SUM(FN40,FT40,FZ40,GF40,GL40,GR40,GX40,HD40) -> 0 | HK40: =SUM(HE40,GY40,GS40,GM40,GG40,GA40,FU40,FO40) -> 0 | HL40: =SUM(HF40,GZ40,GT40,GN40,GH40,GB40,FV40,FP40) -> 0 | HM40: =SUM(HG40,HA40,GU40,GO40,GI40,GC40,FW40,FQ40) -> 0 | HN40: =SUM(HI40:HM40) -> 0 | HT40: =SUM(HO40:HS40) -> 0 | HZ40: =SUM(HU40:HY40) -> 0 | IF40: =SUM(IA40:IE40) -> 0 | IG40: =SUM(HO40,HU40,IA40) -> 0 | IH40: =SUM(HP40,HV40,IB40) -> 0 | II40: =SUM(HQ40,HW40,IC40) -> 0 | IJ40: =SUM(HR40,HX40,ID40) -> 0 | IK40: =SUM(HS40,HY40,IE40) -> 0 | IL40: =SUM(IG40:IK40) -> 0 | IR40: =SUM(IM40:IQ40) -> 0 | IX40: =SUM(IS40:IW40) -> 0 | JD40: =SUM(IY40:JC40) -> 0 | JE40: =SUM(IM40,IS40,IY40) -> 0 | JF40: =SUM(IN40,IT40,IZ40) -> 0 | JG40: =SUM(IO40,IU40,JA40) -> 0 | JH40: =SUM(IP40,IV40,JB40) -> 0 | JI40: =SUM(IQ40,IW40,JC40) -> 0 | JJ40: =SUM(JE40:JI40) -> 0 | JL40: =SUM(T40,BD40,CB40,DJ40,FG40,HI40,IG40,JE40) -> 0 | JM40: =SUM(U40,BE40,CC40,DK40,FH40,HJ40,IH40,JF40) -> 0 | JN40: =SUM(V40,BF40,CD40,DL40,FI40,HK40,II40,JG40) -> 65.582787 | JO40: =SUM(W40,BG40,CE40,DM40,FJ40,HL40,IJ40,JH40) -> 36.631628 | JP40: =SUM(X40,BH40,CF40,DN40,FK40,HM40,IK40,JI40) -> 0 | JQ40: =SUM(DO40) -> 0 | JR40: =SUM(JL40:JQ40) -> 102.21441
A41: IDW=Western Spruce Budworm | C41: 1366.9714 | D41: 153.32851 | G41: =SUM(B41:F41) -> 1520.2999 | I41: 49.209134 | J41: 43.802533 | M41: =SUM(H41:L41) -> 93.011668 | S41: =SUM(N41:R41) -> 0 | T41: =SUM(B41,H41,N41) -> 0 | U41: =SUM(C41,I41,O41) -> 1416.1805 | V41: =SUM(D41,J41,P41) -> 197.13104 | W41: =SUM(E41,K41,Q41) -> 0 | X41: =SUM(F41,L41,R41) -> 0 | Y41: =SUM(T41:X41) -> 1613.3116 | AE41: =SUM(Z41:AD41) -> 0 | AK41: =SUM(AF41:AJ41) -> 0 | AQ41: =SUM(AL41:AP41) -> 0 | AW41: =SUM(AR41:AV41) -> 0 | BC41: =SUM(AX41:BB41) -> 0 | BD41: =SUM(Z41,AF41,AL41,AR41,AX41) -> 0 | BE41: =SUM(AA41,AG41,AM41,AS41,AY41) -> 0 | BF41: =SUM(AB41,AH41,AN41,AT41,AZ41) -> 0 | BG41: =SUM(AC41,AI41,AO41,AU41,BA41) -> 0 | BH41: =SUM(AD41,AJ41,AP41,AV41,BB41) -> 0 | BI41: =SUM(BD41:BH41) -> 0 | BK41: 43230.279 | BL41: 4874.3119 | BO41: =SUM(BJ41:BN41) -> 48104.591 | BQ41: 829.62652 | BU41: =SUM(BP41:BT41) -> 829.62652 | BW41: 73108.013 | BX41: 6508.892 | CA41: =SUM(BV41:BZ41) -> 79616.905 | CB41: =SUM(BJ41,BP41,BV41) -> 0 | CC41: =SUM(BK41,BQ41,BW41) -> 117167.92 | CD41: =SUM(BL41,BR41,BX41) -> 11383.204 | CE41: =SUM(BM41,BS41,BY41) -> 0 | CF41: =SUM(BN41,BT41,BZ41) -> 0 | CG41: =SUM(CB41:CF41) -> 128551.12 | CI41: 25779.601 | CJ41: 12297.907 | CK41: 298.15429 | CN41: =SUM(CH41:CM41) -> 38375.662 | CP41: 15608.008 | CQ41: 18370.927 | CR41: 464.15694 | CU41: =SUM(CO41:CT41) -> 34443.091 | CW41: 58012.24 | CX41: 33259.038 | CY41: 523.64333 | DB41: =SUM(CV41:DA41) -> 91794.921 | DD41: 75988.581 | DE41: 32837.667 | DF41: 1336.016 | DI41: =SUM(DC41:DH41) -> 110162.26 | DJ41: =SUM(CH41,CO41,CV41,DC41) -> 0 | DK41: =SUM(CI41,CP41,CW41,DD41) -> 175388.43 | DL41: =SUM(CJ41,CQ41,CX41,DE41) -> 96765.538 | DM41: =SUM(CK41,CR41,CY41,DF41) -> 2621.9705 | DN41: =SUM(CL41,CS41,CZ41,DG41) -> 0 | DO41: =SUM(CM41,CT41,DA41,DH41) -> 0 | DP41: =SUM(DJ41:DO41) -> 274775.94 | DV41: =SUM(DQ41:DU41) -> 0 | DX41: 20165.968 | DY41: 15670.667 | DZ41: 7227.6832 | EB41: =SUM(DW41:EA41) -> 43064.318 | ED41: 2604.9282 | EE41: 4178.7959 | EF41: 198.4334 | EH41: =SUM(EC41:EG41) -> 6982.1575 | EL41: 33.681942 | EN41: =SUM(EI41:EM41) -> 33.681942 | EQ41: 21.437076 | ET41: =SUM(EO41:ES41) -> 21.437076 | EZ41: =SUM(EU41:EY41) -> 0 | FB41: 674.94264 | FC41: 912.22492 | FD41: 115.60984 | FF41: =SUM(FA41:FE41) -> 1702.7774 | FG41: =SUM(DQ41,DW41,EC41,EI41,EO41,EU41,FA41) -> 0 | FH41: =SUM(DR41,DX41,ED41,EJ41,EP41,EV41,FB41) -> 23445.839 | FI41: =SUM(DS41,DY41,EE41,EK41,EQ41,EW41,FC41) -> 20783.125 | FJ41: =SUM(DT41,DZ41,EF41,EL41,ER41,EX41,FD41) -> 7575.4084 | FK41: =SUM(DU41,EA41,EG41,EM41,ES41,EY41,FE41) -> 0 | FL41: =SUM(FG41:FK41) -> 51804.372 | FR41: =SUM(FM41:FQ41) -> 0 | FX41: =SUM(FS41:FW41) -> 0 | GD41: =SUM(FY41:GC41) -> 0 | GJ41: =SUM(GE41:GI41) -> 0 | GP41: =SUM(GK41:GO41) -> 0 | GV41: =SUM(GQ41:GU41) -> 0 | HB41: =SUM(GW41:HA41) -> 0 | HH41: =SUM(HC41:HG41) -> 0 | HI41: =SUM(FM41,FS41,FY41,GE41,GK41,GQ41,GW41,HC41) -> 0 | HJ41: =SUM(FN41,FT41,FZ41,GF41,GL41,GR41,GX41,HD41) -> 0 | HK41: =SUM(HE41,GY41,GS41,GM41,GG41,GA41,FU41,FO41) -> 0 | HL41: =SUM(HF41,GZ41,GT41,GN41,GH41,GB41,FV41,FP41) -> 0 | HM41: =SUM(HG41,HA41,GU41,GO41,GI41,GC41,FW41,FQ41) -> 0 | HN41: =SUM(HI41:HM41) -> 0 | HT41: =SUM(HO41:HS41) -> 0 | HZ41: =SUM(HU41:HY41) -> 0 | IF41: =SUM(IA41:IE41) -> 0 | IG41: =SUM(HO41,HU41,IA41) -> 0 | IH41: =SUM(HP41,HV41,IB41) -> 0 | II41: =SUM(HQ41,HW41,IC41) -> 0 | IJ41: =SUM(HR41,HX41,ID41) -> 0 | IK41: =SUM(HS41,HY41,IE41) -> 0 | IL41: =SUM(IG41:IK41) -> 0 | IR41: =SUM(IM41:IQ41) -> 0 | IX41: =SUM(IS41:IW41) -> 0 | JD41: =SUM(IY41:JC41) -> 0 | JE41: =SUM(IM41,IS41,IY41) -> 0 | JF41: =SUM(IN41,IT41,IZ41) -> 0 | JG41: =SUM(IO41,IU41,JA41) -> 0 | JH41: =SUM(IP41,IV41,JB41) -> 0 | JI41: =SUM(IQ41,IW41,JC41) -> 0 | JJ41: =SUM(JE41:JI41) -> 0 | JL41: =SUM(T41,BD41,CB41,DJ41,FG41,HI41,IG41,JE41) -> 0 | JM41: =SUM(U41,BE41,CC41,DK41,FH41,HJ41,IH41,JF41) -> 317418.37 | JN41: =SUM(V41,BF41,CD41,DL41,FI41,HK41,II41,JG41) -> 129129 | JO41: =SUM(W41,BG41,CE41,DM41,FJ41,HL41,IJ41,JH41) -> 10197.379 | JP41: =SUM(X41,BH41,CF41,DN41,FK41,HM41,IK41,JI41) -> 0 | JQ41: =SUM(DO41) -> 0 | JR41: =SUM(JL41:JQ41) -> 456744.74
A42: IDX=Large Aspen Tortrix | G42: =SUM(B42:F42) -> 0 | M42: =SUM(H42:L42) -> 0 | S42: =SUM(N42:R42) -> 0 | T42: =SUM(B42,H42,N42) -> 0 | U42: =SUM(C42,I42,O42) -> 0 | V42: =SUM(D42,J42,P42) -> 0 | W42: =SUM(E42,K42,Q42) -> 0 | X42: =SUM(F42,L42,R42) -> 0 | Y42: =SUM(T42:X42) -> 0 | AE42: =SUM(Z42:AD42) -> 0 | AK42: =SUM(AF42:AJ42) -> 0 | AQ42: =SUM(AL42:AP42) -> 0 | AW42: =SUM(AR42:AV42) -> 0 | BC42: =SUM(AX42:BB42) -> 0 | BD42: =SUM(Z42,AF42,AL42,AR42,AX42) -> 0 | BE42: =SUM(AA42,AG42,AM42,AS42,AY42) -> 0 | BF42: =SUM(AB42,AH42,AN42,AT42,AZ42) -> 0 | BG42: =SUM(AC42,AI42,AO42,AU42,BA42) -> 0 | BH42: =SUM(AD42,AJ42,AP42,AV42,BB42) -> 0 | BI42: =SUM(BD42:BH42) -> 0 | BO42: =SUM(BJ42:BN42) -> 0 | BU42: =SUM(BP42:BT42) -> 0 | CA42: =SUM(BV42:BZ42) -> 0 | CB42: =SUM(BJ42,BP42,BV42) -> 0 | CC42: =SUM(BK42,BQ42,BW42) -> 0 | CD42: =SUM(BL42,BR42,BX42) -> 0 | CE42: =SUM(BM42,BS42,BY42) -> 0 | CF42: =SUM(BN42,BT42,BZ42) -> 0 | CG42: =SUM(CB42:CF42) -> 0 | CN42: =SUM(CH42:CM42) -> 0 | CU42: =SUM(CO42:CT42) -> 0 | DB42: =SUM(CV42:DA42) -> 0 | DI42: =SUM(DC42:DH42) -> 0 | DJ42: =SUM(CH42,CO42,CV42,DC42) -> 0 | DK42: =SUM(CI42,CP42,CW42,DD42) -> 0 | DL42: =SUM(CJ42,CQ42,CX42,DE42) -> 0 | DM42: =SUM(CK42,CR42,CY42,DF42) -> 0 | DN42: =SUM(CL42,CS42,CZ42,DG42) -> 0 | DO42: =SUM(CM42,CT42,DA42,DH42) -> 0 | DP42: =SUM(DJ42:DO42) -> 0 | DV42: =SUM(DQ42:DU42) -> 0 | EB42: =SUM(DW42:EA42) -> 0 | EH42: =SUM(EC42:EG42) -> 0 | EN42: =SUM(EI42:EM42) -> 0 | ET42: =SUM(EO42:ES42) -> 0 | EZ42: =SUM(EU42:EY42) -> 0 | FF42: =SUM(FA42:FE42) -> 0 | FG42: =SUM(DQ42,DW42,EC42,EI42,EO42,EU42,FA42) -> 0 | FH42: =SUM(DR42,DX42,ED42,EJ42,EP42,EV42,FB42) -> 0 | FI42: =SUM(DS42,DY42,EE42,EK42,EQ42,EW42,FC42) -> 0 | FJ42: =SUM(DT42,DZ42,EF42,EL42,ER42,EX42,FD42) -> 0 | FK42: =SUM(DU42,EA42,EG42,EM42,ES42,EY42,FE42) -> 0 | FL42: =SUM(FG42:FK42) -> 0 | FR42: =SUM(FM42:FQ42) -> 0 | FX42: =SUM(FS42:FW42) -> 0 | GD42: =SUM(FY42:GC42) -> 0 | GJ42: =SUM(GE42:GI42) -> 0 | GP42: =SUM(GK42:GO42) -> 0 | GV42: =SUM(GQ42:GU42) -> 0 | HB42: =SUM(GW42:HA42) -> 0 | HH42: =SUM(HC42:HG42) -> 0 | HI42: =SUM(FM42,FS42,FY42,GE42,GK42,GQ42,GW42,HC42) -> 0 | HJ42: =SUM(FN42,FT42,FZ42,GF42,GL42,GR42,GX42,HD42) -> 0 | HK42: =SUM(HE42,GY42,GS42,GM42,GG42,GA42,FU42,FO42) -> 0 | HL42: =SUM(HF42,GZ42,GT42,GN42,GH42,GB42,FV42,FP42) -> 0 | HM42: =SUM(HG42,HA42,GU42,GO42,GI42,GC42,FW42,FQ42) -> 0 | HN42: =SUM(HI42:HM42) -> 0 | HT42: =SUM(HO42:HS42) -> 0 | HZ42: =SUM(HU42:HY42) -> 0 | IF42: =SUM(IA42:IE42) -> 0 | IG42: =SUM(HO42,HU42,IA42) -> 0 | IH42: =SUM(HP42,HV42,IB42) -> 0 | II42: =SUM(HQ42,HW42,IC42) -> 0 | IJ42: =SUM(HR42,HX42,ID42) -> 0 | IK42: =SUM(HS42,HY42,IE42) -> 0 | IL42: =SUM(IG42:IK42) -> 0 | IR42: =SUM(IM42:IQ42) -> 0 | IU42: 575.09231 | IX42: =SUM(IS42:IW42) -> 575.09231 | JD42: =SUM(IY42:JC42) -> 0 | JE42: =SUM(IM42,IS42,IY42) -> 0 | JF42: =SUM(IN42,IT42,IZ42) -> 0 | JG42: =SUM(IO42,IU42,JA42) -> 575.09231 | JH42: =SUM(IP42,IV42,JB42) -> 0 | JI42: =SUM(IQ42,IW42,JC42) -> 0 | JJ42: =SUM(JE42:JI42) -> 575.09231 | JL42: =SUM(T42,BD42,CB42,DJ42,FG42,HI42,IG42,JE42) -> 0 | JM42: =SUM(U42,BE42,CC42,DK42,FH42,HJ42,IH42,JF42) -> 0 | JN42: =SUM(V42,BF42,CD42,DL42,FI42,HK42,II42,JG42) -> 575.09231 | JO42: =SUM(W42,BG42,CE42,DM42,FJ42,HL42,IJ42,JH42) -> 0 | JP42: =SUM(X42,BH42,CF42,DN42,FK42,HM42,IK42,JI42) -> 0 | JQ42: =SUM(DO42) -> 0 | JR42: =SUM(JL42:JQ42) -> 575.09231
A43: IDZ=False Hemlock Looper | G43: =SUM(B43:F43) -> 0 | M43: =SUM(H43:L43) -> 0 | S43: =SUM(N43:R43) -> 0 | T43: =SUM(B43,H43,N43) -> 0 | U43: =SUM(C43,I43,O43) -> 0 | V43: =SUM(D43,J43,P43) -> 0 | W43: =SUM(E43,K43,Q43) -> 0 | X43: =SUM(F43,L43,R43) -> 0 | Y43: =SUM(T43:X43) -> 0 | AE43: =SUM(Z43:AD43) -> 0 | AK43: =SUM(AF43:AJ43) -> 0 | AQ43: =SUM(AL43:AP43) -> 0 | AW43: =SUM(AR43:AV43) -> 0 | BC43: =SUM(AX43:BB43) -> 0 | BD43: =SUM(Z43,AF43,AL43,AR43,AX43) -> 0 | BE43: =SUM(AA43,AG43,AM43,AS43,AY43) -> 0 | BF43: =SUM(AB43,AH43,AN43,AT43,AZ43) -> 0 | BG43: =SUM(AC43,AI43,AO43,AU43,BA43) -> 0 | BH43: =SUM(AD43,AJ43,AP43,AV43,BB43) -> 0 | BI43: =SUM(BD43:BH43) -> 0 | BO43: =SUM(BJ43:BN43) -> 0 | BU43: =SUM(BP43:BT43) -> 0 | CA43: =SUM(BV43:BZ43) -> 0 | CB43: =SUM(BJ43,BP43,BV43) -> 0 | CC43: =SUM(BK43,BQ43,BW43) -> 0 | CD43: =SUM(BL43,BR43,BX43) -> 0 | CE43: =SUM(BM43,BS43,BY43) -> 0 | CF43: =SUM(BN43,BT43,BZ43) -> 0 | CG43: =SUM(CB43:CF43) -> 0 | CN43: =SUM(CH43:CM43) -> 0 | CU43: =SUM(CO43:CT43) -> 0 | DB43: =SUM(CV43:DA43) -> 0 | DI43: =SUM(DC43:DH43) -> 0 | DJ43: =SUM(CH43,CO43,CV43,DC43) -> 0 | DK43: =SUM(CI43,CP43,CW43,DD43) -> 0 | DL43: =SUM(CJ43,CQ43,CX43,DE43) -> 0 | DM43: =SUM(CK43,CR43,CY43,DF43) -> 0 | DN43: =SUM(CL43,CS43,CZ43,DG43) -> 0 | DO43: =SUM(CM43,CT43,DA43,DH43) -> 0 | DP43: =SUM(DJ43:DO43) -> 0 | DV43: =SUM(DQ43:DU43) -> 0 | EB43: =SUM(DW43:EA43) -> 0 | EH43: =SUM(EC43:EG43) -> 0 | EN43: =SUM(EI43:EM43) -> 0 | ET43: =SUM(EO43:ES43) -> 0 | EZ43: =SUM(EU43:EY43) -> 0 | FF43: =SUM(FA43:FE43) -> 0 | FG43: =SUM(DQ43,DW43,EC43,EI43,EO43,EU43,FA43) -> 0 | FH43: =SUM(DR43,DX43,ED43,EJ43,EP43,EV43,FB43) -> 0 | FI43: =SUM(DS43,DY43,EE43,EK43,EQ43,EW43,FC43) -> 0 | FJ43: =SUM(DT43,DZ43,EF43,EL43,ER43,EX43,FD43) -> 0 | FK43: =SUM(DU43,EA43,EG43,EM43,ES43,EY43,FE43) -> 0 | FL43: =SUM(FG43:FK43) -> 0 | FR43: =SUM(FM43:FQ43) -> 0 | FX43: =SUM(FS43:FW43) -> 0 | GD43: =SUM(FY43:GC43) -> 0 | GJ43: =SUM(GE43:GI43) -> 0 | GP43: =SUM(GK43:GO43) -> 0 | GV43: =SUM(GQ43:GU43) -> 0 | HB43: =SUM(GW43:HA43) -> 0 | HH43: =SUM(HC43:HG43) -> 0 | HI43: =SUM(FM43,FS43,FY43,GE43,GK43,GQ43,GW43,HC43) -> 0 | HJ43: =SUM(FN43,FT43,FZ43,GF43,GL43,GR43,GX43,HD43) -> 0 | HK43: =SUM(HE43,GY43,GS43,GM43,GG43,GA43,FU43,FO43) -> 0 | HL43: =SUM(HF43,GZ43,GT43,GN43,GH43,GB43,FV43,FP43) -> 0 | HM43: =SUM(HG43,HA43,GU43,GO43,GI43,GC43,FW43,FQ43) -> 0 | HN43: =SUM(HI43:HM43) -> 0 | HT43: =SUM(HO43:HS43) -> 0 | HZ43: =SUM(HU43:HY43) -> 0 | IF43: =SUM(IA43:IE43) -> 0 | IG43: =SUM(HO43,HU43,IA43) -> 0 | IH43: =SUM(HP43,HV43,IB43) -> 0 | II43: =SUM(HQ43,HW43,IC43) -> 0 | IJ43: =SUM(HR43,HX43,ID43) -> 0 | IK43: =SUM(HS43,HY43,IE43) -> 0 | IL43: =SUM(IG43:IK43) -> 0 | IR43: =SUM(IM43:IQ43) -> 0 | IX43: =SUM(IS43:IW43) -> 0 | JD43: =SUM(IY43:JC43) -> 0 | JE43: =SUM(IM43,IS43,IY43) -> 0 | JF43: =SUM(IN43,IT43,IZ43) -> 0 | JG43: =SUM(IO43,IU43,JA43) -> 0 | JH43: =SUM(IP43,IV43,JB43) -> 0 | JI43: =SUM(IQ43,IW43,JC43) -> 0 | JJ43: =SUM(JE43:JI43) -> 0 | JL43: =SUM(T43,BD43,CB43,DJ43,FG43,HI43,IG43,JE43) -> 0 | JM43: =SUM(U43,BE43,CC43,DK43,FH43,HJ43,IH43,JF43) -> 0 | JN43: =SUM(V43,BF43,CD43,DL43,FI43,HK43,II43,JG43) -> 0 | JO43: =SUM(W43,BG43,CE43,DM43,FJ43,HL43,IJ43,JH43) -> 0 | JP43: =SUM(X43,BH43,CF43,DN43,FK43,HM43,IK43,JI43) -> 0 | JQ43: =SUM(DO43) -> 0 | JR43: =SUM(JL43:JQ43) -> 0
A44: IEB=Hemlock Sawfly | G44: =SUM(B44:F44) -> 0 | M44: =SUM(H44:L44) -> 0 | S44: =SUM(N44:R44) -> 0 | T44: =SUM(B44,H44,N44) -> 0 | U44: =SUM(C44,I44,O44) -> 0 | V44: =SUM(D44,J44,P44) -> 0 | W44: =SUM(E44,K44,Q44) -> 0 | X44: =SUM(F44,L44,R44) -> 0 | Y44: =SUM(T44:X44) -> 0 | AE44: =SUM(Z44:AD44) -> 0 | AK44: =SUM(AF44:AJ44) -> 0 | AQ44: =SUM(AL44:AP44) -> 0 | AW44: =SUM(AR44:AV44) -> 0 | BC44: =SUM(AX44:BB44) -> 0 | BD44: =SUM(Z44,AF44,AL44,AR44,AX44) -> 0 | BE44: =SUM(AA44,AG44,AM44,AS44,AY44) -> 0 | BF44: =SUM(AB44,AH44,AN44,AT44,AZ44) -> 0 | BG44: =SUM(AC44,AI44,AO44,AU44,BA44) -> 0 | BH44: =SUM(AD44,AJ44,AP44,AV44,BB44) -> 0 | BI44: =SUM(BD44:BH44) -> 0 | BO44: =SUM(BJ44:BN44) -> 0 | BU44: =SUM(BP44:BT44) -> 0 | CA44: =SUM(BV44:BZ44) -> 0 | CB44: =SUM(BJ44,BP44,BV44) -> 0 | CC44: =SUM(BK44,BQ44,BW44) -> 0 | CD44: =SUM(BL44,BR44,BX44) -> 0 | CE44: =SUM(BM44,BS44,BY44) -> 0 | CF44: =SUM(BN44,BT44,BZ44) -> 0 | CG44: =SUM(CB44:CF44) -> 0 | CN44: =SUM(CH44:CM44) -> 0 | CU44: =SUM(CO44:CT44) -> 0 | DB44: =SUM(CV44:DA44) -> 0 | DI44: =SUM(DC44:DH44) -> 0 | DJ44: =SUM(CH44,CO44,CV44,DC44) -> 0 | DK44: =SUM(CI44,CP44,CW44,DD44) -> 0 | DL44: =SUM(CJ44,CQ44,CX44,DE44) -> 0 | DM44: =SUM(CK44,CR44,CY44,DF44) -> 0 | DN44: =SUM(CL44,CS44,CZ44,DG44) -> 0 | DO44: =SUM(CM44,CT44,DA44,DH44) -> 0 | DP44: =SUM(DJ44:DO44) -> 0 | DV44: =SUM(DQ44:DU44) -> 0 | EB44: =SUM(DW44:EA44) -> 0 | EH44: =SUM(EC44:EG44) -> 0 | EN44: =SUM(EI44:EM44) -> 0 | ET44: =SUM(EO44:ES44) -> 0 | EZ44: =SUM(EU44:EY44) -> 0 | FF44: =SUM(FA44:FE44) -> 0 | FG44: =SUM(DQ44,DW44,EC44,EI44,EO44,EU44,FA44) -> 0 | FH44: =SUM(DR44,DX44,ED44,EJ44,EP44,EV44,FB44) -> 0 | FI44: =SUM(DS44,DY44,EE44,EK44,EQ44,EW44,FC44) -> 0 | FJ44: =SUM(DT44,DZ44,EF44,EL44,ER44,EX44,FD44) -> 0 | FK44: =SUM(DU44,EA44,EG44,EM44,ES44,EY44,FE44) -> 0 | FL44: =SUM(FG44:FK44) -> 0 | FR44: =SUM(FM44:FQ44) -> 0 | FX44: =SUM(FS44:FW44) -> 0 | GD44: =SUM(FY44:GC44) -> 0 | GJ44: =SUM(GE44:GI44) -> 0 | GP44: =SUM(GK44:GO44) -> 0 | GV44: =SUM(GQ44:GU44) -> 0 | HB44: =SUM(GW44:HA44) -> 0 | HH44: =SUM(HC44:HG44) -> 0 | HI44: =SUM(FM44,FS44,FY44,GE44,GK44,GQ44,GW44,HC44) -> 0 | HJ44: =SUM(FN44,FT44,FZ44,GF44,GL44,GR44,GX44,HD44) -> 0 | HK44: =SUM(HE44,GY44,GS44,GM44,GG44,GA44,FU44,FO44) -> 0 | HL44: =SUM(HF44,GZ44,GT44,GN44,GH44,GB44,FV44,FP44) -> 0 | HM44: =SUM(HG44,HA44,GU44,GO44,GI44,GC44,FW44,FQ44) -> 0 | HN44: =SUM(HI44:HM44) -> 0 | HT44: =SUM(HO44:HS44) -> 0 | HZ44: =SUM(HU44:HY44) -> 0 | IF44: =SUM(IA44:IE44) -> 0 | IG44: =SUM(HO44,HU44,IA44) -> 0 | IH44: =SUM(HP44,HV44,IB44) -> 0 | II44: =SUM(HQ44,HW44,IC44) -> 0 | IJ44: =SUM(HR44,HX44,ID44) -> 0 | IK44: =SUM(HS44,HY44,IE44) -> 0 | IL44: =SUM(IG44:IK44) -> 0 | IR44: =SUM(IM44:IQ44) -> 0 | IX44: =SUM(IS44:IW44) -> 0 | JD44: =SUM(IY44:JC44) -> 0 | JE44: =SUM(IM44,IS44,IY44) -> 0 | JF44: =SUM(IN44,IT44,IZ44) -> 0 | JG44: =SUM(IO44,IU44,JA44) -> 0 | JH44: =SUM(IP44,IV44,JB44) -> 0 | JI44: =SUM(IQ44,IW44,JC44) -> 0 | JJ44: =SUM(JE44:JI44) -> 0 | JL44: =SUM(T44,BD44,CB44,DJ44,FG44,HI44,IG44,JE44) -> 0 | JM44: =SUM(U44,BE44,CC44,DK44,FH44,HJ44,IH44,JF44) -> 0 | JN44: =SUM(V44,BF44,CD44,DL44,FI44,HK44,II44,JG44) -> 0 | JO44: =SUM(W44,BG44,CE44,DM44,FJ44,HL44,IJ44,JH44) -> 0 | JP44: =SUM(X44,BH44,CF44,DN44,FK44,HM44,IK44,JI44) -> 0 | JQ44: =SUM(DO44) -> 0 | JR44: =SUM(JL44:JQ44) -> 0
A45: Total Defoliators= | B45: =SUM(B21:B44) -> 249.36236 | C45: =SUM(C21:C44) -> 1414.7414 | D45: =SUM(D21:D44) -> 162.35 | E45: =SUM(E21:E44) -> 0 | F45: =SUM(F21:F44) -> 0 | G45: =SUM(G21:G44) -> 1826.4537 | H45: =SUM(H21:H44) -> 0 | I45: =SUM(I21:I44) -> 61.169198 | ... S45: =SUM(S21:S44) -> 37.080558 | T45: =SUM(B45,H45,N45) -> 249.36236 | U45: =SUM(C45,I45,O45) -> 1512.7411 | V45: =SUM(D45,J45,P45) -> 206.15253 | W45: =SUM(E45,K45,Q45) -> 1.25 | X45: =SUM(F45,L45,R45) -> 0 | Y45: =SUM(Y21:Y44) -> 1969.506 | Z45: =SUM(Z21:Z44) -> 0 | AA45: =SUM(AA21:AA44) -> 42.426773 | AB45: =SUM(AB21:AB44) -> 0 | AC45: =SUM(AC21:AC44) -> 0 | AD45: =SUM(AD21:AD44) -> 0 | AE45: =SUM(AE21:AE44) -> 42.426773 | AF45: =SUM(AF21:AF44) -> 0 | ... BC45: =SUM(BC21:BC44) -> 501.26334 | BD45: =SUM(Z45,AF45,AL45,AR45,AX45) -> 0 | BE45: =SUM(AA45,AG45,AM45,AS45,AY45) -> 25338.493 | BF45: =SUM(AB45,AH45,AN45,AT45,AZ45) -> 8873.3722 | BG45: =SUM(AC45,AI45,AO45,AU45,BA45) -> 1395.4185 | BH45: =SUM(AD45,AJ45,AP45,AV45,BB45) -> 0 | BI45: =SUM(BI21:BI44) -> 35607.284 | BJ45: =SUM(BJ21:BJ44) -> 0 | BK45: =SUM(BK21:BK44) -> 49495.996 | BL45: =SUM(BL21:BL44) -> 4898.171 | BM45: =SUM(BM21:BM44) -> 0 | BN45: =SUM(BN21:BN44) -> 0 | BO45: =SUM(BO21:BO44) -> 54394.167 | BP45: =SUM(BP21:BP44) -> 4.3080101 | ... CA45: =SUM(CA21:CA44) -> 115366.79 | CB45: =SUM(BJ45,BP45,BV45) -> 4.3080101 | CC45: =SUM(BK45,BQ45,BW45) -> 200049.25 | CD45: =SUM(BL45,BR45,BX45) -> 22043.72 | CE45: =SUM(BM45,BS45,BY45) -> 92.215149 | CF45: =SUM(BN45,BT45,BZ45) -> 0 | CG45: =SUM(CG21:CG44) -> 222189.49 | CH45: =SUM(CH21:CH44) -> 0 | CI45: =SUM(CI21:CI44) -> 63142.678 | CJ45: =SUM(CJ21:CJ44) -> 25680.896 | CK45: =SUM(CK21:CK44) -> 1470.4186 | CL45: =SUM(CL21:CL44) -> 0 | CM45: =SUM(CM21:CM44) -> 1970.4568 | CN45: =SUM(CN21:CN44) -> 92264.449 | ... DI45: =SUM(DI21:DI44) -> 121244.4 | DJ45: =SUM(CH45,CO45,CV45,DC45) -> 0 | DK45: =SUM(CI45,CP45,CW45,DD45) -> 219465.42 | DL45: =SUM(CJ45,CQ45,CX45,DE45) -> 113995.53 | DM45: =SUM(CK45,CR45,CY45,DF45) -> 4532.3641 | DN45: =SUM(CL45,CS45,CZ45,DG45) -> 0 | DO45: =SUM(CM45,CT45,DA45,DH45) -> 2056.7919 | DP45: =SUM(DP21:DP44) -> 340050.11 | DQ45: =SUM(DQ21:DQ44) -> 0 | DR45: =SUM(DR21:DR44) -> 1406.7221 | DS45: =SUM(DS21:DS44) -> 3624.7409 | DT45: =SUM(DT21:DT44) -> 47.33033 | DU45: =SUM(DU21:DU44) -> 0 | DV45: =SUM(DV21:DV44) -> 5078.7933 | DW45: =SUM(DW21:DW44) -> 0 | ... FF45: =SUM(FF21:FF44) -> 6027.3375 | FG45: =SUM(DQ45,DW45,EC45,EI45,EO45,EU45,FA45) -> 0 | FH45: =SUM(DR45,DX45,ED45,EJ45,EP45,EV45,FB45) -> 33069.069 | FI45: =SUM(DS45,DY45,EE45,EK45,EQ45,EW45,FC45) -> 30750.476 | FJ45: =SUM(DT45,DZ45,EF45,EL45,ER45,EX45,FD45) -> 7841.0931 | FK45: =SUM(DU45,EA45,EG45,EM45,ES45,EY45,FE45) -> 0 | FL45: =SUM(FL21:FL44) -> 71660.638 | FM45: =SUM(FM21:FM44) -> 0 | FN45: =SUM(FN21:FN44) -> 48977.202 | FO45: =SUM(FO21:FO44) -> 26744.884 | FP45: =SUM(FP21:FP44) -> 2817.0614 | FQ45: =SUM(FQ21:FQ44) -> 0 | FR45: =SUM(FR21:FR44) -> 78539.148 | FS45: =SUM(FS21:FS44) -> 0 | ... HH45: =SUM(HH21:HH44) -> 8218.6937 | HI45: =SUM(FM45,FS45,FY45,GE45,GK45,GQ45,GW45,HC45) -> 0 | HJ45: =SUM(FN45,FT45,FZ45,GF45,GL45,GR45,GX45,HD45) -> 280906.02 | HK45: =SUM(HE45,GY45,GS45,GM45,GG45,GA45,FU45,FO45) -> 209759.73 | HL45: =SUM(HF45,GZ45,GT45,GN45,GH45,GB45,FV45,FP45) -> 17345.954 | HM45: =SUM(HG45,HA45,GU45,GO45,GI45,GC45,FW45,FQ45) -> 0 | HN45: =SUM(HN21:HN44) -> 508011.71 | HO45: =SUM(HO21:HO44) -> 0 | HP45: =SUM(HP21:HP44) -> 255.05252 | HQ45: =SUM(HQ21:HQ44) -> 38311.616 | HR45: =SUM(HR21:HR44) -> 585.63381 | HS45: =SUM(HS21:HS44) -> 0 | HT45: =SUM(HT21:HT44) -> 39152.302 | HU45: =SUM(HU21:HU44) -> 0 | ... IF45: =SUM(IF21:IF44) -> 364953.57 | IG45: =SUM(HO45,HU45,IA45) -> 0 | IH45: =SUM(HP45,HV45,IB45) -> 59636.469 | II45: =SUM(HQ45,HW45,IC45) -> 224570.43 | IJ45: =SUM(HR45,HX45,ID45) -> 130568.6 | IK45: =SUM(HS45,HY45,IE45) -> 0 | IL45: =SUM(IL21:IL44) -> 414775.51 | IM45: =SUM(IM21:IM44) -> 0 | IN45: =SUM(IN21:IN44) -> 4535.4663 | IO45: =SUM(IO21:IO44) -> 11505.335 | IP45: =SUM(IP21:IP44) -> 38.016084 | IQ45: =SUM(IQ21:IQ44) -> 0 | IR45: =SUM(IR21:IR44) -> 16078.817 | IS45: =SUM(IS21:IS44) -> 0 | ... JD45: =SUM(JD21:JD44) -> 26049.178 | JE45: =SUM(IM45,IS45,IY45) -> 0 | JF45: =SUM(IN45,IT45,IZ45) -> 157271.53 | JG45: =SUM(IO45,IU45,JA45) -> 173602.24 | JH45: =SUM(IP45,IV45,JB45) -> 42774.664 | JI45: =SUM(IQ45,IW45,JC45) -> 0 | JJ45: =SUM(JJ21:JJ44) -> 373648.43 | JL45: =SUM(T45,BD45,CB45,DJ45,FG45,HI45,IG45,JE45) -> 253.67037 | JM45: =SUM(U45,BE45,CC45,DK45,FH45,HJ45,IH45,JF45) -> 977249 | JN45: =SUM(V45,BF45,CD45,DL45,FI45,HK45,II45,JG45) -> 783801.66 | JO45: =SUM(W45,BG45,CE45,DM45,FJ45,HL45,IJ45,JH45) -> 204551.56 | JP45: =SUM(X45,BH45,CF45,DN45,FK45,HM45,IK45,JI45) -> 0 | JQ45: =SUM(DO45) -> 2056.7919 | JR45: =SUM(JR21:JR44) -> 1967912.7
A47: Other
A48: N | G48: =SUM(B48:F48) -> 0 | M48: =SUM(H48:L48) -> 0 | S48: =SUM(N48:R48) -> 0 | T48: =SUM(B48,H48,N48) -> 0 | U48: =SUM(C48,I48,O48) -> 0 | V48: =SUM(D48,J48,P48) -> 0 | W48: =SUM(E48,K48,Q48) -> 0 | X48: =SUM(F48,L48,R48) -> 0 | Y48: =SUM(T48:X48) -> 0 | AE48: =SUM(Z48:AD48) -> 0 | AK48: =SUM(AF48:AJ48) -> 0 | AQ48: =SUM(AL48:AP48) -> 0 | AW48: =SUM(AR48:AV48) -> 0 | BC48: =SUM(AX48:BB48) -> 0 | BD48: =SUM(Z48,AF48,AL48,AR48,AX48) -> 0 | BE48: =SUM(AA48,AG48,AM48,AS48,AY48) -> 0 | BF48: =SUM(AB48,AH48,AN48,AT48,AZ48) -> 0 | BG48: =SUM(AC48,AI48,AO48,AU48,BA48) -> 0 | BH48: =SUM(AD48,AJ48,AP48,AV48,BB48) -> 0 | BI48: =SUM(BD48:BH48) -> 0 | BO48: =SUM(BJ48:BN48) -> 0 | BU48: =SUM(BP48:BT48) -> 0 | CA48: =SUM(BV48:BZ48) -> 0 | CB48: =SUM(BJ48,BP48,BV48) -> 0 | CC48: =SUM(BK48,BQ48,BW48) -> 0 | CD48: =SUM(BL48,BR48,BX48) -> 0 | CE48: =SUM(BM48,BS48,BY48) -> 0 | CF48: =SUM(BN48,BT48,BZ48) -> 0 | CG48: =SUM(CB48:CF48) -> 0 | CN48: =SUM(CH48:CM48) -> 0 | CU48: =SUM(CO48:CT48) -> 0 | DB48: =SUM(CV48:DA48) -> 0 | DI48: =SUM(DC48:DH48) -> 0 | DJ48: =SUM(CH48,CO48,CV48,DC48) -> 0 | DK48: =SUM(CI48,CP48,CW48,DD48) -> 0 | DL48: =SUM(CJ48,CQ48,CX48,DE48) -> 0 | DM48: =SUM(CK48,CR48,CY48,DF48) -> 0 | DN48: =SUM(CL48,CS48,CZ48,DG48) -> 0 | DO48: =SUM(CM48,CT48,DA48,DH48) -> 0 | DP48: =SUM(DJ48:DO48) -> 0 | DV48: =SUM(DQ48:DU48) -> 0 | EB48: =SUM(DW48:EA48) -> 0 | EH48: =SUM(EC48:EG48) -> 0 | EN48: =SUM(EI48:EM48) -> 0 | ET48: =SUM(EO48:ES48) -> 0 | EZ48: =SUM(EU48:EY48) -> 0 | FF48: =SUM(FA48:FE48) -> 0 | FG48: =SUM(DQ48,DW48,EC48,EI48,EO48,EU48,FA48) -> 0 | FH48: =SUM(DR48,DX48,ED48,EJ48,EP48,EV48,FB48) -> 0 | FI48: =SUM(DS48,DY48,EE48,EK48,EQ48,EW48,FC48) -> 0 | FJ48: =SUM(DT48,DZ48,EF48,EL48,ER48,EX48,FD48) -> 0 | FK48: =SUM(DU48,EA48,EG48,EM48,ES48,EY48,FE48) -> 0 | FL48: =SUM(FG48:FK48) -> 0 | FR48: =SUM(FM48:FQ48) -> 0 | FX48: =SUM(FS48:FW48) -> 0 | GD48: =SUM(FY48:GC48) -> 0 | GJ48: =SUM(GE48:GI48) -> 0 | GP48: =SUM(GK48:GO48) -> 0 | GV48: =SUM(GQ48:GU48) -> 0 | HB48: =SUM(GW48:HA48) -> 0 | HH48: =SUM(HC48:HG48) -> 0 | HI48: =SUM(FM48,FS48,FY48,GE48,GK48,GQ48,GW48,HC48) -> 0 | HJ48: =SUM(FN48,FT48,FZ48,GF48,GL48,GR48,GX48,HD48) -> 0 | HK48: =SUM(HE48,GY48,GS48,GM48,GG48,GA48,FU48,FO48) -> 0 | HL48: =SUM(HF48,GZ48,GT48,GN48,GH48,GB48,FV48,FP48) -> 0 | HM48: =SUM(HG48,HA48,GU48,GO48,GI48,GC48,FW48,FQ48) -> 0 | HN48: =SUM(HI48:HM48) -> 0 | HT48: =SUM(HO48:HS48) -> 0 | HZ48: =SUM(HU48:HY48) -> 0 | IF48: =SUM(IA48:IE48) -> 0 | IG48: =SUM(HO48,HU48,IA48) -> 0 | IH48: =SUM(HP48,HV48,IB48) -> 0 | II48: =SUM(HQ48,HW48,IC48) -> 0 | IJ48: =SUM(HR48,HX48,ID48) -> 0 | IK48: =SUM(HS48,HY48,IE48) -> 0 | IL48: =SUM(IG48:IK48) -> 0 | IR48: =SUM(IM48:IQ48) -> 0 | IX48: =SUM(IS48:IW48) -> 0 | JD48: =SUM(IY48:JC48) -> 0 | JE48: =SUM(IM48,IS48,IY48) -> 0 | JF48: =SUM(IN48,IT48,IZ48) -> 0 | JG48: =SUM(IO48,IU48,JA48) -> 0 | JH48: =SUM(IP48,IV48,JB48) -> 0 | JI48: =SUM(IQ48,IW48,JC48) -> 0 | JJ48: =SUM(JE48:JI48) -> 0 | JL48: =SUM(T48,BD48,CB48,DJ48,FG48,HI48,IG48,JE48) -> 0 | JM48: =SUM(U48,BE48,CC48,DK48,FH48,HJ48,IH48,JF48) -> 0 | JN48: =SUM(V48,BF48,CD48,DL48,FI48,HK48,II48,JG48) -> 0 | JO48: =SUM(W48,BG48,CE48,DM48,FJ48,HL48,IJ48,JH48) -> 0 | JP48: =SUM(X48,BH48,CF48,DN48,FK48,HM48,IK48,JI48) -> 0 | JQ48: =SUM(DO48) -> 0 | JR48: =SUM(JL48:JQ48) -> 0
A49: NAV=Avalanche or snow slide | G49: =SUM(B49:F49) -> 0 | M49: =SUM(H49:L49) -> 0 | Q49: 11.513724 | S49: =SUM(N49:R49) -> 11.513724 | T49: =SUM(B49,H49,N49) -> 0 | U49: =SUM(C49,I49,O49) -> 0 | V49: =SUM(D49,J49,P49) -> 0 | W49: =SUM(E49,K49,Q49) -> 11.513724 | X49: =SUM(F49,L49,R49) -> 0 | Y49: =SUM(T49:X49) -> 11.513724 | AE49: =SUM(Z49:AD49) -> 0 | AG49: 14.361448 | AH49: 19.325099 | AI49: 22.707352 | AK49: =SUM(AF49:AJ49) -> 56.393899 | AO49: 230.60762 | AQ49: =SUM(AL49:AP49) -> 230.60762 | AW49: =SUM(AR49:AV49) -> 0 | BC49: =SUM(AX49:BB49) -> 0 | BD49: =SUM(Z49,AF49,AL49,AR49,AX49) -> 0 | BE49: =SUM(AA49,AG49,AM49,AS49,AY49) -> 14.361448 | BF49: =SUM(AB49,AH49,AN49,AT49,AZ49) -> 19.325099 | BG49: =SUM(AC49,AI49,AO49,AU49,BA49) -> 253.31497 | BH49: =SUM(AD49,AJ49,AP49,AV49,BB49) -> 0 | BI49: =SUM(BD49:BH49) -> 287.00151 | BO49: =SUM(BJ49:BN49) -> 0 | BU49: =SUM(BP49:BT49) -> 0 | BY49: 80.154688 | CA49: =SUM(BV49:BZ49) -> 80.154688 | CB49: =SUM(BJ49,BP49,BV49) -> 0 | CC49: =SUM(BK49,BQ49,BW49) -> 0 | CD49: =SUM(BL49,BR49,BX49) -> 0 | CE49: =SUM(BM49,BS49,BY49) -> 80.154688 | CF49: =SUM(BN49,BT49,BZ49) -> 0 | CG49: =SUM(CB49:CF49) -> 80.154688 | CN49: =SUM(CH49:CM49) -> 0 | CS49: 10.203574 | CU49: =SUM(CO49:CT49) -> 10.203574 | DB49: =SUM(CV49:DA49) -> 0 | DI49: =SUM(DC49:DH49) -> 0 | DJ49: =SUM(CH49,CO49,CV49,DC49) -> 0 | DK49: =SUM(CI49,CP49,CW49,DD49) -> 0 | DL49: =SUM(CJ49,CQ49,CX49,DE49) -> 0 | DM49: =SUM(CK49,CR49,CY49,DF49) -> 0 | DN49: =SUM(CL49,CS49,CZ49,DG49) -> 10.203574 | DO49: =SUM(CM49,CT49,DA49,DH49) -> 0 | DP49: =SUM(DJ49:DO49) -> 10.203574 | DV49: =SUM(DQ49:DU49) -> 0 | EB49: =SUM(DW49:EA49) -> 0 | EH49: =SUM(EC49:EG49) -> 0 | EN49: =SUM(EI49:EM49) -> 0 | ET49: =SUM(EO49:ES49) -> 0 | EZ49: =SUM(EU49:EY49) -> 0 | FF49: =SUM(FA49:FE49) -> 0 | FG49: =SUM(DQ49,DW49,EC49,EI49,EO49,EU49,FA49) -> 0 | FH49: =SUM(DR49,DX49,ED49,EJ49,EP49,EV49,FB49) -> 0 | FI49: =SUM(DS49,DY49,EE49,EK49,EQ49,EW49,FC49) -> 0 | FJ49: =SUM(DT49,DZ49,EF49,EL49,ER49,EX49,FD49) -> 0 | FK49: =SUM(DU49,EA49,EG49,EM49,ES49,EY49,FE49) -> 0 | FL49: =SUM(FG49:FK49) -> 0 | FR49: =SUM(FM49:FQ49) -> 0 | FX49: =SUM(FS49:FW49) -> 0 | GB49: 47.173262 | GC49: 4.5050043 | GD49: =SUM(FY49:GC49) -> 51.678266 | GJ49: =SUM(GE49:GI49) -> 0 | GP49: =SUM(GK49:GO49) -> 0 | GV49: =SUM(GQ49:GU49) -> 0 | HB49: =SUM(GW49:HA49) -> 0 | HH49: =SUM(HC49:HG49) -> 0 | HI49: =SUM(FM49,FS49,FY49,GE49,GK49,GQ49,GW49,HC49) -> 0 | HJ49: =SUM(FN49,FT49,FZ49,GF49,GL49,GR49,GX49,HD49) -> 0 | HK49: =SUM(HE49,GY49,GS49,GM49,GG49,GA49,FU49,FO49) -> 0 | HL49: =SUM(HF49,GZ49,GT49,GN49,GH49,GB49,FV49,FP49) -> 47.173262 | HM49: =SUM(HG49,HA49,GU49,GO49,GI49,GC49,FW49,FQ49) -> 4.5050043 | HN49: =SUM(HI49:HM49) -> 51.678266 | HT49: =SUM(HO49:HS49) -> 0 | HX49: 70.452992 | HZ49: =SUM(HU49:HY49) -> 70.452992 | IF49: =SUM(IA49:IE49) -> 0 | IG49: =SUM(HO49,HU49,IA49) -> 0 | IH49: =SUM(HP49,HV49,IB49) -> 0 | II49: =SUM(HQ49,HW49,IC49) -> 0 | IJ49: =SUM(HR49,HX49,ID49) -> 70.452992 | IK49: =SUM(HS49,HY49,IE49) -> 0 | IL49: =SUM(IG49:IK49) -> 70.452992 | IR49: =SUM(IM49:IQ49) -> 0 | IX49: =SUM(IS49:IW49) -> 0 | JD49: =SUM(IY49:JC49) -> 0 | JE49: =SUM(IM49,IS49,IY49) -> 0 | JF49: =SUM(IN49,IT49,IZ49) -> 0 | JG49: =SUM(IO49,IU49,JA49) -> 0 | JH49: =SUM(IP49,IV49,JB49) -> 0 | JI49: =SUM(IQ49,IW49,JC49) -> 0 | JJ49: =SUM(JE49:JI49) -> 0 | JL49: =SUM(T49,BD49,CB49,DJ49,FG49,HI49,IG49,JE49) -> 0 | JM49: =SUM(U49,BE49,CC49,DK49,FH49,HJ49,IH49,JF49) -> 14.361448 | JN49: =SUM(V49,BF49,CD49,DL49,FI49,HK49,II49,JG49) -> 19.325099 | JO49: =SUM(W49,BG49,CE49,DM49,FJ49,HL49,IJ49,JH49) -> 462.60963 | JP49: =SUM(X49,BH49,CF49,DN49,FK49,HM49,IK49,JI49) -> 14.708578 | JQ49: =SUM(DO49) -> 0 | JR49: =SUM(JL49:JQ49) -> 511.00476
A50: NB=Fire | E50: 12.182919 | G50: =SUM(B50:F50) -> 12.182919 | K50: 164.04237 | M50: =SUM(H50:L50) -> 164.04237 | Q50: 20.627707 | S50: =SUM(N50:R50) -> 20.627707 | T50: =SUM(B50,H50,N50) -> 0 | U50: =SUM(C50,I50,O50) -> 0 | V50: =SUM(D50,J50,P50) -> 0 | W50: =SUM(E50,K50,Q50) -> 196.85299 | X50: =SUM(F50,L50,R50) -> 0 | Y50: =SUM(T50:X50) -> 196.85299 | AC50: 33.476812 | AE50: =SUM(Z50:AD50) -> 33.476812 | AI50: 0.84694207 | AK50: =SUM(AF50:AJ50) -> 0.84694207 | AO50: 4.8264153 | AQ50: =SUM(AL50:AP50) -> 4.8264153 | AW50: =SUM(AR50:AV50) -> 0 | BA50: 361.84235 | BC50: =SUM(AX50:BB50) -> 361.84235 | BD50: =SUM(Z50,AF50,AL50,AR50,AX50) -> 0 | BE50: =SUM(AA50,AG50,AM50,AS50,AY50) -> 0 | BF50: =SUM(AB50,AH50,AN50,AT50,AZ50) -> 0 | BG50: =SUM(AC50,AI50,AO50,AU50,BA50) -> 400.99252 | BH50: =SUM(AD50,AJ50,AP50,AV50,BB50) -> 0 | BI50: =SUM(BD50:BH50) -> 400.99252 | BK50: 27.500208 | BM50: 423.12773 | BO50: =SUM(BJ50:BN50) -> 450.62794 | BS50: 15.38083 | BU50: =SUM(BP50:BT50) -> 15.38083 | BW50: 136.77372 | BX50: 1415.3284 | BY50: 463.61549 | BZ50: 4.2908799 | CA50: =SUM(BV50:BZ50) -> 2020.0085 | CB50: =SUM(BJ50,BP50,BV50) -> 0 | CC50: =SUM(BK50,BQ50,BW50) -> 164.27393 | CD50: =SUM(BL50,BR50,BX50) -> 1415.3284 | CE50: =SUM(BM50,BS50,BY50) -> 902.12406 | CF50: =SUM(BN50,BT50,BZ50) -> 4.2908799 | CG50: =SUM(CB50:CF50) -> 2486.0172 | CK50: 166.9661 | CL50: 129.32753 | CN50: =SUM(CH50:CM50) -> 296.29363 | CS50: 250.94766 | CU50: =SUM(CO50:CT50) -> 250.94766 | CX50: 8.0047471 | CY50: 742.76814 | CZ50: 5.4942922 | DB50: =SUM(CV50:DA50) -> 756.26718 | DF50: 511.60306 | DI50: =SUM(DC50:DH50) -> 511.60306 | DJ50: =SUM(CH50,CO50,CV50,DC50) -> 0 | DK50: =SUM(CI50,CP50,CW50,DD50) -> 0 | DL50: =SUM(CJ50,CQ50,CX50,DE50) -> 8.0047471 | DM50: =SUM(CK50,CR50,CY50,DF50) -> 1421.3373 | DN50: =SUM(CL50,CS50,CZ50,DG50) -> 385.76948 | DO50: =SUM(CM50,CT50,DA50,DH50) -> 0 | DP50: =SUM(DJ50:DO50) -> 1815.1115 | DT50: 57.250256 | DV50: =SUM(DQ50:DU50) -> 57.250256 | DZ50: 8.9276264 | EB50: =SUM(DW50:EA50) -> 8.9276264 | EF50: 58.990409 | EH50: =SUM(EC50:EG50) -> 58.990409 | EL50: 427.61419 | EN50: =SUM(EI50:EM50) -> 427.61419 | ER50: 776.58108 | ET50: =SUM(EO50:ES50) -> 776.58108 | EX50: 76.282336 | EZ50: =SUM(EU50:EY50) -> 76.282336 | FD50: 8.7783069 | FF50: =SUM(FA50:FE50) -> 8.7783069 | FG50: =SUM(DQ50,DW50,EC50,EI50,EO50,EU50,FA50) -> 0 | FH50: =SUM(DR50,DX50,ED50,EJ50,EP50,EV50,FB50) -> 0 | FI50: =SUM(DS50,DY50,EE50,EK50,EQ50,EW50,FC50) -> 0 | FJ50: =SUM(DT50,DZ50,EF50,EL50,ER50,EX50,FD50) -> 1414.4242 | FK50: =SUM(DU50,EA50,EG50,EM50,ES50,EY50,FE50) -> 0 | FL50: =SUM(FG50:FK50) -> 1414.4242 | FP50: 2.9814748 | FR50: =SUM(FM50:FQ50) -> 2.9814748 | FV50: 3970.5888 | FX50: =SUM(FS50:FW50) -> 3970.5888 | GB50: 6.4310167 | GD50: =SUM(FY50:GC50) -> 6.4310167 | GH50: 37.662034 | GJ50: =SUM(GE50:GI50) -> 37.662034 | GN50: 2762.6465 | GP50: =SUM(GK50:GO50) -> 2762.6465 | GT50: 4753.181 | GV50: =SUM(GQ50:GU50) -> 4753.181 | HB50: =SUM(GW50:HA50) -> 0 | HH50: =SUM(HC50:HG50) -> 0 | HI50: =SUM(FM50,FS50,FY50,GE50,GK50,GQ50,GW50,HC50) -> 0 | HJ50: =SUM(FN50,FT50,FZ50,GF50,GL50,GR50,GX50,HD50) -> 0 | HK50: =SUM(HE50,GY50,GS50,GM50,GG50,GA50,FU50,FO50) -> 0 | HL50: =SUM(HF50,GZ50,GT50,GN50,GH50,GB50,FV50,FP50) -> 11533.491 | HM50: =SUM(HG50,HA50,GU50,GO50,GI50,GC50,FW50,FQ50) -> 0 | HN50: =SUM(HI50:HM50) -> 11533.491 | HR50: 1269.1292 | HT50: =SUM(HO50:HS50) -> 1269.1292 | HX50: 3.8786543 | HZ50: =SUM(HU50:HY50) -> 3.8786543 | IC50: 43.07468 | ID50: 4791.5962 | IF50: =SUM(IA50:IE50) -> 4834.6709 | IG50: =SUM(HO50,HU50,IA50) -> 0 | IH50: =SUM(HP50,HV50,IB50) -> 0 | II50: =SUM(HQ50,HW50,IC50) -> 43.07468 | IJ50: =SUM(HR50,HX50,ID50) -> 6064.604 | IK50: =SUM(HS50,HY50,IE50) -> 0 | IL50: =SUM(IG50:IK50) -> 6107.6787 | IP50: 196.57341 | IR50: =SUM(IM50:IQ50) -> 196.57341 | IU50: 35.64237 | IV50: 64617.752 | IX50: =SUM(IS50:IW50) -> 64653.394 | JB50: 8639.2436 | JD50: =SUM(IY50:JC50) -> 8639.2436 | JE50: =SUM(IM50,IS50,IY50) -> 0 | JF50: =SUM(IN50,IT50,IZ50) -> 0 | JG50: =SUM(IO50,IU50,JA50) -> 35.64237 | JH50: =SUM(IP50,IV50,JB50) -> 73453.569 | JI50: =SUM(IQ50,IW50,JC50) -> 0 | JJ50: =SUM(JE50:JI50) -> 73489.211 | JL50: =SUM(T50,BD50,CB50,DJ50,FG50,HI50,IG50,JE50) -> 0 | JM50: =SUM(U50,BE50,CC50,DK50,FH50,HJ50,IH50,JF50) -> 164.27393 | JN50: =SUM(V50,BF50,CD50,DL50,FI50,HK50,II50,JG50) -> 1502.0502 | JO50: =SUM(W50,BG50,CE50,DM50,FJ50,HL50,IJ50,JH50) -> 95387.395 | JP50: =SUM(X50,BH50,CF50,DN50,FK50,HM50,IK50,JI50) -> 390.06036 | JQ50: =SUM(DO50) -> 0 | JR50: =SUM(JL50:JQ50) -> 97443.779
A51: NBP=Post Fire | G51: =SUM(B51:F51) -> 0 | M51: =SUM(H51:L51) -> 0 | S51: =SUM(N51:R51) -> 0 | T51: =SUM(B51,H51,N51) -> 0 | U51: =SUM(C51,I51,O51) -> 0 | V51: =SUM(D51,J51,P51) -> 0 | W51: =SUM(E51,K51,Q51) -> 0 | X51: =SUM(F51,L51,R51) -> 0 | Y51: =SUM(T51:X51) -> 0 | AE51: =SUM(Z51:AD51) -> 0 | AK51: =SUM(AF51:AJ51) -> 0 | AN51: 104.30056 | AO51: 50.077478 | AQ51: =SUM(AL51:AP51) -> 154.37804 | AW51: =SUM(AR51:AV51) -> 0 | BC51: =SUM(AX51:BB51) -> 0 | BD51: =SUM(Z51,AF51,AL51,AR51,AX51) -> 0 | BE51: =SUM(AA51,AG51,AM51,AS51,AY51) -> 0 | BF51: =SUM(AB51,AH51,AN51,AT51,AZ51) -> 104.30056 | BG51: =SUM(AC51,AI51,AO51,AU51,BA51) -> 50.077478 | BH51: =SUM(AD51,AJ51,AP51,AV51,BB51) -> 0 | BI51: =SUM(BD51:BH51) -> 154.37804 | BO51: =SUM(BJ51:BN51) -> 0 | BQ51: 755.84966 | BR51: 2579.6646 | BS51: 2150.3111 | BU51: =SUM(BP51:BT51) -> 5485.8254 | BW51: 1576.4643 | BX51: 734.52521 | BY51: 3609.1501 | BZ51: 89.352888 | CA51: =SUM(BV51:BZ51) -> 6009.4925 | CB51: =SUM(BJ51,BP51,BV51) -> 0 | CC51: =SUM(BK51,BQ51,BW51) -> 2332.314 | CD51: =SUM(BL51,BR51,BX51) -> 3314.1898 | CE51: =SUM(BM51,BS51,BY51) -> 5759.4612 | CF51: =SUM(BN51,BT51,BZ51) -> 89.352888 | CG51: =SUM(CB51:CF51) -> 11495.318 | CN51: =SUM(CH51:CM51) -> 0 | CU51: =SUM(CO51:CT51) -> 0 | DB51: =SUM(CV51:DA51) -> 0 | DI51: =SUM(DC51:DH51) -> 0 | DJ51: =SUM(CH51,CO51,CV51,DC51) -> 0 | DK51: =SUM(CI51,CP51,CW51,DD51) -> 0 | DL51: =SUM(CJ51,CQ51,CX51,DE51) -> 0 | DM51: =SUM(CK51,CR51,CY51,DF51) -> 0 | DN51: =SUM(CL51,CS51,CZ51,DG51) -> 0 | DO51: =SUM(CM51,CT51,DA51,DH51) -> 0 | DP51: =SUM(DJ51:DO51) -> 0 | DV51: =SUM(DQ51:DU51) -> 0 | EB51: =SUM(DW51:EA51) -> 0 | EH51: =SUM(EC51:EG51) -> 0 | EN51: =SUM(EI51:EM51) -> 0 | ET51: =SUM(EO51:ES51) -> 0 | EZ51: =SUM(EU51:EY51) -> 0 | FF51: =SUM(FA51:FE51) -> 0 | FG51: =SUM(DQ51,DW51,EC51,EI51,EO51,EU51,FA51) -> 0 | FH51: =SUM(DR51,DX51,ED51,EJ51,EP51,EV51,FB51) -> 0 | FI51: =SUM(DS51,DY51,EE51,EK51,EQ51,EW51,FC51) -> 0 | FJ51: =SUM(DT51,DZ51,EF51,EL51,ER51,EX51,FD51) -> 0 | FK51: =SUM(DU51,EA51,EG51,EM51,ES51,EY51,FE51) -> 0 | FL51: =SUM(FG51:FK51) -> 0 | FR51: =SUM(FM51:FQ51) -> 0 | FX51: =SUM(FS51:FW51) -> 0 | GD51: =SUM(FY51:GC51) -> 0 | GJ51: =SUM(GE51:GI51) -> 0 | GL51: 86.414047 | GN51: 153.19944 | GP51: =SUM(GK51:GO51) -> 239.61349 | GV51: =SUM(GQ51:GU51) -> 0 | HB51: =SUM(GW51:HA51) -> 0 | HH51: =SUM(HC51:HG51) -> 0 | HI51: =SUM(FM51,FS51,FY51,GE51,GK51,GQ51,GW51,HC51) -> 0 | HJ51: =SUM(FN51,FT51,FZ51,GF51,GL51,GR51,GX51,HD51) -> 86.414047 | HK51: =SUM(HE51,GY51,GS51,GM51,GG51,GA51,FU51,FO51) -> 0 | HL51: =SUM(HF51,GZ51,GT51,GN51,GH51,GB51,FV51,FP51) -> 153.19944 | HM51: =SUM(HG51,HA51,GU51,GO51,GI51,GC51,FW51,FQ51) -> 0 | HN51: =SUM(HI51:HM51) -> 239.61349 | HT51: =SUM(HO51:HS51) -> 0 | HZ51: =SUM(HU51:HY51) -> 0 | IB51: 1035.0842 | IC51: 1039.5528 | ID51: 305.55965 | IF51: =SUM(IA51:IE51) -> 2380.1966 | IG51: =SUM(HO51,HU51,IA51) -> 0 | IH51: =SUM(HP51,HV51,IB51) -> 1035.0842 | II51: =SUM(HQ51,HW51,IC51) -> 1039.5528 | IJ51: =SUM(HR51,HX51,ID51) -> 305.55965 | IK51: =SUM(HS51,HY51,IE51) -> 0 | IL51: =SUM(IG51:IK51) -> 2380.1966 | IR51: =SUM(IM51:IQ51) -> 0 | IX51: =SUM(IS51:IW51) -> 0 | JD51: =SUM(IY51:JC51) -> 0 | JE51: =SUM(IM51,IS51,IY51) -> 0 | JF51: =SUM(IN51,IT51,IZ51) -> 0 | JG51: =SUM(IO51,IU51,JA51) -> 0 | JH51: =SUM(IP51,IV51,JB51) -> 0 | JI51: =SUM(IQ51,IW51,JC51) -> 0 | JJ51: =SUM(JE51:JI51) -> 0 | JL51: =SUM(T51,BD51,CB51,DJ51,FG51,HI51,IG51,JE51) -> 0 | JM51: =SUM(U51,BE51,CC51,DK51,FH51,HJ51,IH51,JF51) -> 3453.8122 | JN51: =SUM(V51,BF51,CD51,DL51,FI51,HK51,II51,JG51) -> 4458.0432 | JO51: =SUM(W51,BG51,CE51,DM51,FJ51,HL51,IJ51,JH51) -> 6268.2978 | JP51: =SUM(X51,BH51,CF51,DN51,FK51,HM51,IK51,JI51) -> 89.352888 | JQ51: =SUM(DO51) -> 0 | JR51: =SUM(JL51:JQ51) -> 14269.506
A52: NCA=Aspen decline | G52: =SUM(B52:F52) -> 0 | M52: =SUM(H52:L52) -> 0 | S52: =SUM(N52:R52) -> 0 | T52: =SUM(B52,H52,N52) -> 0 | U52: =SUM(C52,I52,O52) -> 0 | V52: =SUM(D52,J52,P52) -> 0 | W52: =SUM(E52,K52,Q52) -> 0 | X52: =SUM(F52,L52,R52) -> 0 | Y52: =SUM(T52:X52) -> 0 | AE52: =SUM(Z52:AD52) -> 0 | AK52: =SUM(AF52:AJ52) -> 0 | AQ52: =SUM(AL52:AP52) -> 0 | AW52: =SUM(AR52:AV52) -> 0 | BC52: =SUM(AX52:BB52) -> 0 | BD52: =SUM(Z52,AF52,AL52,AR52,AX52) -> 0 | BE52: =SUM(AA52,AG52,AM52,AS52,AY52) -> 0 | BF52: =SUM(AB52,AH52,AN52,AT52,AZ52) -> 0 | BG52: =SUM(AC52,AI52,AO52,AU52,BA52) -> 0 | BH52: =SUM(AD52,AJ52,AP52,AV52,BB52) -> 0 | BI52: =SUM(BD52:BH52) -> 0 | BK52: 74.513281 | BM52: 17.134628 | BO52: =SUM(BJ52:BN52) -> 91.64791 | BQ52: 23.825767 | BU52: =SUM(BP52:BT52) -> 23.825767 | BY52: 8.1570893 | CA52: =SUM(BV52:BZ52) -> 8.1570893 | CB52: =SUM(BJ52,BP52,BV52) -> 0 | CC52: =SUM(BK52,BQ52,BW52) -> 98.339048 | CD52: =SUM(BL52,BR52,BX52) -> 0 | CE52: =SUM(BM52,BS52,BY52) -> 25.291718 | CF52: =SUM(BN52,BT52,BZ52) -> 0 | CG52: =SUM(CB52:CF52) -> 123.63077 | CI52: 825.82201 | CJ52: 333.04746 | CN52: =SUM(CH52:CM52) -> 1158.8695 | CP52: 54.398512 | CQ52: 33.727003 | CR52: 3.1755409 | CU52: =SUM(CO52:CT52) -> 91.301056 | CW52: 2100.053 | CX52: 719.67408 | CY52: 25.412797 | DB52: =SUM(CV52:DA52) -> 2845.1399 | DE52: 32.741692 | DF52: 49.080338 | DI52: =SUM(DC52:DH52) -> 81.82203 | DJ52: =SUM(CH52,CO52,CV52,DC52) -> 0 | DK52: =SUM(CI52,CP52,CW52,DD52) -> 2980.2735 | DL52: =SUM(CJ52,CQ52,CX52,DE52) -> 1119.1902 | DM52: =SUM(CK52,CR52,CY52,DF52) -> 77.668676 | DN52: =SUM(CL52,CS52,CZ52,DG52) -> 0 | DO52: =SUM(CM52,CT52,DA52,DH52) -> 0 | DP52: =SUM(DJ52:DO52) -> 4177.1324 | DV52: =SUM(DQ52:DU52) -> 0 | EB52: =SUM(DW52:EA52) -> 0 | EH52: =SUM(EC52:EG52) -> 0 | EN52: =SUM(EI52:EM52) -> 0 | ET52: =SUM(EO52:ES52) -> 0 | EZ52: =SUM(EU52:EY52) -> 0 | FF52: =SUM(FA52:FE52) -> 0 | FG52: =SUM(DQ52,DW52,EC52,EI52,EO52,EU52,FA52) -> 0 | FH52: =SUM(DR52,DX52,ED52,EJ52,EP52,EV52,FB52) -> 0 | FI52: =SUM(DS52,DY52,EE52,EK52,EQ52,EW52,FC52) -> 0 | FJ52: =SUM(DT52,DZ52,EF52,EL52,ER52,EX52,FD52) -> 0 | FK52: =SUM(DU52,EA52,EG52,EM52,ES52,EY52,FE52) -> 0 | FL52: =SUM(FG52:FK52) -> 0 | FR52: =SUM(FM52:FQ52) -> 0 | FX52: =SUM(FS52:FW52) -> 0 | GD52: =SUM(FY52:GC52) -> 0 | GJ52: =SUM(GE52:GI52) -> 0 | GP52: =SUM(GK52:GO52) -> 0 | GV52: =SUM(GQ52:GU52) -> 0 | HB52: =SUM(GW52:HA52) -> 0 | HH52: =SUM(HC52:HG52) -> 0 | HI52: =SUM(FM52,FS52,FY52,GE52,GK52,GQ52,GW52,HC52) -> 0 | HJ52: =SUM(FN52,FT52,FZ52,GF52,GL52,GR52,GX52,HD52) -> 0 | HK52: =SUM(HE52,GY52,GS52,GM52,GG52,GA52,FU52,FO52) -> 0 | HL52: =SUM(HF52,GZ52,GT52,GN52,GH52,GB52,FV52,FP52) -> 0 | HM52: =SUM(HG52,HA52,GU52,GO52,GI52,GC52,FW52,FQ52) -> 0 | HN52: =SUM(HI52:HM52) -> 0 | HT52: =SUM(HO52:HS52) -> 0 | HZ52: =SUM(HU52:HY52) -> 0 | ID52: 7.4524087 | IF52: =SUM(IA52:IE52) -> 7.4524087 | IG52: =SUM(HO52,HU52,IA52) -> 0 | IH52: =SUM(HP52,HV52,IB52) -> 0 | II52: =SUM(HQ52,HW52,IC52) -> 0 | IJ52: =SUM(HR52,HX52,ID52) -> 7.4524087 | IK52: =SUM(HS52,HY52,IE52) -> 0 | IL52: =SUM(IG52:IK52) -> 7.4524087 | IR52: =SUM(IM52:IQ52) -> 0 | IX52: =SUM(IS52:IW52) -> 0 | JD52: =SUM(IY52:JC52) -> 0 | JE52: =SUM(IM52,IS52,IY52) -> 0 | JF52: =SUM(IN52,IT52,IZ52) -> 0 | JG52: =SUM(IO52,IU52,JA52) -> 0 | JH52: =SUM(IP52,IV52,JB52) -> 0 | JI52: =SUM(IQ52,IW52,JC52) -> 0 | JJ52: =SUM(JE52:JI52) -> 0 | JL52: =SUM(T52,BD52,CB52,DJ52,FG52,HI52,IG52,JE52) -> 0 | JM52: =SUM(U52,BE52,CC52,DK52,FH52,HJ52,IH52,JF52) -> 3078.6126 | JN52: =SUM(V52,BF52,CD52,DL52,FI52,HK52,II52,JG52) -> 1119.1902 | JO52: =SUM(W52,BG52,CE52,DM52,FJ52,HL52,IJ52,JH52) -> 110.4128 | JP52: =SUM(X52,BH52,CF52,DN52,FK52,HM52,IK52,JI52) -> 0 | JQ52: =SUM(DO52) -> 0 | JR52: =SUM(JL52:JQ52) -> 4308.2156
A53: NCB=Birch decline | G53: =SUM(B53:F53) -> 0 | M53: =SUM(H53:L53) -> 0 | S53: =SUM(N53:R53) -> 0 | T53: =SUM(B53,H53,N53) -> 0 | U53: =SUM(C53,I53,O53) -> 0 | V53: =SUM(D53,J53,P53) -> 0 | W53: =SUM(E53,K53,Q53) -> 0 | X53: =SUM(F53,L53,R53) -> 0 | Y53: =SUM(T53:X53) -> 0 | AE53: =SUM(Z53:AD53) -> 0 | AK53: =SUM(AF53:AJ53) -> 0 | AQ53: =SUM(AL53:AP53) -> 0 | AW53: =SUM(AR53:AV53) -> 0 | BC53: =SUM(AX53:BB53) -> 0 | BD53: =SUM(Z53,AF53,AL53,AR53,AX53) -> 0 | BE53: =SUM(AA53,AG53,AM53,AS53,AY53) -> 0 | BF53: =SUM(AB53,AH53,AN53,AT53,AZ53) -> 0 | BG53: =SUM(AC53,AI53,AO53,AU53,BA53) -> 0 | BH53: =SUM(AD53,AJ53,AP53,AV53,BB53) -> 0 | BI53: =SUM(BD53:BH53) -> 0 | BO53: =SUM(BJ53:BN53) -> 0 | BU53: =SUM(BP53:BT53) -> 0 | CA53: =SUM(BV53:BZ53) -> 0 | CB53: =SUM(BJ53,BP53,BV53) -> 0 | CC53: =SUM(BK53,BQ53,BW53) -> 0 | CD53: =SUM(BL53,BR53,BX53) -> 0 | CE53: =SUM(BM53,BS53,BY53) -> 0 | CF53: =SUM(BN53,BT53,BZ53) -> 0 | CG53: =SUM(CB53:CF53) -> 0 | CN53: =SUM(CH53:CM53) -> 0 | CU53: =SUM(CO53:CT53) -> 0 | DB53: =SUM(CV53:DA53) -> 0 | DE53: 125.29601 | DI53: =SUM(DC53:DH53) -> 125.29601 | DJ53: =SUM(CH53,CO53,CV53,DC53) -> 0 | DK53: =SUM(CI53,CP53,CW53,DD53) -> 0 | DL53: =SUM(CJ53,CQ53,CX53,DE53) -> 125.29601 | DM53: =SUM(CK53,CR53,CY53,DF53) -> 0 | DN53: =SUM(CL53,CS53,CZ53,DG53) -> 0 | DO53: =SUM(CM53,CT53,DA53,DH53) -> 0 | DP53: =SUM(DJ53:DO53) -> 125.29601 | DV53: =SUM(DQ53:DU53) -> 0 | EB53: =SUM(DW53:EA53) -> 0 | EH53: =SUM(EC53:EG53) -> 0 | EN53: =SUM(EI53:EM53) -> 0 | ET53: =SUM(EO53:ES53) -> 0 | EZ53: =SUM(EU53:EY53) -> 0 | FF53: =SUM(FA53:FE53) -> 0 | FG53: =SUM(DQ53,DW53,EC53,EI53,EO53,EU53,FA53) -> 0 | FH53: =SUM(DR53,DX53,ED53,EJ53,EP53,EV53,FB53) -> 0 | FI53: =SUM(DS53,DY53,EE53,EK53,EQ53,EW53,FC53) -> 0 | FJ53: =SUM(DT53,DZ53,EF53,EL53,ER53,EX53,FD53) -> 0 | FK53: =SUM(DU53,EA53,EG53,EM53,ES53,EY53,FE53) -> 0 | FL53: =SUM(FG53:FK53) -> 0 | FR53: =SUM(FM53:FQ53) -> 0 | FX53: =SUM(FS53:FW53) -> 0 | GD53: =SUM(FY53:GC53) -> 0 | GJ53: =SUM(GE53:GI53) -> 0 | GP53: =SUM(GK53:GO53) -> 0 | GV53: =SUM(GQ53:GU53) -> 0 | HB53: =SUM(GW53:HA53) -> 0 | HH53: =SUM(HC53:HG53) -> 0 | HI53: =SUM(FM53,FS53,FY53,GE53,GK53,GQ53,GW53,HC53) -> 0 | HJ53: =SUM(FN53,FT53,FZ53,GF53,GL53,GR53,GX53,HD53) -> 0 | HK53: =SUM(HE53,GY53,GS53,GM53,GG53,GA53,FU53,FO53) -> 0 | HL53: =SUM(HF53,GZ53,GT53,GN53,GH53,GB53,FV53,FP53) -> 0 | HM53: =SUM(HG53,HA53,GU53,GO53,GI53,GC53,FW53,FQ53) -> 0 | HN53: =SUM(HI53:HM53) -> 0 | HT53: =SUM(HO53:HS53) -> 0 | HZ53: =SUM(HU53:HY53) -> 0 | IF53: =SUM(IA53:IE53) -> 0 | IG53: =SUM(HO53,HU53,IA53) -> 0 | IH53: =SUM(HP53,HV53,IB53) -> 0 | II53: =SUM(HQ53,HW53,IC53) -> 0 | IJ53: =SUM(HR53,HX53,ID53) -> 0 | IK53: =SUM(HS53,HY53,IE53) -> 0 | IL53: =SUM(IG53:IK53) -> 0 | IR53: =SUM(IM53:IQ53) -> 0 | IX53: =SUM(IS53:IW53) -> 0 | JD53: =SUM(IY53:JC53) -> 0 | JE53: =SUM(IM53,IS53,IY53) -> 0 | JF53: =SUM(IN53,IT53,IZ53) -> 0 | JG53: =SUM(IO53,IU53,JA53) -> 0 | JH53: =SUM(IP53,IV53,JB53) -> 0 | JI53: =SUM(IQ53,IW53,JC53) -> 0 | JJ53: =SUM(JE53:JI53) -> 0 | JL53: =SUM(T53,BD53,CB53,DJ53,FG53,HI53,IG53,JE53) -> 0 | JM53: =SUM(U53,BE53,CC53,DK53,FH53,HJ53,IH53,JF53) -> 0 | JN53: =SUM(V53,BF53,CD53,DL53,FI53,HK53,II53,JG53) -> 125.29601 | JO53: =SUM(W53,BG53,CE53,DM53,FJ53,HL53,IJ53,JH53) -> 0 | JP53: =SUM(X53,BH53,CF53,DN53,FK53,HM53,IK53,JI53) -> 0 | JQ53: =SUM(DO53) -> 0 | JR53: =SUM(JL53:JQ53) -> 125.29601
A54: NCY=Yellow cedar decline | G54: =SUM(B54:F54) -> 0 | M54: =SUM(H54:L54) -> 0 | S54: =SUM(N54:R54) -> 0 | T54: =SUM(B54,H54,N54) -> 0 | U54: =SUM(C54,I54,O54) -> 0 | V54: =SUM(D54,J54,P54) -> 0 | W54: =SUM(E54,K54,Q54) -> 0 | X54: =SUM(F54,L54,R54) -> 0 | Y54: =SUM(T54:X54) -> 0 | AE54: =SUM(Z54:AD54) -> 0 | AF54: 1599.9392 | AG54: 41.871476 | AI54: 7.25 | AK54: =SUM(AF54:AJ54) -> 1649.0607 | AL54: 4406.6171 | AM54: 312.43035 | AN54: 14.416439 | AO54: 5 | AQ54: =SUM(AL54:AP54) -> 4738.4639 | AW54: =SUM(AR54:AV54) -> 0 | AY54: 32.247105 | BC54: =SUM(AX54:BB54) -> 32.247105 | BD54: =SUM(Z54,AF54,AL54,AR54,AX54) -> 6006.5563 | BE54: =SUM(AA54,AG54,AM54,AS54,AY54) -> 386.54893 | BF54: =SUM(AB54,AH54,AN54,AT54,AZ54) -> 14.416439 | BG54: =SUM(AC54,AI54,AO54,AU54,BA54) -> 12.25 | BH54: =SUM(AD54,AJ54,AP54,AV54,BB54) -> 0 | BI54: =SUM(BD54:BH54) -> 6419.7717 | BO54: =SUM(BJ54:BN54) -> 0 | BU54: =SUM(BP54:BT54) -> 0 | CA54: =SUM(BV54:BZ54) -> 0 | CB54: =SUM(BJ54,BP54,BV54) -> 0 | CC54: =SUM(BK54,BQ54,BW54) -> 0 | CD54: =SUM(BL54,BR54,BX54) -> 0 | CE54: =SUM(BM54,BS54,BY54) -> 0 | CF54: =SUM(BN54,BT54,BZ54) -> 0 | CG54: =SUM(CB54:CF54) -> 0 | CN54: =SUM(CH54:CM54) -> 0 | CU54: =SUM(CO54:CT54) -> 0 | DB54: =SUM(CV54:DA54) -> 0 | DI54: =SUM(DC54:DH54) -> 0 | DJ54: =SUM(CH54,CO54,CV54,DC54) -> 0 | DK54: =SUM(CI54,CP54,CW54,DD54) -> 0 | DL54: =SUM(CJ54,CQ54,CX54,DE54) -> 0 | DM54: =SUM(CK54,CR54,CY54,DF54) -> 0 | DN54: =SUM(CL54,CS54,CZ54,DG54) -> 0 | DO54: =SUM(CM54,CT54,DA54,DH54) -> 0 | DP54: =SUM(DJ54:DO54) -> 0 | DV54: =SUM(DQ54:DU54) -> 0 | EB54: =SUM(DW54:EA54) -> 0 | EH54: =SUM(EC54:EG54) -> 0 | EN54: =SUM(EI54:EM54) -> 0 | ET54: =SUM(EO54:ES54) -> 0 | EZ54: =SUM(EU54:EY54) -> 0 | FF54: =SUM(FA54:FE54) -> 0 | FG54: =SUM(DQ54,DW54,EC54,EI54,EO54,EU54,FA54) -> 0 | FH54: =SUM(DR54,DX54,ED54,EJ54,EP54,EV54,FB54) -> 0 | FI54: =SUM(DS54,DY54,EE54,EK54,EQ54,EW54,FC54) -> 0 | FJ54: =SUM(DT54,DZ54,EF54,EL54,ER54,EX54,FD54) -> 0 | FK54: =SUM(DU54,EA54,EG54,EM54,ES54,EY54,FE54) -> 0 | FL54: =SUM(FG54:FK54) -> 0 | FR54: =SUM(FM54:FQ54) -> 0 | FX54: =SUM(FS54:FW54) -> 0 | FY54: 587.25939 | GD54: =SUM(FY54:GC54) -> 587.25939 | GJ54: =SUM(GE54:GI54) -> 0 | GP54: =SUM(GK54:GO54) -> 0 | GV54: =SUM(GQ54:GU54) -> 0 | HB54: =SUM(GW54:HA54) -> 0 | HD54: 2299.9173 | HE54: 207.72801 | HF54: 10.491329 | HH54: =SUM(HC54:HG54) -> 2518.1366 | HI54: =SUM(FM54,FS54,FY54,GE54,GK54,GQ54,GW54,HC54) -> 587.25939 | HJ54: =SUM(FN54,FT54,FZ54,GF54,GL54,GR54,GX54,HD54) -> 2299.9173 | HK54: =SUM(HE54,GY54,GS54,GM54,GG54,GA54,FU54,FO54) -> 207.72801 | HL54: =SUM(HF54,GZ54,GT54,GN54,GH54,GB54,FV54,FP54) -> 10.491329 | HM54: =SUM(HG54,HA54,GU54,GO54,GI54,GC54,FW54,FQ54) -> 0 | HN54: =SUM(HI54:HM54) -> 3105.396 | HT54: =SUM(HO54:HS54) -> 0 | HZ54: =SUM(HU54:HY54) -> 0 | IF54: =SUM(IA54:IE54) -> 0 | IG54: =SUM(HO54,HU54,IA54) -> 0 | IH54: =SUM(HP54,HV54,IB54) -> 0 | II54: =SUM(HQ54,HW54,IC54) -> 0 | IJ54: =SUM(HR54,HX54,ID54) -> 0 | IK54: =SUM(HS54,HY54,IE54) -> 0 | IL54: =SUM(IG54:IK54) -> 0 | IR54: =SUM(IM54:IQ54) -> 0 | IX54: =SUM(IS54:IW54) -> 0 | JD54: =SUM(IY54:JC54) -> 0 | JE54: =SUM(IM54,IS54,IY54) -> 0 | JF54: =SUM(IN54,IT54,IZ54) -> 0 | JG54: =SUM(IO54,IU54,JA54) -> 0 | JH54: =SUM(IP54,IV54,JB54) -> 0 | JI54: =SUM(IQ54,IW54,JC54) -> 0 | JJ54: =SUM(JE54:JI54) -> 0 | JL54: =SUM(T54,BD54,CB54,DJ54,FG54,HI54,IG54,JE54) -> 6593.8157 | JM54: =SUM(U54,BE54,CC54,DK54,FH54,HJ54,IH54,JF54) -> 2686.4662 | JN54: =SUM(V54,BF54,CD54,DL54,FI54,HK54,II54,JG54) -> 222.14445 | JO54: =SUM(W54,BG54,CE54,DM54,FJ54,HL54,IJ54,JH54) -> 22.741329 | JP54: =SUM(X54,BH54,CF54,DN54,FK54,HM54,IK54,JI54) -> 0 | JQ54: =SUM(DO54) -> 0 | JR54: =SUM(JL54:JQ54) -> 9525.1677
A55: ND=Drought | E55: 0.5 | G55: =SUM(B55:F55) -> 0.5 | K55: 0.25 | M55: =SUM(H55:L55) -> 0.25 | Q55: 0.25 | S55: =SUM(N55:R55) -> 0.25 | T55: =SUM(B55,H55,N55) -> 0 | U55: =SUM(C55,I55,O55) -> 0 | V55: =SUM(D55,J55,P55) -> 0 | W55: =SUM(E55,K55,Q55) -> 1 | X55: =SUM(F55,L55,R55) -> 0 | Y55: =SUM(T55:X55) -> 1 | AC55: 0.5 | AE55: =SUM(Z55:AD55) -> 0.5 | AK55: =SUM(AF55:AJ55) -> 0 | AQ55: =SUM(AL55:AP55) -> 0 | AW55: =SUM(AR55:AV55) -> 0 | BC55: =SUM(AX55:BB55) -> 0 | BD55: =SUM(Z55,AF55,AL55,AR55,AX55) -> 0 | BE55: =SUM(AA55,AG55,AM55,AS55,AY55) -> 0 | BF55: =SUM(AB55,AH55,AN55,AT55,AZ55) -> 0 | BG55: =SUM(AC55,AI55,AO55,AU55,BA55) -> 0.5 | BH55: =SUM(AD55,AJ55,AP55,AV55,BB55) -> 0 | BI55: =SUM(BD55:BH55) -> 0.5 | BO55: =SUM(BJ55:BN55) -> 0 | BU55: =SUM(BP55:BT55) -> 0 | CA55: =SUM(BV55:BZ55) -> 0 | CB55: =SUM(BJ55,BP55,BV55) -> 0 | CC55: =SUM(BK55,BQ55,BW55) -> 0 | CD55: =SUM(BL55,BR55,BX55) -> 0 | CE55: =SUM(BM55,BS55,BY55) -> 0 | CF55: =SUM(BN55,BT55,BZ55) -> 0 | CG55: =SUM(CB55:CF55) -> 0 | CN55: =SUM(CH55:CM55) -> 0 | CU55: =SUM(CO55:CT55) -> 0 | DB55: =SUM(CV55:DA55) -> 0 | DF55: 289.08047 | DI55: =SUM(DC55:DH55) -> 289.08047 | DJ55: =SUM(CH55,CO55,CV55,DC55) -> 0 | DK55: =SUM(CI55,CP55,CW55,DD55) -> 0 | DL55: =SUM(CJ55,CQ55,CX55,DE55) -> 0 | DM55: =SUM(CK55,CR55,CY55,DF55) -> 289.08047 | DN55: =SUM(CL55,CS55,CZ55,DG55) -> 0 | DO55: =SUM(CM55,CT55,DA55,DH55) -> 0 | DP55: =SUM(DJ55:DO55) -> 289.08047 | DV55: =SUM(DQ55:DU55) -> 0 | EB55: =SUM(DW55:EA55) -> 0 | EH55: =SUM(EC55:EG55) -> 0 | EN55: =SUM(EI55:EM55) -> 0 | ET55: =SUM(EO55:ES55) -> 0 | EZ55: =SUM(EU55:EY55) -> 0 | FF55: =SUM(FA55:FE55) -> 0 | FG55: =SUM(DQ55,DW55,EC55,EI55,EO55,EU55,FA55) -> 0 | FH55: =SUM(DR55,DX55,ED55,EJ55,EP55,EV55,FB55) -> 0 | FI55: =SUM(DS55,DY55,EE55,EK55,EQ55,EW55,FC55) -> 0 | FJ55: =SUM(DT55,DZ55,EF55,EL55,ER55,EX55,FD55) -> 0 | FK55: =SUM(DU55,EA55,EG55,EM55,ES55,EY55,FE55) -> 0 | FL55: =SUM(FG55:FK55) -> 0 | FR55: =SUM(FM55:FQ55) -> 0 | FX55: =SUM(FS55:FW55) -> 0 | GD55: =SUM(FY55:GC55) -> 0 | GJ55: =SUM(GE55:GI55) -> 0 | GP55: =SUM(GK55:GO55) -> 0 | GV55: =SUM(GQ55:GU55) -> 0 | HB55: =SUM(GW55:HA55) -> 0 | HD55: 28983.43 | HE55: 5554.3535 | HF55: 726.9001 | HH55: =SUM(HC55:HG55) -> 35264.683 | HI55: =SUM(FM55,FS55,FY55,GE55,GK55,GQ55,GW55,HC55) -> 0 | HJ55: =SUM(FN55,FT55,FZ55,GF55,GL55,GR55,GX55,HD55) -> 28983.43 | HK55: =SUM(HE55,GY55,GS55,GM55,GG55,GA55,FU55,FO55) -> 5554.3535 | HL55: =SUM(HF55,GZ55,GT55,GN55,GH55,GB55,FV55,FP55) -> 726.9001 | HM55: =SUM(HG55,HA55,GU55,GO55,GI55,GC55,FW55,FQ55) -> 0 | HN55: =SUM(HI55:HM55) -> 35264.683 | HT55: =SUM(HO55:HS55) -> 0 | HZ55: =SUM(HU55:HY55) -> 0 | IF55: =SUM(IA55:IE55) -> 0 | IG55: =SUM(HO55,HU55,IA55) -> 0 | IH55: =SUM(HP55,HV55,IB55) -> 0 | II55: =SUM(HQ55,HW55,IC55) -> 0 | IJ55: =SUM(HR55,HX55,ID55) -> 0 | IK55: =SUM(HS55,HY55,IE55) -> 0 | IL55: =SUM(IG55:IK55) -> 0 | IN55: 4.0284236 | IP55: 127.38663 | IR55: =SUM(IM55:IQ55) -> 131.41505 | IS55: 86.919833 | IT55: 265.04772 | IU55: 330.67648 | IV55: 120.2835 | IX55: =SUM(IS55:IW55) -> 802.92753 | JD55: =SUM(IY55:JC55) -> 0 | JE55: =SUM(IM55,IS55,IY55) -> 86.919833 | JF55: =SUM(IN55,IT55,IZ55) -> 269.07615 | JG55: =SUM(IO55,IU55,JA55) -> 330.67648 | JH55: =SUM(IP55,IV55,JB55) -> 247.67013 | JI55: =SUM(IQ55,IW55,JC55) -> 0 | JJ55: =SUM(JE55:JI55) -> 934.34258 | JL55: =SUM(T55,BD55,CB55,DJ55,FG55,HI55,IG55,JE55) -> 86.919833 | JM55: =SUM(U55,BE55,CC55,DK55,FH55,HJ55,IH55,JF55) -> 29252.506 | JN55: =SUM(V55,BF55,CD55,DL55,FI55,HK55,II55,JG55) -> 5885.03 | JO55: =SUM(W55,BG55,CE55,DM55,FJ55,HL55,IJ55,JH55) -> 1265.1507 | JP55: =SUM(X55,BH55,CF55,DN55,FK55,HM55,IK55,JI55) -> 0 | JQ55: =SUM(DO55) -> 0 | JR55: =SUM(JL55:JQ55) -> 36489.606
A56: NF=Flooding | E56: 0.75 | F56: 4.6053164 | G56: =SUM(B56:F56) -> 5.3553164 | K56: 0.5 | M56: =SUM(H56:L56) -> 0.5 | P56: 22.981809 | Q56: 34.243113 | S56: =SUM(N56:R56) -> 57.224922 | T56: =SUM(B56,H56,N56) -> 0 | U56: =SUM(C56,I56,O56) -> 0 | V56: =SUM(D56,J56,P56) -> 22.981809 | W56: =SUM(E56,K56,Q56) -> 35.493113 | X56: =SUM(F56,L56,R56) -> 4.6053164 | Y56: =SUM(T56:X56) -> 63.080238 | AB56: 11.608186 | AC56: 6.2599684 | AE56: =SUM(Z56:AD56) -> 17.868154 | AG56: 25.016229 | AH56: 137.48291 | AI56: 191.78569 | AJ56: 3.3236039 | AK56: =SUM(AF56:AJ56) -> 357.60843 | AM56: 52.829458 | AN56: 183.1577 | AO56: 356.04442 | AQ56: =SUM(AL56:AP56) -> 592.03158 | AW56: =SUM(AR56:AV56) -> 0 | BA56: 1.75 | BC56: =SUM(AX56:BB56) -> 1.75 | BD56: =SUM(Z56,AF56,AL56,AR56,AX56) -> 0 | BE56: =SUM(AA56,AG56,AM56,AS56,AY56) -> 77.845687 | BF56: =SUM(AB56,AH56,AN56,AT56,AZ56) -> 332.24879 | BG56: =SUM(AC56,AI56,AO56,AU56,BA56) -> 555.84008 | BH56: =SUM(AD56,AJ56,AP56,AV56,BB56) -> 3.3236039 | BI56: =SUM(BD56:BH56) -> 969.25816 | BM56: 9.0810057 | BO56: =SUM(BJ56:BN56) -> 9.0810057 | BQ56: 9.6761921 | BR56: 39.898377 | BS56: 162.55023 | BU56: =SUM(BP56:BT56) -> 212.1248 | BV56: 647.10073 | BW56: 1232.5975 | BX56: 273.34107 | BY56: 622.38194 | CA56: =SUM(BV56:BZ56) -> 2775.4212 | CB56: =SUM(BJ56,BP56,BV56) -> 647.10073 | CC56: =SUM(BK56,BQ56,BW56) -> 1242.2737 | CD56: =SUM(BL56,BR56,BX56) -> 313.23944 | CE56: =SUM(BM56,BS56,BY56) -> 794.01318 | CF56: =SUM(BN56,BT56,BZ56) -> 0 | CG56: =SUM(CB56:CF56) -> 2996.627 | CJ56: 6.6715232 | CL56: 4.7146625 | CN56: =SUM(CH56:CM56) -> 11.386186 | CR56: 4.9152282 | CU56: =SUM(CO56:CT56) -> 4.9152282 | DB56: =SUM(CV56:DA56) -> 0 | DF56: 24.382324 | DI56: =SUM(DC56:DH56) -> 24.382324 | DJ56: =SUM(CH56,CO56,CV56,DC56) -> 0 | DK56: =SUM(CI56,CP56,CW56,DD56) -> 0 | DL56: =SUM(CJ56,CQ56,CX56,DE56) -> 6.6715232 | DM56: =SUM(CK56,CR56,CY56,DF56) -> 29.297552 | DN56: =SUM(CL56,CS56,CZ56,DG56) -> 4.7146625 | DO56: =SUM(CM56,CT56,DA56,DH56) -> 0 | DP56: =SUM(DJ56:DO56) -> 40.683737 | DV56: =SUM(DQ56:DU56) -> 0 | EB56: =SUM(DW56:EA56) -> 0 | EF56: 4.0725327 | EH56: =SUM(EC56:EG56) -> 4.0725327 | EL56: 443.85168 | EN56: =SUM(EI56:EM56) -> 443.85168 | ER56: 31.137171 | ET56: =SUM(EO56:ES56) -> 31.137171 | EZ56: =SUM(EU56:EY56) -> 0 | FF56: =SUM(FA56:FE56) -> 0 | FG56: =SUM(DQ56,DW56,EC56,EI56,EO56,EU56,FA56) -> 0 | FH56: =SUM(DR56,DX56,ED56,EJ56,EP56,EV56,FB56) -> 0 | FI56: =SUM(DS56,DY56,EE56,EK56,EQ56,EW56,FC56) -> 0 | FJ56: =SUM(DT56,DZ56,EF56,EL56,ER56,EX56,FD56) -> 479.06138 | FK56: =SUM(DU56,EA56,EG56,EM56,ES56,EY56,FE56) -> 0 | FL56: =SUM(FG56:FK56) -> 479.06138 | FR56: =SUM(FM56:FQ56) -> 0 | FU56: 14.141363 | FV56: 75.640961 | FX56: =SUM(FS56:FW56) -> 89.782324 | FZ56: 30.791763 | GA56: 18.427817 | GB56: 174.97903 | GD56: =SUM(FY56:GC56) -> 224.19861 | GH56: 41.935481 | GJ56: =SUM(GE56:GI56) -> 41.935481 | GL56: 31.218998 | GM56: 20.205577 | GN56: 108.89102 | GP56: =SUM(GK56:GO56) -> 160.3156 | GV56: =SUM(GQ56:GU56) -> 0 | GZ56: 47.153689 | HB56: =SUM(GW56:HA56) -> 47.153689 | HF56: 91.942605 | HH56: =SUM(HC56:HG56) -> 91.942605 | HI56: =SUM(FM56,FS56,FY56,GE56,GK56,GQ56,GW56,HC56) -> 0 | HJ56: =SUM(FN56,FT56,FZ56,GF56,GL56,GR56,GX56,HD56) -> 62.010761 | HK56: =SUM(HE56,GY56,GS56,GM56,GG56,GA56,FU56,FO56) -> 52.774756 | HL56: =SUM(HF56,GZ56,GT56,GN56,GH56,GB56,FV56,FP56) -> 540.54278 | HM56: =SUM(HG56,HA56,GU56,GO56,GI56,GC56,FW56,FQ56) -> 0 | HN56: =SUM(HI56:HM56) -> 655.3283 | HR56: 38.094157 | HT56: =SUM(HO56:HS56) -> 38.094157 | HZ56: =SUM(HU56:HY56) -> 0 | IB56: 30.777844 | IC56: 13.62919 | ID56: 518.40271 | IF56: =SUM(IA56:IE56) -> 562.80974 | IG56: =SUM(HO56,HU56,IA56) -> 0 | IH56: =SUM(HP56,HV56,IB56) -> 30.777844 | II56: =SUM(HQ56,HW56,IC56) -> 13.62919 | IJ56: =SUM(HR56,HX56,ID56) -> 556.49687 | IK56: =SUM(HS56,HY56,IE56) -> 0 | IL56: =SUM(IG56:IK56) -> 600.9039 | IP56: 8.0239451 | IR56: =SUM(IM56:IQ56) -> 8.0239451 | IS56: 5292.3507 | IU56: 1010.0857 | IV56: 7431.8613 | IX56: =SUM(IS56:IW56) -> 13734.298 | JA56: 31.995267 | JB56: 214.86772 | JD56: =SUM(IY56:JC56) -> 246.86299 | JE56: =SUM(IM56,IS56,IY56) -> 5292.3507 | JF56: =SUM(IN56,IT56,IZ56) -> 0 | JG56: =SUM(IO56,IU56,JA56) -> 1042.0809 | JH56: =SUM(IP56,IV56,JB56) -> 7654.753 | JI56: =SUM(IQ56,IW56,JC56) -> 0 | JJ56: =SUM(JE56:JI56) -> 13989.185 | JL56: =SUM(T56,BD56,CB56,DJ56,FG56,HI56,IG56,JE56) -> 5939.4514 | JM56: =SUM(U56,BE56,CC56,DK56,FH56,HJ56,IH56,JF56) -> 1412.908 | JN56: =SUM(V56,BF56,CD56,DL56,FI56,HK56,II56,JG56) -> 1783.6264 | JO56: =SUM(W56,BG56,CE56,DM56,FJ56,HL56,IJ56,JH56) -> 10645.498 | JP56: =SUM(X56,BH56,CF56,DN56,FK56,HM56,IK56,JI56) -> 12.643583 | JQ56: =SUM(DO56) -> 0 | JR56: =SUM(JL56:JQ56) -> 19794.127
