Workbook
Name fhdata_Query: #REF!
Name PARKS_Query: #REF!
Name sum_data: #REF!
Name sum_data: #REF!

Sheet Annual Report
A1: 2012 Aerial Overview Summary for British Columbia
B2: Forest Regions | J2: Provincial
B3: South Coast | C3: West Coast | D3: Cariboo | E3: Thompson/ Okanagan | F3: Kootenay/ Boundary | G3: Skeena | H3: Omineca | I3: Northeast | J3: Total
A5: Bark Beetles
A6: IBM=Mountain Pine Beetle | B6: =Master!Y6 -> 5116.1692 | C6: =Master!BI6 -> 341.97093 | D6: =Master!CG6 -> 13313.889 | E6: =Master!DP6 -> 58727.643 | F6: =Master!FL6 -> 38110.947 | G6: =Master!HN6 -> 331200.76 | H6: =Master!IL6 -> 1488084.2 | I6: =Master!JJ6 -> 1081332.6 | J6: =SUM(B6:I6) -> 3016228.2
A7: IBS=Spruce Beetle | B7: =Master!Y7 -> 854.47858 | C7: =Master!BI7 -> 60.260712 | D7: =Master!CG7 -> 30127.429 | E7: =Master!DP7 -> 3632.4984 | F7: =Master!FL7 -> 650.04782 | G7: =Master!HN7 -> 254.07074 | H7: =Master!IL7 -> 1165.2845 | I7: =Master!JJ7 -> 6118.191 | J7: =SUM(B7:I7) -> 42862.26
A8: IBB=Western Balsam Bark Beetle | B8: =Master!Y8 -> 3855.1638 | C8: =Master!BI8 -> 4859.2998 | D8: =Master!CG8 -> 48340.856 | E8: =Master!DP8 -> 157284.36 | F8: =Master!FL8 -> 6965.927 | G8: =Master!HN8 -> 350633.26 | H8: =Master!IL8 -> 120547.44 | I8: =Master!JJ8 -> 29942.612 | J8: =SUM(B8:I8) -> 722428.92
A9: IBD=Douglas-fir Beetle | B9: =Master!Y9 -> 1606.5076 | C9: =Master!BI9 -> 1106.5252 | D9: =Master!CG9 -> 12096.19 | E9: =Master!DP9 -> 1663.6992 | F9: =Master!FL9 -> 1375.632 | G9: =Master!HN9 -> 949.61591 | H9: =Master!IL9 -> 2203.227 | I9: =Master!JJ9 -> 0 | J9: =SUM(B9:I9) -> 21001.397
A10: IBF=Fir engraver beetle | B10: =Master!Y10 -> 0 | C10: =Master!BI10 -> 0 | D10: =Master!CG10 -> 0 | E10: =Master!DP10 -> 0 | F10: =Master!FL10 -> 0 | G10: =Master!HN10 -> 0 | H10: =Master!IL10 -> 0 | I10: =Master!JJ10 -> 0 | J10: =SUM(B10:I10) -> 0
A11: IBP=Twig beetle | B11: =Master!Y11 -> 0 | C11: =Master!BI11 -> 0 | D11: =Master!CG11 -> 0 | E11: =Master!DP11 -> 0 | F11: =Master!FL11 -> 0 | G11: =Master!HN11 -> 0 | H11: =Master!IL11 -> 0 | I11: =Master!JJ11 -> 0 | J11: =SUM(B11:I11) -> 0
A12: IBI=Engraver Beetle (Ips species) | B12: =Master!Y12 -> 0 | C12: =Master!BI12 -> 0 | D12: =Master!CG12 -> 0 | E12: =Master!DP12 -> 0 | F12: =Master!FL12 -> 0 | G12: =Master!HN12 -> 0 | H12: =Master!IL12 -> 0 | I12: =Master!JJ12 -> 0 | J12: =SUM(B12:I12) -> 0
A13: IBW=Western Pine Beetle | B13: =Master!Y13 -> 0 | C13: =Master!BI13 -> 0 | D13: =Master!CG13 -> 0 | E13: =Master!DP13 -> 0 | F13: =Master!FL13 -> 0 | G13: =Master!HN13 -> 0 | H13: =Master!IL13 -> 0 | I13: =Master!JJ13 -> 0 | J13: =SUM(B13:I13) -> 0
A14: IBL=Lodgepole Pine Beetle | B14: =Master!Y14 -> 0 | C14: =Master!BI14 -> 0 | D14: =Master!CG14 -> 0 | E14: =Master!DP14 -> 0 | F14: =Master!FL14 -> 0 | G14: =Master!HN14 -> 0 | H14: =Master!IL14 -> 0 | I14: =Master!JJ14 -> 0 | J14: =SUM(B14:I14) -> 0
A15: IBT=Red Turpentine Beetle | B15: =Master!Y15 -> 0 | C15: =Master!BI15 -> 0 | D15: =Master!CG15 -> 0 | E15: =Master!DP15 -> 0 | F15: =Master!FL15 -> 0 | G15: =Master!HN15 -> 0 | H15: =Master!IL15 -> 0 | I15: =Master!JJ15 -> 0 | J15: =SUM(B15:I15) -> 0
A16: I?B=Young pine mortality | B16: =Master!Y16 -> 0 | C16: =Master!BI16 -> 0 | D16: =Master!CG16 -> 571.23183 | E16: =Master!DP16 -> 0 | F16: =Master!FL16 -> 0 | G16: =Master!HN16 -> 4306.6484 | H16: =Master!IL16 -> 113.23064 | I16: =Master!JJ16 -> 0 | J16: =SUM(B16:I16) -> 4991.1108
A17: IWW=Warrens Root Collar Weevil | B17: =Master!Y17 -> 0 | C17: =Master!BI17 -> 0 | D17: =Master!CG17 -> 0 | E17: =Master!DP17 -> 0 | F17: =Master!FL17 -> 0 | G17: =Master!HN17 -> 0 | H17: =Master!IL17 -> 0 | I17: =Master!JJ17 -> 0 | J17: =SUM(B17:I17) -> 0
A18: Total All BB= | B18: =Master!Y18 -> 11432.319 | C18: =Master!BI18 -> 6368.0567 | D18: =Master!CG18 -> 104449.59 | E18: =Master!DP18 -> 221308.2 | F18: =Master!FL18 -> 47102.553 | G18: =Master!HN18 -> 687344.36 | H18: =Master!IL18 -> 1612113.4 | I18: =Master!JJ18 -> 1117393.4 | J18: =SUM(B18:I18) -> 3807511.9
A20: Defoliators
A21: ID=Defoliators | B21: =Master!Y21 -> 36.830558 | C21: =Master!BI21 -> 40.720581 | D21: =Master!CG21 -> 0 | E21: =Master!DP21 -> 0 | F21: =Master!FL21 -> 0 | G21: =Master!HN21 -> 9353.2833 | H21: =Master!IL21 -> 20.476539 | I21: =Master!JJ21 -> 0 | J21: =SUM(B21:I21) -> 9451.311
A22: IAB=Balsam Woolly Adelgid | B22: =Master!Y22 -> 310.34239 | C22: =Master!BI22 -> 104.88456 | D22: =Master!CG22 -> 0 | E22: =Master!DP22 -> 0 | F22: =Master!FL22 -> 0 | G22: =Master!HN22 -> 0 | H22: =Master!IL22 -> 0 | I22: =Master!JJ22 -> 0 | J22: =SUM(B22:I22) -> 415.22695
A23: IAS=Green Spruce Aphid | B23: =Master!Y23 -> 0 | C23: =Master!BI23 -> 0 | D23: =Master!CG23 -> 0 | E23: =Master!DP23 -> 0 | F23: =Master!FL23 -> 0 | G23: =Master!HN23 -> 0 | H23: =Master!IL23 -> 0 | I23: =Master!JJ23 -> 0 | J23: =SUM(B23:I23) -> 0
A24: ID2=Bruce spanworm | B24: =Master!Y24 -> 0 | C24: =Master!BI24 -> 0 | D24: =Master!CG24 -> 0 | E24: =Master!DP24 -> 0 | F24: =Master!FL24 -> 0 | G24: =Master!HN24 -> 0 | H24: =Master!IL24 -> 0 | I24: =Master!JJ24 -> 0 | J24: =SUM(B24:I24) -> 0
A25: ID6=Aspen Leaf Miner | B25: =Master!Y25 -> 9.0214893 | C25: =Master!BI25 -> 612.33278 | D25: =Master!CG25 -> 38249.383 | E25: =Master!DP25 -> 36132.338 | F25: =Master!FL25 -> 17774.468 | G25: =Master!HN25 -> 491556.25 | H25: =Master!IL25 -> 218165.52 | I25: =Master!JJ25 -> 369709.86 | J25: =SUM(B25:I25) -> 1172209.2
A26: IDA=Black Army Cutworm | B26: =Master!Y26 -> 0 | C26: =Master!BI26 -> 0 | D26: =Master!CG26 -> 0 | E26: =Master!DP26 -> 0 | F26: =Master!FL26 -> 0 | G26: =Master!HN26 -> 0 | H26: =Master!IL26 -> 0 | I26: =Master!JJ26 -> 0 | J26: =SUM(B26:I26) -> 0
A27: IDB=2-Year Budworm | B27: =Master!Y27 -> 0 | C27: =Master!BI27 -> 0 | D27: =Master!CG27 -> 40505.925 | E27: =Master!DP27 -> 21851.448 | F27: =Master!FL27 -> 0 | G27: =Master!HN27 -> 208.91573 | H27: =Master!IL27 -> 12324.622 | I27: =Master!JJ27 -> 0 | J27: =SUM(B27:I27) -> 74890.911
A28: IDC=Larch casebearer | B28: =Master!Y28 -> 0 | C28: =Master!BI28 -> 0 | D28: =Master!CG28 -> 0 | E28: =Master!DP28 -> 0 | F28: =Master!FL28 -> 0 | G28: =Master!HN28 -> 0 | H28: =Master!IL28 -> 0 | I28: =Master!JJ28 -> 0 | J28: =SUM(B28:I28) -> 0
A29: IDE=Spruce Budworm | B29: =Master!Y29 -> 0 | C29: =Master!BI29 -> 0 | D29: =Master!CG29 -> 0 | E29: =Master!DP29 -> 0 | F29: =Master!FL29 -> 0 | G29: =Master!HN29 -> 0 | H29: =Master!IL29 -> 0 | I29: =Master!JJ29 -> 0 | J29: =SUM(B29:I29) -> 0
A30: IDF=Forest Tent Caterpillar | B30: =Master!Y30 -> 0 | C30: =Master!BI30 -> 0 | D30: =Master!CG30 -> 9251.0923 | E30: =Master!DP30 -> 1305.771 | F30: =Master!FL30 -> 0 | G30: =Master!HN30 -> 746.79668 | H30: =Master!IL30 -> 184264.89 | I30: =Master!JJ30 -> 3363.4825 | J30: =SUM(B30:I30) -> 198932.03
A31: IDH=Western Blackheaded Budworm | B31: =Master!Y31 -> 0 | C31: =Master!BI31 -> 34849.346 | D31: =Master!CG31 -> 0 | E31: =Master!DP31 -> 0 | F31: =Master!FL31 -> 0 | G31: =Master!HN31 -> 0 | H31: =Master!IL31 -> 0 | I31: =Master!JJ31 -> 0 | J31: =SUM(B31:I31) -> 34849.346
A32: IDI=Pine needle sheathminer | B32: =Master!Y32 -> 0 | C32: =Master!BI32 -> 0 | D32: =Master!CG32 -> 174.53847 | E32: =Master!DP32 -> 342.81328 | F32: =Master!FL32 -> 0 | G32: =Master!HN32 -> 0 | H32: =Master!IL32 -> 0 | I32: =Master!JJ32 -> 0 | J32: =SUM(B32:I32) -> 517.35175
... A45: Total Defoliators= | B45: =Master!Y45 -> 1969.506 | C45: =Master!BI45 -> 35607.284 | D45: =Master!CG45 -> 222189.49 | E45: =Master!DP45 -> 340050.11 | F45: =Master!FL45 -> 71660.638 | G45: =Master!HN45 -> 508011.71 | H45: =Master!IL45 -> 414775.51 | I45: =Master!JJ45 -> 373648.43 | J45: =SUM(B45:I45) -> 1967912.7
A47: Other
A48: N | B48: =Master!Y48 -> 0 | C48: =Master!BI48 -> 0 | D48: =Master!CG48 -> 0 | E48: =Master!DP48 -> 0 | F48: =Master!FL48 -> 0 | G48: =Master!HN48 -> 0 | H48: =Master!IL48 -> 0 | I48: =Master!JJ48 -> 0 | J48: =SUM(B48:I48) -> 0
A49: NAV=Avalanche or snow slide | B49: =Master!Y49 -> 11.513724 | C49: =Master!BI49 -> 287.00151 | D49: =Master!CG49 -> 80.154688 | E49: =Master!DP49 -> 10.203574 | F49: =Master!FL49 -> 0 | G49: =Master!HN49 -> 51.678266 | H49: =Master!IL49 -> 70.452992 | I49: =Master!JJ49 -> 0 | J49: =SUM(B49:I49) -> 511.00476
A50: NB=Fire | B50: =Master!Y50 -> 196.85299 | C50: =Master!BI50 -> 400.99252 | D50: =Master!CG50 -> 2486.0172 | E50: =Master!DP50 -> 1815.1115 | F50: =Master!FL50 -> 1414.4242 | G50: =Master!HN50 -> 11533.491 | H50: =Master!IL50 -> 6107.6787 | I50: =Master!JJ50 -> 73489.211 | J50: =SUM(B50:I50) -> 97443.779
A51: NBP=Post Fire | B51: =Master!Y51 -> 0 | C51: =Master!BI51 -> 154.37804 | D51: =Master!CG51 -> 11495.318 | E51: =Master!DP51 -> 0 | F51: =Master!FL51 -> 0 | G51: =Master!HN51 -> 239.61349 | H51: =Master!IL51 -> 2380.1966 | I51: =Master!JJ51 -> 0 | J51: =SUM(B51:I51) -> 14269.506
A52: NCA=Aspen decline | B52: =Master!Y52 -> 0 | C52: =Master!BI52 -> 0 | D52: =Master!CG52 -> 123.63077 | E52: =Master!DP52 -> 4177.1324 | F52: =Master!FL52 -> 0 | G52: =Master!HN52 -> 0 | H52: =Master!IL52 -> 7.4524087 | I52: =Master!JJ52 -> 0 | J52: =SUM(B52:I52) -> 4308.2156
A53: NCB=Birch decline | B53: =Master!Y53 -> 0 | C53: =Master!BI53 -> 0 | D53: =Master!CG53 -> 0 | E53: =Master!DP53 -> 125.29601 | F53: =Master!FL53 -> 0 | G53: =Master!HN53 -> 0 | H53: =Master!IL53 -> 0 | I53: =Master!JJ53 -> 0 | J53: =SUM(B53:I53) -> 125.29601
A54: NCY=Yellow cedar decline | B54: =Master!Y54 -> 0 | C54: =Master!BI54 -> 6419.7717 | D54: =Master!CG54 -> 0 | E54: =Master!DP54 -> 0 | F54: =Master!FL54 -> 0 | G54: =Master!HN54 -> 3105.396 | H54: =Master!IL54 -> 0 | I54: =Master!JJ54 -> 0 | J54: =SUM(B54:I54) -> 9525.1677
A55: ND=Drought | B55: =Master!Y55 -> 1 | C55: =Master!BI55 -> 0.5 | D55: =Master!CG55 -> 0 | E55: =Master!DP55 -> 289.08047 | F55: =Master!FL55 -> 0 | G55: =Master!HN55 -> 35264.683 | H55: =Master!IL55 -> 0 | I55: =Master!JJ55 -> 934.34258 | J55: =SUM(B55:I55) -> 36489.606
...

Sheet Master
A1: 2012 Aerial Overview Summary for British Columbia by TSA's | HO1: =HO6/HT6 -> 0.46292152 | HP1: =HP6/HT6 -> 0.23788325 | HR1: =HR6/HT6 -> 0.063234951 | HS1: =HS6/HT6 -> 0.00064522563 | IM1: =IM6/IR6 -> 0.77956908 | IN1: =IN6/IR6 -> 0.15240779
A2: Regions | B2: South Coast Forest Region | T2: =T6/Y6 -> 0.84256452 | U2: =U6/Y6 -> 0.099766975 | Z2: West Coast Forest Region | BJ2: Cariboo Forest Region | BV2: =BV6/CA6 -> 0.35042108 | BW2: =BW6/CA6 -> 0.63619329 | CH2: Thompson Okanagan Forest Region | CV2: =CV6/DB6 -> 0.46951773 | CW2: =CW6/DB6 -> 0.49194672 | DL2: =DL6/DP6 -> 0.077148655 | DM2: =DM6/DP6 -> 0.013167085 | DQ2: Kootenay/Boundary Forest Region | FG2: =FG6/FL6 -> 0.38643047 | FH2: =FH6/FL6 -> 0.40225743 | FI2: =FI6/FL6 -> 0.15243679 | FJ2: =FJ6/FL6 -> 0.058011502 | FM2: Skeena Forest Region | GQ2: =GQ6/GV6 -> 0.52140102 | GR2: =GR6/GV6 -> 0.45542873 | HK2: =HK6/HN6 -> 0.049965051 | HO2: Omineca Forest Region | II2: =II6/IL6 -> 0.23602122 | IM2: Northeast Forest Region | IY2: =IY6/JD6 -> 0.26001741 | IZ2: =IZ6/JD6 -> 0.29619471 | JA2: =JA6/JD6 -> 0.34674824 | JB2: =JB6/JD6 -> 0.096514765
A3: TSA's | B3: Fraser | C3: (TFR) | H3: Soo | I3: (TSO) | N3: Sunshine Coast | P3: (TSC) | T3: SOUTH COAST FOREST REGION TOTAL | Z3: Arrowsmith | AB3: (TAS) | AF3: Kingcome | AG3: (TKC) | AL3: Mid Coast | AM3: (TMC) | AR3: Haida Gwaii | AT3: (THG) | AX3: Strathcona | AY3: (TST) | BD3: WEST COAST FOREST REGION TOTAL | BJ3: 100 Mile House | BL3: (TMH) | BP3: Quesnel | BQ3: (TQU) | BV3: Williams Lake | BW3: (TWL) | CB3: CARIBOO FOREST REGION TOTAL | CH3: Kamloops | CI3: (TKA) | CO3: Lillooet | CP3: (TLI) | CV3: Merritt | CW3: (TME) | DC3: Okanagan | DD3: (TOK) | DJ3: THOMPSON/OKANAGAN FOREST REGION TOTAL | DQ3: Arrow | DR3: (TAR) | DW3: Boundary | DX3: (TBO) | EC3: Cranbrook | ED3: (TCB) | EI3: Golden | EJ3: (TGO) | EO3: Invermere | EP3: (TIN) | EU3: Kootenay Lake | EV3: (TKL) | FA3: Revelstoke | FB3: (TRE) | FG3: KOOTENAY/BOUNDRY FOREST REGION | FM3: Bulkley | FN3: (TBU) | FS3: Cassiar | FT3: (TCA) | FY3: Kalum | FZ3: (TKM) | GE3: Kispiox | GF3: (TKI) | GK3: Lakes | GL3: (TLA) | GQ3: Morice | GR3: (TMO) | GW3: Nass | GX3: (TNA) | HC3: North Coast | HD3: (TNC) | HI3: SKEENA FOREST REGION | HO3: MacKenzie | HP3: (TMK) | HU3: Robson Valley | HW3: (TRV) | IA3: Prince George | IC3: (TPG) | IG3: OMINECA FOREST REGION | IM3: Dawson Creek | IO3: (TDC) | IS3: Fort Nelson | IT3: (TFN) | IY3: Fort St. John | JA3: (TJO) | JE3: NORTHEAST FOREST REGION | JL3: GRAND TOTAL
B4: Trace | C4: Light | D4: Moderate | E4: Severe | F4: Very Sev | G4: Total | H4: Trace | I4: Light | J4: Moderate | K4: Severe | L4: Very Sev | M4: Total | N4: Trace | O4: Light | P4: Moderate | Q4: Severe | R4: Very Sev | S4: Total | T4: Trace | U4: Light | V4: Moderate | W4: Severe | X4: Ver Sev | Y4: Total | Z4: Trace | AA4: Light | AB4: Moderate | AC4: Severe | AD4: Very Sev | AE4: Total | AF4: Trace | AG4: Light | AH4: Moderate | AI4: Severe | AJ4: Very Sev | AK4: Total | AL4: Trace | AM4: Light | AN4: Moderate | AO4: Severe | AP4: Very Sev | AQ4: Total | AR4: Trace | AS4: Light | AT4: Moderate | AU4: Severe | AV4: Very Sev | AW4: Total | AX4: Trace | AY4: Light | AZ4: Moderate | BA4: Severe | BB4: Very Sev | BC4: Total | BD4: Trace | BE4: Light | BF4: Moderate | BG4: Severe | BH4: Ver Sev | BI4: Total | BJ4: Trace | BK4: Light | BL4: Moderate | BM4: Severe | BN4: Very Sev | BO4: Total | BP4: Trace | BQ4: Light | BR4: Moderate | BS4: Severe | BT4: Very Sev | BU4: Total | BV4: Trace | BW4: Light | BX4: Moderate | BY4: Severe | BZ4: Very Sev | CA4: Total | CB4: Trace | CC4: Light | CD4: Moderate | CE4: Severe | CF4: Ver Sev | CG4: Total | CH4: Trace | CI4: Light | CJ4: Moderate | CK4: Severe | CL4: Very Sev | CM4: Grey | CN4: Total | CO4: Trace | CP4: Light | CQ4: Moderate | CR4: Severe | CS4: Very Sev | CT4: Grey | CU4: Total | CV4: Trace | CW4: Light | CX4: Moderate | CY4: Severe | CZ4: Very Sev | DA4: Grey | DB4: Total | DC4: Trace | DD4: Light | DE4: Moderate | DF4: Severe | DG4: Very Sev | DH4: Grey | DI4: Total | DJ4: Trace | DK4: Light | DL4: Moderate | DM4: Severe | DN4: Ver Sev | DO4: Grey | DP4: Total | DQ4: Trace | DR4: Light | DS4: Moderate | DT4: Severe | DU4: Very Sev | DV4: Total | DW4: Trace | DX4: Light | DY4: Moderate | DZ4: Severe | EA4: Very Sev | EB4: Total | EC4: Trace | ED4: Light | EE4: Moderate | EF4: Severe | EG4: Very Sev | EH4: Total | EI4: Trace | EJ4: Light | EK4: Moderate | EL4: Severe | EM4: Very Sev | EN4: Total | EO4: Trace | EP4: Light | EQ4: Moderate | ER4: Severe | ES4: Very Sev | ET4: Total | EU4: Trace | EV4: Light | EW4: Moderate | EX4: Severe | EY4: Very Sev | EZ4: Total | FA4: Trace | FB4: Light | FC4: Moderate | FD4: Severe | FE4: Very Sev | FF4: Total | FG4: Trace | FH4: Light | FI4: Moderate | FJ4: Severe | FK4: Very Sev | FL4: TOTAL | FM4: Trace | FN4: Light | FO4: Moderate | FP4: Severe | FQ4: Very Sev | FR4: Total | FS4: Trace | FT4: Light | FU4: Moderate | FV4: Severe | FW4: Very Sev | FX4: Total | FY4: Trace | FZ4: Light | GA4: Moderate | GB4: Severe | GC4: Very Sev | GD4: Total | GE4: Trace | GF4: Light | GG4: Moderate | GH4: Severe | GI4: Very Sev | GJ4: Total | GK4: Trace | GL4: Light | GM4: Moderate | GN4: Severe | GO4: Very Sev | GP4: Total | GQ4: Trace | GR4: Light | GS4: Moderate | GT4: Severe | GU4: Very Sev | GV4: Total | GW4: Trace | GX4: Light | GY4: Moderate | GZ4: Severe | HA4: Very Sev | HB4: Total | HC4: Trace | HD4: Light | HE4: Moderate | HF4: Severe | HG4: Very Sev | HH4: Total | HI4: Trace | HJ4: Light | HK4: Moderate | HL4: Severe | HM4: Very Sev | HN4: TOTAL | HO4: Trace | HP4: Light | HQ4: Moderate | HR4: Severe | HS4: Very Sev | HT4: Total | HU4: Trace | HV4: Light | HW4: Moderate | HX4: Severe | HY4: Very Sev | HZ4: Total | IA4: Trace | IB4: Light | IC4: Moderate | ID4: Severe | IE4: Very Sev | IF4: Total | IG4: Trace | IH4: Light | II4: Moderate | IJ4: Severe | IK4: Very Sev | IL4: TOTAL | IM4: Trace | IN4: Light | IO4: Moderate | IP4: Severe | IQ4: Very Sev | IR4: Total | IS4: Trace | IT4: Light | IU4: Moderate | IV4: Severe | IW4: Very Sev | IX4: Total | IY4: Trace | IZ4: Light | JA4: Moderate | JB4: Severe | JC4: Very Sev | JD4: Total | JE4: Trace | JF4: Light | JG4: Moderate | JH4: Severe | JI4: Very Sev | JJ4: TOTAL | JL4: Trace | JM4: Light | JN4: Moderate | JO4: Severe | JP4: Very Sev | JQ4: Grey | JR4: TOTAL
A5: Bark Beetles
A6: IBM=Mountain Pine Beetle | B6: 2684.3062 | C6: 203.14793 | D6: 69.163967 | E6: 20.5 | G6: =SUM(B6:F6) -> 2977.1181 | H6: 1075.3992 | I6: 307.2768 | J6: 153.24503 | K6: 38 | L6: 14.132837 | M6: =SUM(H6:L6) -> 1588.0539 | N6: 550.99731 | S6: =SUM(N6:R6) -> 550.99731 | T6: =SUM(B6,H6,N6) -> 4310.7027 | U6: =SUM(C6,I6,O6) -> 510.42473 | V6: =SUM(D6,J6,P6) -> 222.409 | W6: =SUM(E6,K6,Q6) -> 58.5 | X6: =SUM(F6,L6,R6) -> 14.132837 | Y6: =SUM(T6:X6) -> 5116.1692 | AE6: =SUM(Z6:AD6) -> 0 | AK6: =SUM(AF6:AJ6) -> 0 | AL6: 177.04011 | AM6: 29.260276 | AO6: 1.5 | AQ6: =SUM(AL6:AP6) -> 207.80039 | AS6: 132.42055 | AU6: 1.75 | AW6: =SUM(AR6:AV6) -> 134.17055 | BC6: =SUM(AX6:BB6) -> 0 | BD6: =SUM(Z6,AF6,AL6,AR6,AX6) -> 177.04011 | BE6: =SUM(AA6,AG6,AM6,AS6,AY6) -> 161.68082 | BF6: =SUM(AB6,AH6,AN6,AT6,AZ6) -> 0 | BG6: =SUM(AC6,AI6,AO6,AU6,BA6) -> 3.25 | BH6: =SUM(AD6,AJ6,AP6,AV6,BB6) -> 0 | BI6: =SUM(BD6:BH6) -> 341.97093 | BJ6: 87.913206 | BK6: 133.57766 | BO6: =SUM(BJ6:BN6) -> 221.49087 | BQ6: 10.037925 | BS6: 2 | BU6: =SUM(BP6:BT6) -> 12.037925 | BV6: 4583.6338 | BW6: 8321.6371 | BX6: 94.53111 | BY6: 80.557694 | CA6: =SUM(BV6:BZ6) -> 13080.36 | CB6: =SUM(BJ6,BP6,BV6) -> 4671.547 | CC6: =SUM(BK6,BQ6,BW6) -> 8465.2527 | CD6: =SUM(BL6,BR6,BX6) -> 94.53111 | CE6: =SUM(BM6,BS6,BY6) -> 82.557694 | CF6: =SUM(BN6,BT6,BZ6) -> 0 | CG6: =SUM(CB6:CF6) -> 13313.889 | CH6: 109.77174 | CI6: 497.54124 | CJ6: 8.3914332 | CK6: 6.25 | CN6: =SUM(CH6:CM6) -> 621.95441 | CO6: 754.15861 | CP6: 3040.6322 | CQ6: 966.22822 | CR6: 158.09326 | CS6: 11.154202 | CU6: =SUM(CO6:CT6) -> 4930.2665 | CV6: 4184.0786 | CW6: 4383.9531 | CX6: 255.55196 | CY6: 80.657997 | CZ6: 7.1972498 | DB6: =SUM(CV6:DA6) -> 8911.4389 | DC6: 14316.156 | DD6: 26064.934 | DE6: 3300.587 | DF6: 528.27063 | DG6: 54.034982 | DI6: =SUM(DC6:DH6) -> 44263.983 | DJ6: =SUM(CH6,CO6,CV6,DC6) -> 19364.165 | DK6: =SUM(CI6,CP6,CW6,DD6) -> 33987.061 | DL6: =SUM(CJ6,CQ6,CX6,DE6) -> 4530.7586 | DM6: =SUM(CK6,CR6,CY6,DF6) -> 773.27188 | DN6: =SUM(CL6,CS6,CZ6,DG6) -> 72.386434 | DO6: =SUM(CM6,CT6,DA6,DH6) -> 0 | DP6: =SUM(DJ6:DO6) -> 58727.643 | DQ6: 998.88831 | DR6: 933.23089 | DS6: 310.86855 | DT6: 83.251168 | DV6: =SUM(DQ6:DU6) -> 2326.2389 | DW6: 4665.2574 | DX6: 6883.1861 | DY6: 1893.8701 | DZ6: 639.69243 | EB6: =SUM(DW6:EA6) -> 14082.006 | EC6: 2450.0487 | ED6: 1396.0066 | EE6: 856.83629 | EF6: 290.57993 | EH6: =SUM(EC6:EG6) -> 4993.4715 | EI6: 2080.1348 | EJ6: 462.79044 | EK6: 289.7691 | EL6: 50.057011 | EN6: =SUM(EI6:EM6) -> 2882.7513 | EO6: 2577.0106 | EP6: 4002.905 | EQ6: 1374.4637 | ER6: 370.16257 | ES6: 32.920452 | ET6: =SUM(EO6:ES6) -> 8357.4622 | EU6: 1907.7245 | EV6: 1620.5363 | EW6: 1075.8034 | EX6: 715.47659 | EZ6: =SUM(EU6:EY6) -> 5319.5408 | FA6: 48.166994 | FB6: 31.75626 | FC6: 7.8991463 | FD6: 61.65357 | FF6: =SUM(FA6:FE6) -> 149.47597 | FG6: =SUM(DQ6,DW6,EC6,EI6,EO6,EU6,FA6) -> 14727.231 | FH6: =SUM(DR6,DX6,ED6,EJ6,EP6,EV6,FB6) -> 15330.412 | FI6: =SUM(DS6,DY6,EE6,EK6,EQ6,EW6,FC6) -> 5809.5103 | FJ6: =SUM(DT6,DZ6,EF6,EL6,ER6,EX6,FD6) -> 2210.8733 | FK6: =SUM(DU6,EA6,EG6,EM6,ES6,EY6,FE6) -> 32.920452 | FL6: =SUM(FG6:FK6) -> 38110.947 | FM6: 61856.082 | FN6: 70085.097 | FO6: 11143.179 | FP6: 1849.9033 | FR6: =SUM(FM6:FQ6) -> 144934.26 | FS6: 4189.2814 | FT6: 547.46424 | FV6: 10.5 | FX6: =SUM(FS6:FW6) -> 4747.2456 | FY6: 1715.672 | FZ6: 1216.7489 | GA6: 14.813397 | GB6: 9.25 | GD6: =SUM(FY6:GC6) -> 2956.4843 | GE6: 14880.713 | GF6: 5392.9426 | GG6: 2001.3667 | GH6: 66.228495 | GJ6: =SUM(GE6:GI6) -> 22341.25 | GK6: 8268.357 | GL6: 797.66966 | GM6: 134.26255 | GN6: 29.25 | GP6: =SUM(GK6:GO6) -> 9229.5392 | GQ6: 76641.637 | GR6: 66944.257 | GS6: 3254.8417 | GT6: 150.99336 | GV6: =SUM(GQ6:GU6) -> 146991.73 | GZ6: 0.25 | HB6: =SUM(GW6:HA6) -> 0.25 | HH6: =SUM(HC6:HG6) -> 0 | HI6: =SUM(FM6,FS6,FY6,GE6,GK6,GQ6,GW6,HC6) -> 167551.74 | HJ6: =SUM(FN6,FT6,FZ6,GF6,GL6,GR6,GX6,HD6) -> 144984.18 | HK6: =SUM(HE6,GY6,GS6,GM6,GG6,GA6,FU6,FO6) -> 16548.463 | HL6: =SUM(HF6,GZ6,GT6,GN6,GH6,GB6,FV6,FP6) -> 2116.3752 | HM6: =SUM(HG6,HA6,GU6,GO6,GI6,GC6,FW6,FQ6) -> 0 | HN6: =SUM(HI6:HM6) -> 331200.76 | HO6: 515930.96 | HP6: 265123.42 | HQ6: 262261.13 | HR6: 70476.027 | HS6: 719.11083 | HT6: =SUM(HO6:HS6) -> 1114510.7 | HU6: 11334.918 | HV6: 28058.572 | HW6: 10134.7 | HX6: 2191.3002 | HZ6: =SUM(HU6:HY6) -> 51719.491 | IA6: 169824.94 | IB6: 53126.247 | IC6: 78823.632 | ID6: 20079.277 | IF6: =SUM(IA6:IE6) -> 321854.1 | IG6: =SUM(HO6,HU6,IA6) -> 697090.83 | IH6: =SUM(HP6,HV6,IB6) -> 346308.24 | II6: =SUM(HQ6,HW6,IC6) -> 351219.46 | IJ6: =SUM(HR6,HX6,ID6) -> 92746.604 | IK6: =SUM(HS6,HY6,IE6) -> 719.11083 | IL6: =SUM(IG6:IK6) -> 1488084.2 | IM6: 325596.1 | IN6: 63654.887 | IO6: 24990.171 | IP6: 3420.4833 | IR6: =SUM(IM6:IQ6) -> 417661.64 | IS6: 11467.491 | IT6: 13160.606 | IU6: 9803.1236 | IV6: 1678.3801 | IX6: =SUM(IS6:IW6) -> 36109.6 | IY6: 163176.87 | IZ6: 185880.34 | JA6: 217605.78 | JB6: 60568.932 | JC6: 329.3905 | JD6: =SUM(IY6:JC6) -> 627561.31 | JE6: =SUM(IM6,IS6,IY6) -> 500240.46 | JF6: =SUM(IN6,IT6,IZ6) -> 262695.83 | JG6: =SUM(IO6,IU6,JA6) -> 252399.08 | JH6: =SUM(IP6,IV6,JB6) -> 65667.796 | JI6: =SUM(IQ6,IW6,JC6) -> 329.3905 | JJ6: =SUM(JE6:JI6) -> 1081332.6 | JL6: =SUM(T6,BD6,CB6,DJ6,FG6,HI6,IG6,JE6) -> 1408133.7 | JM6: =SUM(U6,BE6,CC6,DK6,FH6,HJ6,IH6,JF6) -> 812443.08 | JN6: =SUM(V6,BF6,CD6,DL6,FI6,HK6,II6,JG6) -> 630824.21 | JO6: =SUM(W6,BG6,CE6,DM6,FJ6,HL6,IJ6,JH6) -> 163659.23 | JP6: =SUM(X6,BH6,CF6,DN6,FK6,HM6,IK6,JI6) -> 1167.9411 | JQ6: =SUM(DO6) -> 0 | JR6: =SUM(JL6:JQ6) -> 3016228.2
A7: IBS=Spruce Beetle | B7: 432.59964 | C7: 389.84719 | D7: 30.281745 | E7: 1 | G7: =SUM(B7:F7) -> 853.72858 | M7: =SUM(H7:L7) -> 0 | Q7: 0.75 | S7: =SUM(N7:R7) -> 0.75 | T7: =SUM(B7,H7,N7) -> 432.59964 | U7: =SUM(C7,I7,O7) -> 389.84719 | V7: =SUM(D7,J7,P7) -> 30.281745 | W7: =SUM(E7,K7,Q7) -> 1.75 | X7: =SUM(F7,L7,R7) -> 0 | Y7: =SUM(T7:X7) -> 854.47858 | AE7: =SUM(Z7:AD7) -> 0 | AI7: 3.25 | AK7: =SUM(AF7:AJ7) -> 3.25 | AL7: 22.305035 | AM7: 26.705677 | AO7: 8 | AQ7: =SUM(AL7:AP7) -> 57.010712 | AW7: =SUM(AR7:AV7) -> 0 | BC7: =SUM(AX7:BB7) -> 0 | BD7: =SUM(Z7,AF7,AL7,AR7,AX7) -> 22.305035 | BE7: =SUM(AA7,AG7,AM7,AS7,AY7) -> 26.705677 | BF7: =SUM(AB7,AH7,AN7,AT7,AZ7) -> 0 | BG7: =SUM(AC7,AI7,AO7,AU7,BA7) -> 11.25 | BH7: =SUM(AD7,AJ7,AP7,AV7,BB7) -> 0 | BI7: =SUM(BD7:BH7) -> 60.260712 | BJ7: 665.7946 | BK7: 4961.4053 | BL7: 3845.0573 | BM7: 1360.8756 | BN7: 66.184395 | BO7: =SUM(BJ7:BN7) -> 10899.317 | BP7: 14.664429 | BQ7: 1093.0085 | BS7: 3 | BU7: =SUM(BP7:BT7) -> 1110.673 | BV7: 1804.8092 | BW7: 7380.9943 | BX7: 6058.2858 | BY7: 2873.3492 | CA7: =SUM(BV7:BZ7) -> 18117.438 | CB7: =SUM(BJ7,BP7,BV7) -> 2485.2682 | CC7: =SUM(BK7,BQ7,BW7) -> 13435.408 | CD7: =SUM(BL7,BR7,BX7) -> 9903.3431 | CE7: =SUM(BM7,BS7,BY7) -> 4237.2248 | CF7: =SUM(BN7,BT7,BZ7) -> 66.184395 | CG7: =SUM(CB7:CF7) -> 30127.429 | CI7: 694.66306 | CJ7: 878.88566 | CK7: 313.40579 | CN7: =SUM(CH7:CM7) -> 1886.9545 | CP7: 155.35023 | CQ7: 340.54057 | CR7: 155.38668 | CS7: 9.1717683 | CU7: =SUM(CO7:CT7) -> 660.44925 | CV7: 39.007234 | CW7: 188.51957 | CX7: 547.35858 | CY7: 77.301588 | CZ7: 19.405615 | DB7: =SUM(CV7:DA7) -> 871.59259 | DE7: 213.50208 | DI7: =SUM(DC7:DH7) -> 213.50208 | DJ7: =SUM(CH7,CO7,CV7,DC7) -> 39.007234 | DK7: =SUM(CI7,CP7,CW7,DD7) -> 1038.5329 | DL7: =SUM(CJ7,CQ7,CX7,DE7) -> 1980.2869 | DM7: =SUM(CK7,CR7,CY7,DF7) -> 546.09406 | DN7: =SUM(CL7,CS7,CZ7,DG7) -> 28.577384 | DO7: =SUM(CM7,CT7,DA7,DH7) -> 0 | DP7: =SUM(DJ7:DO7) -> 3632.4984 | DV7: =SUM(DQ7:DU7) -> 0 | EB7: =SUM(DW7:EA7) -> 0 | EH7: =SUM(EC7:EG7) -> 0 | EI7: 28.95566 | EJ7: 22.327759 | EL7: 11.140834 | EN7: =SUM(EI7:EM7) -> 62.424252 | EP7: 146.67911 | EQ7: 243.80555 | ER7: 0.75 | ES7: 159.50294 | ET7: =SUM(EO7:ES7) -> 550.7376 | EV7: 5.6943127 | EW7: 31.191646 | EZ7: =SUM(EU7:EY7) -> 36.885959 | FF7: =SUM(FA7:FE7) -> 0 | FG7: =SUM(DQ7,DW7,EC7,EI7,EO7,EU7,FA7) -> 28.95566 | FH7: =SUM(DR7,DX7,ED7,EJ7,EP7,EV7,FB7) -> 174.70118 | FI7: =SUM(DS7,DY7,EE7,EK7,EQ7,EW7,FC7) -> 274.9972 | FJ7: =SUM(DT7,DZ7,EF7,EL7,ER7,EX7,FD7) -> 11.890834 | FK7: =SUM(DU7,EA7,EG7,EM7,ES7,EY7,FE7) -> 159.50294 | FL7: =SUM(FG7:FK7) -> 650.04782 | FP7: 0.25 | FR7: =SUM(FM7:FQ7) -> 0.25 | FV7: 0.25 | FX7: =SUM(FS7:FW7) -> 0.25 | GB7: 0.25 | GD7: =SUM(FY7:GC7) -> 0.25 | GH7: 0.5 | GJ7: =SUM(GE7:GI7) -> 0.5 | GL7: 120.55018 | GM7: 54.128303 | GN7: 3.25 | GP7: =SUM(GK7:GO7) -> 177.92848 | GQ7: 73.642261 | GT7: 0.5 | GV7: =SUM(GQ7:GU7) -> 74.142261 | GZ7: 0.75 | HB7: =SUM(GW7:HA7) -> 0.75 | HH7: =SUM(HC7:HG7) -> 0 | HI7: =SUM(FM7,FS7,FY7,GE7,GK7,GQ7,GW7,HC7) -> 73.642261 | HJ7: =SUM(FN7,FT7,FZ7,GF7,GL7,GR7,GX7,HD7) -> 120.55018 | HK7: =SUM(HE7,GY7,GS7,GM7,GG7,GA7,FU7,FO7) -> 54.128303 | HL7: =SUM(HF7,GZ7,GT7,GN7,GH7,GB7,FV7,FP7) -> 5.75 | HM7: =SUM(HG7,HA7,GU7,GO7,GI7,GC7,FW7,FQ7) -> 0 | HN7: =SUM(HI7:HM7) -> 254.07074 | HO7: 59.486112 | HT7: =SUM(HO7:HS7) -> 59.486112 | HV7: 133.87017 | HZ7: =SUM(HU7:HY7) -> 133.87017 | IA7: 569.86643 | IB7: 387.06184 | ID7: 15 | IF7: =SUM(IA7:IE7) -> 971.92826 | IG7: =SUM(HO7,HU7,IA7) -> 629.35254 | IH7: =SUM(HP7,HV7,IB7) -> 520.93201 | II7: =SUM(HQ7,HW7,IC7) -> 0 | IJ7: =SUM(HR7,HX7,ID7) -> 15 | IK7: =SUM(HS7,HY7,IE7) -> 0 | IL7: =SUM(IG7:IK7) -> 1165.2845 | IM7: 4685.4521 | IN7: 162.92255 | IR7: =SUM(IM7:IQ7) -> 4848.3746 | IS7: 1242.2514 | IV7: 10.75 | IX7: =SUM(IS7:IW7) -> 1253.0014 | IY7: 16.564918 | JB7: 0.25 | JD7: =SUM(IY7:JC7) -> 16.814918 | JE7: =SUM(IM7,IS7,IY7) -> 5944.2684 | JF7: =SUM(IN7,IT7,IZ7) -> 162.92255 | JG7: =SUM(IO7,IU7,JA7) -> 0 | JH7: =SUM(IP7,IV7,JB7) -> 11 | JI7: =SUM(IQ7,IW7,JC7) -> 0 | JJ7: =SUM(JE7:JI7) -> 6118.191 | JL7: =SUM(T7,BD7,CB7,DJ7,FG7,HI7,IG7,JE7) -> 9655.399 | JM7: =SUM(U7,BE7,CC7,DK7,FH7,HJ7,IH7,JF7) -> 15869.6 | JN7: =SUM(V7,BF7,CD7,DL7,FI7,HK7,II7,JG7) -> 12243.037 | JO7: =SUM(W7,BG7,CE7,DM7,FJ7,HL7,IJ7,JH7) -> 4839.9597 | JP7: =SUM(X7,BH7,CF7,DN7,FK7,HM7,IK7,JI7) -> 254.26472 | JQ7: =SUM(DO7) -> 0 | JR7: =SUM(JL7:JQ7) -> 42862.26
A8: IBB=Western Balsam Bark Beetle | B8: 2627.9677 | C8: 256.46486 | D8: 16.424482 | E8: 50.700875 | G8: =SUM(B8:F8) -> 2951.5579 | H8: 406.10654 | I8: 452.63369 | K8: 5.25 | M8: =SUM(H8:L8) -> 863.99023 | N8: 35.718636 | O8: 3.1469735 | Q8: 0.75 | S8: =SUM(N8:R8) -> 39.615609 | T8: =SUM(B8,H8,N8) -> 3069.7929 | U8: =SUM(C8,I8,O8) -> 712.24552 | V8: =SUM(D8,J8,P8) -> 16.424482 | W8: =SUM(E8,K8,Q8) -> 56.700875 | X8: =SUM(F8,L8,R8) -> 0 | Y8: =SUM(T8:X8) -> 3855.1638 | Z8: 299.50911 | AA8: 183.33762 | AC8: 1.25 | AE8: =SUM(Z8:AD8) -> 484.09673 | AF8: 117.58514 | AI8: 0.5 | AK8: =SUM(AF8:AJ8) -> 118.08514 | AL8: 4179.2549 | AM8: 28.757269 | AO8: 2.5 | AQ8: =SUM(AL8:AP8) -> 4210.5122 | AW8: =SUM(AR8:AV8) -> 0 | AX8: 45.35574 | BA8: 1.25 | BC8: =SUM(AX8:BB8) -> 46.60574 | BD8: =SUM(Z8,AF8,AL8,AR8,AX8) -> 4641.7049 | BE8: =SUM(AA8,AG8,AM8,AS8,AY8) -> 212.09489 | BF8: =SUM(AB8,AH8,AN8,AT8,AZ8) -> 0 | BG8: =SUM(AC8,AI8,AO8,AU8,BA8) -> 5.5 | BH8: =SUM(AD8,AJ8,AP8,AV8,BB8) -> 0 | BI8: =SUM(BD8:BH8) -> 4859.2998 | BJ8: 249.86324 | BK8: 1316.2837 | BL8: 0.91447305 | BM8: 1 | BO8: =SUM(BJ8:BN8) -> 1568.0614 | BP8: 2204.6697 | BQ8: 17431.213 | BS8: 2.25 | BU8: =SUM(BP8:BT8) -> 19638.133 | BV8: 6378.4004 | BW8: 17873.253 | BX8: 2864.0836 | BY8: 18.924478 | CA8: =SUM(BV8:BZ8) -> 27134.662 | CB8: =SUM(BJ8,BP8,BV8) -> 8832.9334 | CC8: =SUM(BK8,BQ8,BW8) -> 36620.75 | CD8: =SUM(BL8,BR8,BX8) -> 2864.9981 | CE8: =SUM(BM8,BS8,BY8) -> 22.174478 | CF8: =SUM(BN8,BT8,BZ8) -> 0 | CG8: =SUM(CB8:CF8) -> 48340.856 | CH8: 79371.352 | CI8: 1673.3624 | CJ8: 7.2564789 | CN8: =SUM(CH8:CM8) -> 81051.97 | CO8: 1601.1269 | CU8: =SUM(CO8:CT8) -> 1601.1269 | CV8: 9132.4137 | CW8: 84.860186 | DB8: =SUM(CV8:DA8) -> 9217.2739 | DC8: 64079.213 | DD8: 1334.7784 | DI8: =SUM(DC8:DH8) -> 65413.991 | DJ8: =SUM(CH8,CO8,CV8,DC8) -> 154184.11 | DK8: =SUM(CI8,CP8,CW8,DD8) -> 3093.0011 | DL8: =SUM(CJ8,CQ8,CX8,DE8) -> 7.2564789 | DM8: =SUM(CK8,CR8,CY8,DF8) -> 0 | DN8: =SUM(CL8,CS8,CZ8,DG8) -> 0 | DO8: =SUM(CM8,CT8,DA8,DH8) -> 0 | DP8: =SUM(DJ8:DO8) -> 157284.36 | DQ8: 1427.3699 | DR8: 319.81239 | DS8: 19.040833 | DT8: 1 | DV8: =SUM(DQ8:DU8) -> 1767.2231 | DW8: 591.65802 | DZ8: 0.75 | EB8: =SUM(DW8:EA8) -> 592.40802 | EC8: 635.56037 | ED8: 114.98919 | EE8: 40.334069 | EF8: 2.5 | EH8: =SUM(EC8:EG8) -> 793.38364 | EI8: 1537.6607 | EJ8: 320.86181 | EK8: 8.5097714 | EL8: 1.5 | EN8: =SUM(EI8:EM8) -> 1868.5323 | EO8: 893.41722 | EP8: 200.02111 | ER8: 2.75 | ET8: =SUM(EO8:ES8) -> 1096.1883 | EU8: 636.51157 | EV8: 130.69369 | EX8: 3.75 | EZ8: =SUM(EU8:EY8) -> 770.95526 | FA8: 39.851933 | FB8: 37.384367 | FF8: =SUM(FA8:FE8) -> 77.236301 | FG8: =SUM(DQ8,DW8,EC8,EI8,EO8,EU8,FA8) -> 5762.0297 | FH8: =SUM(DR8,DX8,ED8,EJ8,EP8,EV8,FB8) -> 1123.7626 | FI8: =SUM(DS8,DY8,EE8,EK8,EQ8,EW8,FC8) -> 67.884673 | FJ8: =SUM(DT8,DZ8,EF8,EL8,ER8,EX8,FD8) -> 12.25 | FK8: =SUM(DU8,EA8,EG8,EM8,ES8,EY8,FE8) -> 0 | FL8: =SUM(FG8:FK8) -> 6965.927 | FM8: 59880.527 | FP8: 14 | FR8: =SUM(FM8:FQ8) -> 59894.527 | FS8: 45146.494 | FT8: 290.01438 | FV8: 15 | FX8: =SUM(FS8:FW8) -> 45451.508 | FY8: 621.86977 | GB8: 2.5 | GD8: =SUM(FY8:GC8) -> 624.36977 | GE8: 58293.658 | GF8: 50.233062 | GG8: 564.23851 | GH8: 32 | GJ8: =SUM(GE8:GI8) -> 58940.129 | GK8: 32750.849 | GL8: 386.56037 | GN8: 20.25 | GP8: =SUM(GK8:GO8) -> 33157.66 | GQ8: 114394.86 | GR8: 4788.42 | GT8: 14.25 | GV8: =SUM(GQ8:GU8) -> 119197.53 | GW8: 33350.285 | GZ8: 17.25 | HB8: =SUM(GW8:HA8) -> 33367.535 | HH8: =SUM(HC8:HG8) -> 0 | HI8: =SUM(FM8,FS8,FY8,GE8,GK8,GQ8,GW8,HC8) -> 344438.55 | HJ8: =SUM(FN8,FT8,FZ8,GF8,GL8,GR8,GX8,HD8) -> 5515.2278 | HK8: =SUM(HE8,GY8,GS8,GM8,GG8,GA8,FU8,FO8) -> 564.23851 | HL8: =SUM(HF8,GZ8,GT8,GN8,GH8,GB8,FV8,FP8) -> 115.25 | HM8: =SUM(HG8,HA8,GU8,GO8,GI8,GC8,FW8,FQ8) -> 0 | HN8: =SUM(HI8:HM8) -> 350633.26 | HO8: 33478.914 | HP8: 763.75711 | HQ8: 102.49454 | HR8: 58 | HT8: =SUM(HO8:HS8) -> 34403.166 | HU8: 1172.6351 | HV8: 10887.361 | HW8: 18.330922 | HX8: 10.75 | HZ8: =SUM(HU8:HY8) -> 12089.077 | IA8: 63891.979 | IB8: 9549.9197 | IC8: 359.54696 | ID8: 253.74671 | IF8: =SUM(IA8:IE8) -> 74055.192 | IG8: =SUM(HO8,HU8,IA8) -> 98543.528 | IH8: =SUM(HP8,HV8,IB8) -> 21201.038 | II8: =SUM(HQ8,HW8,IC8) -> 480.37241 | IJ8: =SUM(HR8,HX8,ID8) -> 322.49671 | IK8: =SUM(HS8,HY8,IE8) -> 0 | IL8: =SUM(IG8:IK8) -> 120547.44 | IM8: 18060.685 | IN8: 280.9637 | IP8: 34 | IR8: =SUM(IM8:IQ8) -> 18375.649 | IS8: 9227.4013 | IT8: 184.45487 | IV8: 33.5 | IX8: =SUM(IS8:IW8) -> 9445.3562 | IY8: 1991.7214 | IZ8: 128.38549 | JB8: 1.5 | JD8: =SUM(IY8:JC8) -> 2121.6069 | JE8: =SUM(IM8,IS8,IY8) -> 29279.808 | JF8: =SUM(IN8,IT8,IZ8) -> 593.80406 | JG8: =SUM(IO8,IU8,JA8) -> 0 | JH8: =SUM(IP8,IV8,JB8) -> 69 | JI8: =SUM(IQ8,IW8,JC8) -> 0 | JJ8: =SUM(JE8:JI8) -> 29942.612 | JL8: =SUM(T8,BD8,CB8,DJ8,FG8,HI8,IG8,JE8) -> 648752.45 | JM8: =SUM(U8,BE8,CC8,DK8,FH8,HJ8,IH8,JF8) -> 69071.924 | JN8: =SUM(V8,BF8,CD8,DL8,FI8,HK8,II8,JG8) -> 4001.1747 | JO8: =SUM(W8,BG8,CE8,DM8,FJ8,HL8,IJ8,JH8) -> 603.37206 | JP8: =SUM(X8,BH8,CF8,DN8,FK8,HM8,IK8,JI8) -> 0 | JQ8: =SUM(DO8) -> 0 | JR8: =SUM(JL8:JQ8) -> 722428.92
A9: IBD=Douglas-fir Beetle | B9: 480.96169 | C9: 453.32481 | E9: 33.25 | G9: =SUM(B9:F9) -> 967.5365 | K9: 2 | M9: =SUM(H9:L9) -> 2 | N9: 271.08547 | O9: 354.38568 | Q9: 11.5 | S9: =SUM(N9:R9) -> 636.97115 | T9: =SUM(B9,H9,N9) -> 752.04716 | U9: =SUM(C9,I9,O9) -> 807.71049 | V9: =SUM(D9,J9,P9) -> 0 | W9: =SUM(E9,K9,Q9) -> 46.75 | X9: =SUM(F9,L9,R9) -> 0 | Y9: =SUM(T9:X9) -> 1606.5076 | Z9: 255.18603 | AA9: 217.48833 | AB9: 205.66466 | AC9: 9.25 | AE9: =SUM(Z9:AD9) -> 687.58902 | AF9: 168.92225 | AG9: 55.553547 | AI9: 2.75 | AK9: =SUM(AF9:AJ9) -> 227.2258 | AM9: 18.413245 | AO9: 4.75 | AQ9: =SUM(AL9:AP9) -> 23.163245 | AW9: =SUM(AR9:AV9) -> 0 | AX9: 152.22539 | AY9: 11.321774 | BA9: 5 | BC9: =SUM(AX9:BB9) -> 168.54717 | BD9: =SUM(Z9,AF9,AL9,AR9,AX9) -> 576.33368 | BE9: =SUM(AA9,AG9,AM9,AS9,AY9) -> 302.77689 | BF9: =SUM(AB9,AH9,AN9,AT9,AZ9) -> 205.66466 | BG9: =SUM(AC9,AI9,AO9,AU9,BA9) -> 21.75 | BH9: =SUM(AD9,AJ9,AP9,AV9,BB9) -> 0 | BI9: =SUM(BD9:BH9) -> 1106.5252 | BJ9: 379.09117 | BK9: 2432.1711 | BL9: 514.54031 | BM9: 105.7307 | BO9: =SUM(BJ9:BN9) -> 3431.5333 | BP9: 271.73021 | BQ9: 1184.1301 | BR9: 115.28178 | BS9: 20.25 | BU9: =SUM(BP9:BT9) -> 1591.3921 | BV9: 3170.5925 | BW9: 3156.2733 | BX9: 524.09314 | BY9: 222.30564 | CA9: =SUM(BV9:BZ9) -> 7073.2646 | CB9: =SUM(BJ9,BP9,BV9) -> 3821.4139 | CC9: =SUM(BK9,BQ9,BW9) -> 6772.5746 | CD9: =SUM(BL9,BR9,BX9) -> 1153.9152 | CE9: =SUM(BM9,BS9,BY9) -> 348.28634 | CF9: =SUM(BN9,BT9,BZ9) -> 0 | CG9: =SUM(CB9:CF9) -> 12096.19 | CI9: 108.09704 | CJ9: 187.47158 | CK9: 106.61712 | CL9: 12.746163 | CN9: =SUM(CH9:CM9) -> 414.9319 | CP9: 264.52065 | CQ9: 95.290382 | CR9: 45.477976 | CS9: 2.4804026 | CU9: =SUM(CO9:CT9) -> 407.76941 | CW9: 54.146484 | CX9: 10.682622 | CY9: 17.900001 | DB9: =SUM(CV9:DA9) -> 82.729107 | DD9: 247.4168 | DE9: 315.67348 | DF9: 139.98427 | DG9: 55.194231 | DI9: =SUM(DC9:DH9) -> 758.26878 | DJ9: =SUM(CH9,CO9,CV9,DC9) -> 0 | DK9: =SUM(CI9,CP9,CW9,DD9) -> 674.18097 | DL9: =SUM(CJ9,CQ9,CX9,DE9) -> 609.11806 | DM9: =SUM(CK9,CR9,CY9,DF9) -> 309.97936 | DN9: =SUM(CL9,CS9,CZ9,DG9) -> 70.420796 | DO9: =SUM(CM9,CT9,DA9,DH9) -> 0 | DP9: =SUM(DJ9:DO9) -> 1663.6992 | DR9: 80.224172 | DS9: 71.533606 | DT9: 13.364524 | DV9: =SUM(DQ9:DU9) -> 165.1223 | DZ9: 3.5 | EB9: =SUM(DW9:EA9) -> 3.5 | EC9: 14.573007 | ED9: 120.98631 | EF9: 14.25 | EH9: =SUM(EC9:EG9) -> 149.80932 | EI9: 30.110424 | EJ9: 64.74576 | EK9: 50.045365 | EL9: 1 | EN9: =SUM(EI9:EM9) -> 145.90155 | EO9: 196.62015 | EP9: 223.13556 | EQ9: 323.16326 | ER9: 18.5 | ET9: =SUM(EO9:ES9) -> 761.41898 | EV9: 122.08684 | EX9: 15 | EZ9: =SUM(EU9:EY9) -> 137.08684 | FB9: 10.792967 | FD9: 2 | FF9: =SUM(FA9:FE9) -> 12.792967 | FG9: =SUM(DQ9,DW9,EC9,EI9,EO9,EU9,FA9) -> 241.30358 | FH9: =SUM(DR9,DX9,ED9,EJ9,EP9,EV9,FB9) -> 621.97161 | FI9: =SUM(DS9,DY9,EE9,EK9,EQ9,EW9,FC9) -> 444.74223 | FJ9: =SUM(DT9,DZ9,EF9,EL9,ER9,EX9,FD9) -> 67.614524 | FK9: =SUM(DU9,EA9,EG9,EM9,ES9,EY9,FE9) -> 0 | FL9: =SUM(FG9:FK9) -> 1375.632 | FR9: =SUM(FM9:FQ9) -> 0 | FX9: =SUM(FS9:FW9) -> 0 | GD9: =SUM(FY9:GC9) -> 0 | GJ9: =SUM(GE9:GI9) -> 0 | GK9: 897.06541 | GL9: 27.419024 | GN9: 25.131478 | GP9: =SUM(GK9:GO9) -> 949.61591 | GV9: =SUM(GQ9:GU9) -> 0 | HB9: =SUM(GW9:HA9) -> 0 | HH9: =SUM(HC9:HG9) -> 0 | HI9: =SUM(FM9,FS9,FY9,GE9,GK9,GQ9,GW9,HC9) -> 897.06541 | HJ9: =SUM(FN9,FT9,FZ9,GF9,GL9,GR9,GX9,HD9) -> 27.419024 | HK9: =SUM(HE9,GY9,GS9,GM9,GG9,GA9,FU9,FO9) -> 0 | HL9: =SUM(HF9,GZ9,GT9,GN9,GH9,GB9,FV9,FP9) -> 25.131478 | HM9: =SUM(HG9,HA9,GU9,GO9,GI9,GC9,FW9,FQ9) -> 0 | HN9: =SUM(HI9:HM9) -> 949.61591 | HT9: =SUM(HO9:HS9) -> 0 | HZ9: =SUM(HU9:HY9) -> 0 | IA9: 350.29744 | IB9: 1692.4361 | IC9: 120.74348 | ID9: 39.75 | IF9: =SUM(IA9:IE9) -> 2203.227 | IG9: =SUM(HO9,HU9,IA9) -> 350.29744 | IH9: =SUM(HP9,HV9,IB9) -> 1692.4361 | II9: =SUM(HQ9,HW9,IC9) -> 120.74348 | IJ9: =SUM(HR9,HX9,ID9) -> 39.75 | IK9: =SUM(HS9,HY9,IE9) -> 0 | IL9: =SUM(IG9:IK9) -> 2203.227 | IR9: =SUM(IM9:IQ9) -> 0 | IX9: =SUM(IS9:IW9) -> 0 | JD9: =SUM(IY9:JC9) -> 0 | JE9: =SUM(IM9,IS9,IY9) -> 0 | JF9: =SUM(IN9,IT9,IZ9) -> 0 | JG9: =SUM(IO9,IU9,JA9) -> 0 | JH9: =SUM(IP9,IV9,JB9) -> 0 | JI9: =SUM(IQ9,IW9,JC9) -> 0 | JJ9: =SUM(JE9:JI9) -> 0 | JL9: =SUM(T9,BD9,CB9,DJ9,FG9,HI9,IG9,JE9) -> 6638.4611 | JM9: =SUM(U9,BE9,CC9,DK9,FH9,HJ9,IH9,JF9) -> 10899.07 | JN9: =SUM(V9,BF9,CD9,DL9,FI9,HK9,II9,JG9) -> 2534.1837 | JO9: =SUM(W9,BG9,CE9,DM9,FJ9,HL9,IJ9,JH9) -> 859.2617 | JP9: =SUM(X9,BH9,CF9,DN9,FK9,HM9,IK9,JI9) -> 70.420796 | JQ9: =SUM(DO9) -> 0 | JR9: =SUM(JL9:JQ9) -> 21001.397
A10: IBF = Fir engraver Beetle | G10: =SUM(B10:F10) -> 0 | M10: =SUM(H10:L10) -> 0 | S10: =SUM(N10:R10) -> 0 | T10: =SUM(B10,H10,N10) -> 0 | U10: =SUM(C10,I10,O10) -> 0 | V10: =SUM(D10,J10,P10) -> 0 | W10: =SUM(E10,K10,Q10) -> 0 | X10: =SUM(F10,L10,R10) -> 0 | Y10: =SUM(T10:X10) -> 0 | AE10: =SUM(Z10:AD10) -> 0 | AK10: =SUM(AF10:AJ10) -> 0 | AQ10: =SUM(AL10:AP10) -> 0 | AW10: =SUM(AR10:AV10) -> 0 | BC10: =SUM(AX10:BB10) -> 0 | BD10: =SUM(Z10,AF10,AL10,AR10,AX10) -> 0 | BE10: =SUM(AA10,AG10,AM10,AS10,AY10) -> 0 | BF10: =SUM(AB10,AH10,AN10,AT10,AZ10) -> 0 | BG10: =SUM(AC10,AI10,AO10,AU10,BA10) -> 0 | BH10: =SUM(AD10,AJ10,AP10,AV10,BB10) -> 0 | BI10: =SUM(BD10:BH10) -> 0 | BO10: =SUM(BJ10:BN10) -> 0 | BU10: =SUM(BP10:BT10) -> 0 | CA10: =SUM(BV10:BZ10) -> 0 | CB10: =SUM(BJ10,BP10,BV10) -> 0 | CC10: =SUM(BK10,BQ10,BW10) -> 0 | CD10: =SUM(BL10,BR10,BX10) -> 0 | CE10: =SUM(BM10,BS10,BY10) -> 0 | CF10: =SUM(BN10,BT10,BZ10) -> 0 | CG10: =SUM(CB10:CF10) -> 0 | CN10: =SUM(CH10:CM10) -> 0 | CU10: =SUM(CO10:CT10) -> 0 | DB10: =SUM(CV10:DA10) -> 0 | DI10: =SUM(DC10:DH10) -> 0 | DJ10: =SUM(CH10,CO10,CV10,DC10) -> 0 | DK10: =SUM(CI10,CP10,CW10,DD10) -> 0 | DL10: =SUM(CJ10,CQ10,CX10,DE10) -> 0 | DM10: =SUM(CK10,CR10,CY10,DF10) -> 0 | DN10: =SUM(CL10,CS10,CZ10,DG10) -> 0 | DO10: =SUM(CM10,CT10,DA10,DH10) -> 0 | DP10: =SUM(DJ10:DO10) -> 0 | DV10: =SUM(DQ10:DU10) -> 0 | EB10: =SUM(DW10:EA10) -> 0 | EH10: =SUM(EC10:EG10) -> 0 | EN10: =SUM(EI10:EM10) -> 0 | ET10: =SUM(EO10:ES10) -> 0 | EZ10: =SUM(EU10:EY10) -> 0 | FF10: =SUM(FA10:FE10) -> 0 | FG10: =SUM(DQ10,DW10,EC10,EI10,EO10,EU10,FA10) -> 0 | FH10: =SUM(DR10,DX10,ED10,EJ10,EP10,EV10,FB10) -> 0 | FI10: =SUM(DS10,DY10,EE10,EK10,EQ10,EW10,FC10) -> 0 | FJ10: =SUM(DT10,DZ10,EF10,EL10,ER10,EX10,FD10) -> 0 | FK10: =SUM(DU10,EA10,EG10,EM10,ES10,EY10,FE10) -> 0 | FL10: =SUM(FG10:FK10) -> 0 | FR10: =SUM(FM10:FQ10) -> 0 | FX10: =SUM(FS10:FW10) -> 0 | GD10: =SUM(FY10:GC10) -> 0 | GJ10: =SUM(GE10:GI10) -> 0 | GP10: =SUM(GK10:GO10) -> 0 | GV10: =SUM(GQ10:GU10) -> 0 | HB10: =SUM(GW10:HA10) -> 0 | HH10: =SUM(HC10:HG10) -> 0 | HI10: =SUM(FM10,FS10,FY10,GE10,GK10,GQ10,GW10,HC10) -> 0 | HJ10: =SUM(FN10,FT10,FZ10,GF10,GL10,GR10,GX10,HD10) -> 0 | HK10: =SUM(HE10,GY10,GS10,GM10,GG10,GA10,FU10,FO10) -> 0 | HL10: =SUM(HF10,GZ10,GT10,GN10,GH10,GB10,FV10,FP10) -> 0 | HM10: =SUM(HG10,HA10,GU10,GO10,GI10,GC10,FW10,FQ10) -> 0 | HN10: =SUM(HI10:HM10) -> 0 | HT10: =SUM(HO10:HS10) -> 0 | HZ10: =SUM(HU10:HY10) -> 0 | IF10: =SUM(IA10:IE10) -> 0 | IG10: =SUM(HO10,HU10,IA10) -> 0 | IH10: =SUM(HP10,HV10,IB10) -> 0 | II10: =SUM(HQ10,HW10,IC10) -> 0 | IJ10: =SUM(HR10,HX10,ID10) -> 0 | IK10: =SUM(HS10,HY10,IE10) -> 0 | IL10: =SUM(IG10:IK10) -> 0 | IR10: =SUM(IM10:IQ10) -> 0 | IX10: =SUM(IS10:IW10) -> 0 | JD10: =SUM(IY10:JC10) -> 0 | JE10: =SUM(IM10,IS10,IY10) -> 0 | JF10: =SUM(IN10,IT10,IZ10) -> 0 | JG10: =SUM(IO10,IU10,JA10) -> 0 | JH10: =SUM(IP10,IV10,JB10) -> 0 | JI10: =SUM(IQ10,IW10,JC10) -> 0 | JJ10: =SUM(JE10:JI10) -> 0 | JL10: =SUM(T10,BD10,CB10,DJ10,FG10,HI10,IG10,JE10) -> 0 | JM10: =SUM(U10,BE10,CC10,DK10,FH10,HJ10,IH10,JF10) -> 0 | JN10: =SUM(V10,BF10,CD10,DL10,FI10,HK10,II10,JG10) -> 0 | JO10: =SUM(W10,BG10,CE10,DM10,FJ10,HL10,IJ10,JH10) -> 0 | JP10: =SUM(X10,BH10,CF10,DN10,FK10,HM10,IK10,JI10) -> 0 | JQ10: =SUM(DO10) -> 0 | JR10: =SUM(JL10:JQ10) -> 0
A11: IBP = Twig Beetle | G11: =SUM(B11:F11) -> 0 | M11: =SUM(H11:L11) -> 0 | S11: =SUM(N11:R11) -> 0 | T11: =SUM(B11,H11,N11) -> 0 | U11: =SUM(C11,I11,O11) -> 0 | V11: =SUM(D11,J11,P11) -> 0 | W11: =SUM(E11,K11,Q11) -> 0 | X11: =SUM(F11,L11,R11) -> 0 | Y11: =SUM(T11:X11) -> 0 | AE11: =SUM(Z11:AD11) -> 0 | AK11: =SUM(AF11:AJ11) -> 0 | AQ11: =SUM(AL11:AP11) -> 0 | AW11: =SUM(AR11:AV11) -> 0 | BC11: =SUM(AX11:BB11) -> 0 | BD11: =SUM(Z11,AF11,AL11,AR11,AX11) -> 0 | BE11: =SUM(AA11,AG11,AM11,AS11,AY11) -> 0 | BF11: =SUM(AB11,AH11,AN11,AT11,AZ11) -> 0 | BG11: =SUM(AC11,AI11,AO11,AU11,BA11) -> 0 | BH11: =SUM(AD11,AJ11,AP11,AV11,BB11) -> 0 | BI11: =SUM(BD11:BH11) -> 0 | BO11: =SUM(BJ11:BN11) -> 0 | BU11: =SUM(BP11:BT11) -> 0 | CA11: =SUM(BV11:BZ11) -> 0 | CB11: =SUM(BJ11,BP11,BV11) -> 0 | CC11: =SUM(BK11,BQ11,BW11) -> 0 | CD11: =SUM(BL11,BR11,BX11) -> 0 | CE11: =SUM(BM11,BS11,BY11) -> 0 | CF11: =SUM(BN11,BT11,BZ11) -> 0 | CG11: =SUM(CB11:CF11) -> 0 | CN11: =SUM(CH11:CM11) -> 0 | CU11: =SUM(CO11:CT11) -> 0 | DB11: =SUM(CV11:DA11) -> 0 | DI11: =SUM(DC11:DH11) -> 0 | DJ11: =SUM(CH11,CO11,CV11,DC11) -> 0 | DK11: =SUM(CI11,CP11,CW11,DD11) -> 0 | DL11: =SUM(CJ11,CQ11,CX11,DE11) -> 0 | DM11: =SUM(CK11,CR11,CY11,DF11) -> 0 | DN11: =SUM(CL11,CS11,CZ11,DG11) -> 0 | DO11: =SUM(CM11,CT11,DA11,DH11) -> 0 | DP11: =SUM(DJ11:DO11) -> 0 | DV11: =SUM(DQ11:DU11) -> 0 | EB11: =SUM(DW11:EA11) -> 0 | EH11: =SUM(EC11:EG11) -> 0 | EN11: =SUM(EI11:EM11) -> 0 | ET11: =SUM(EO11:ES11) -> 0 | EZ11: =SUM(EU11:EY11) -> 0 | FF11: =SUM(FA11:FE11) -> 0 | FG11: =SUM(DQ11,DW11,EC11,EI11,EO11,EU11,FA11) -> 0 | FH11: =SUM(DR11,DX11,ED11,EJ11,EP11,EV11,FB11) -> 0 | FI11: =SUM(DS11,DY11,EE11,EK11,EQ11,EW11,FC11) -> 0 | FJ11: =SUM(DT11,DZ11,EF11,EL11,ER11,EX11,FD11) -> 0 | FK11: =SUM(DU11,EA11,EG11,EM11,ES11,EY11,FE11) -> 0 | FL11: =SUM(FG11:FK11) -> 0 | FR11: =SUM(FM11:FQ11) -> 0 | FX11: =SUM(FS11:FW11) -> 0 | GD11: =SUM(FY11:GC11) -> 0 | GJ11: =SUM(GE11:GI11) -> 0 | GP11: =SUM(GK11:GO11) -> 0 | GV11: =SUM(GQ11:GU11) -> 0 | HB11: =SUM(GW11:HA11) -> 0 | HH11: =SUM(HC11:HG11) -> 0 | HI11: =SUM(FM11,FS11,FY11,GE11,GK11,GQ11,GW11,HC11) -> 0 | HJ11: =SUM(FN11,FT11,FZ11,GF11,GL11,GR11,GX11,HD11) -> 0 | HK11: =SUM(HE11,GY11,GS11,GM11,GG11,GA11,FU11,FO11) -> 0 | HL11: =SUM(HF11,GZ11,GT11,GN11,GH11,GB11,FV11,FP11) -> 0 | HM11: =SUM(HG11,HA11,GU11,GO11,GI11,GC11,FW11,FQ11) -> 0 | HN11: =SUM(HI11:HM11) -> 0 | HT11: =SUM(HO11:HS11) -> 0 | HZ11: =SUM(HU11:HY11) -> 0 | IF11: =SUM(IA11:IE11) -> 0 | IG11: =SUM(HO11,HU11,IA11) -> 0 | IH11: =SUM(HP11,HV11,IB11) -> 0 | II11: =SUM(HQ11,HW11,IC11) -> 0 | IJ11: =SUM(HR11,HX11,ID11) -> 0 | IK11: =SUM(HS11,HY11,IE11) -> 0 | IL11: =SUM(IG11:IK11) -> 0 | IR11: =SUM(IM11:IQ11) -> 0 | IX11: =SUM(IS11:IW11) -> 0 | JD11: =SUM(IY11:JC11) -> 0 | JE11: =SUM(IM11,IS11,IY11) -> 0 | JF11: =SUM(IN11,IT11,IZ11) -> 0 | JG11: =SUM(IO11,IU11,JA11) -> 0 | JH11: =SUM(IP11,IV11,JB11) -> 0 | JI11: =SUM(IQ11,IW11,JC11) -> 0 | JJ11: =SUM(JE11:JI11) -> 0 | JL11: =SUM(T11,BD11,CB11,DJ11,FG11,HI11,IG11,JE11) -> 0 | JM11: =SUM(U11,BE11,CC11,DK11,FH11,HJ11,IH11,JF11) -> 0 | JN11: =SUM(V11,BF11,CD11,DL11,FI11,HK11,II11,JG11) -> 0 | JO11: =SUM(W11,BG11,CE11,DM11,FJ11,HL11,IJ11,JH11) -> 0 | JP11: =SUM(X11,BH11,CF11,DN11,FK11,HM11,IK11,JI11) -> 0 | JQ11: =SUM(DO11) -> 0 | JR11: =SUM(JL11:JQ11) -> 0
A12: IBI=Engraver Beetle (Ips species) | G12: =SUM(B12:F12) -> 0 | M12: =SUM(H12:L12) -> 0 | S12: =SUM(N12:R12) -> 0 | T12: =SUM(B12,H12,N12) -> 0 | U12: =SUM(C12,I12,O12) -> 0 | V12: =SUM(D12,J12,P12) -> 0 | W12: =SUM(E12,K12,Q12) -> 0 | X12: =SUM(F12,L12,R12) -> 0 | Y12: =SUM(T12:X12) -> 0 | AE12: =SUM(Z12:AD12) -> 0 | AK12: =SUM(AF12:AJ12) -> 0 | AQ12: =SUM(AL12:AP12) -> 0 | AW12: =SUM(AR12:AV12) -> 0 | BC12: =SUM(AX12:BB12) -> 0 | BD12: =SUM(Z12,AF12,AL12,AR12,AX12) -> 0 | BE12: =SUM(AA12,AG12,AM12,AS12,AY12) -> 0 | BF12: =SUM(AB12,AH12,AN12,AT12,AZ12) -> 0 | BG12: =SUM(AC12,AI12,AO12,AU12,BA12) -> 0 | BH12: =SUM(AD12,AJ12,AP12,AV12,BB12) -> 0 | BI12: =SUM(BD12:BH12) -> 0 | BO12: =SUM(BJ12:BN12) -> 0 | BU12: =SUM(BP12:BT12) -> 0 | CA12: =SUM(BV12:BZ12) -> 0 | CB12: =SUM(BJ12,BP12,BV12) -> 0 | CC12: =SUM(BK12,BQ12,BW12) -> 0 | CD12: =SUM(BL12,BR12,BX12) -> 0 | CE12: =SUM(BM12,BS12,BY12) -> 0 | CF12: =SUM(BN12,BT12,BZ12) -> 0 | CG12: =SUM(CB12:CF12) -> 0 | CN12: =SUM(CH12:CM12) -> 0 | CU12: =SUM(CO12:CT12) -> 0 | DB12: =SUM(CV12:DA12) -> 0 | DI12: =SUM(DC12:DH12) -> 0 | DJ12: =SUM(CH12,CO12,CV12,DC12) -> 0 | DK12: =SUM(CI12,CP12,CW12,DD12) -> 0 | DL12: =SUM(CJ12,CQ12,CX12,DE12) -> 0 | DM12: =SUM(CK12,CR12,CY12,DF12) -> 0 | DN12: =SUM(CL12,CS12,CZ12,DG12) -> 0 | DO12: =SUM(CM12,CT12,DA12,DH12) -> 0 | DP12: =SUM(DJ12:DO12) -> 0 | DV12: =SUM(DQ12:DU12) -> 0 | EB12: =SUM(DW12:EA12) -> 0 | EH12: =SUM(EC12:EG12) -> 0 | EN12: =SUM(EI12:EM12) -> 0 | ET12: =SUM(EO12:ES12) -> 0 | EZ12: =SUM(EU12:EY12) -> 0 | FF12: =SUM(FA12:FE12) -> 0 | FG12: =SUM(DQ12,DW12,EC12,EI12,EO12,EU12,FA12) -> 0 | FH12: =SUM(DR12,DX12,ED12,EJ12,EP12,EV12,FB12) -> 0 | FI12: =SUM(DS12,DY12,EE12,EK12,EQ12,EW12,FC12) -> 0 | FJ12: =SUM(DT12,DZ12,EF12,EL12,ER12,EX12,FD12) -> 0 | FK12: =SUM(DU12,EA12,EG12,EM12,ES12,EY12,FE12) -> 0 | FL12: =SUM(FG12:FK12) -> 0 | FR12: =SUM(FM12:FQ12) -> 0 | FX12: =SUM(FS12:FW12) -> 0 | GD12: =SUM(FY12:GC12) -> 0 | GJ12: =SUM(GE12:GI12) -> 0 | GP12: =SUM(GK12:GO12) -> 0 | GV12: =SUM(GQ12:GU12) -> 0 | HB12: =SUM(GW12:HA12) -> 0 | HH12: =SUM(HC12:HG12) -> 0 | HI12: =SUM(FM12,FS12,FY12,GE12,GK12,GQ12,GW12,HC12) -> 0 | HJ12: =SUM(FN12,FT12,FZ12,GF12,GL12,GR12,GX12,HD12) -> 0 | HK12: =SUM(HE12,GY12,GS12,GM12,GG12,GA12,FU12,FO12) -> 0 | HL12: =SUM(HF12,GZ12,GT12,GN12,GH12,GB12,FV12,FP12) -> 0 | HM12: =SUM(HG12,HA12,GU12,GO12,GI12,GC12,FW12,FQ12) -> 0 | HN12: =SUM(HI12:HM12) -> 0 | HT12: =SUM(HO12:HS12) -> 0 | HZ12: =SUM(HU12:HY12) -> 0 | IF12: =SUM(IA12:IE12) -> 0 | IG12: =SUM(HO12,HU12,IA12) -> 0 | IH12: =SUM(HP12,HV12,IB12) -> 0 | II12: =SUM(HQ12,HW12,IC12) -> 0 | IJ12: =SUM(HR12,HX12,ID12) -> 0 | IK12: =SUM(HS12,HY12,IE12) -> 0 | IL12: =SUM(IG12:IK12) -> 0 | IR12: =SUM(IM12:IQ12) -> 0 | IX12: =SUM(IS12:IW12) -> 0 | JD12: =SUM(IY12:JC12) -> 0 | JE12: =SUM(IM12,IS12,IY12) -> 0 | JF12: =SUM(IN12,IT12,IZ12) -> 0 | JG12: =SUM(IO12,IU12,JA12) -> 0 | JH12: =SUM(IP12,IV12,JB12) -> 0 | JI12: =SUM(IQ12,IW12,JC12) -> 0 | JJ12: =SUM(JE12:JI12) -> 0 | JL12: =SUM(T12,BD12,CB12,DJ12,FG12,HI12,IG12,JE12) -> 0 | JM12: =SUM(U12,BE12,CC12,DK12,FH12,HJ12,IH12,JF12) -> 0 | JN12: =SUM(V12,BF12,CD12,DL12,FI12,HK12,II12,JG12) -> 0 | JO12: =SUM(W12,BG12,CE12,DM12,FJ12,HL12,IJ12,JH12) -> 0 | JP12: =SUM(X12,BH12,CF12,DN12,FK12,HM12,IK12,JI12) -> 0 | JQ12: =SUM(DO12) -> 0 | JR12: =SUM(JL12:JQ12) -> 0
A13: IBW=Western Pine Beetle | G13: =SUM(B13:F13) -> 0 | M13: =SUM(H13:L13) -> 0 | S13: =SUM(N13:R13) -> 0 | T13: =SUM(B13,H13,N13) -> 0 | U13: =SUM(C13,I13,O13) -> 0 | V13: =SUM(D13,J13,P13) -> 0 | W13: =SUM(E13,K13,Q13) -> 0 | X13: =SUM(F13,L13,R13) -> 0 | Y13: =SUM(T13:X13) -> 0 | AE13: =SUM(Z13:AD13) -> 0 | AK13: =SUM(AF13:AJ13) -> 0 | AQ13: =SUM(AL13:AP13) -> 0 | AW13: =SUM(AR13:AV13) -> 0 | BC13: =SUM(AX13:BB13) -> 0 | BD13: =SUM(Z13,AF13,AL13,AR13,AX13) -> 0 | BE13: =SUM(AA13,AG13,AM13,AS13,AY13) -> 0 | BF13: =SUM(AB13,AH13,AN13,AT13,AZ13) -> 0 | BG13: =SUM(AC13,AI13,AO13,AU13,BA13) -> 0 | BH13: =SUM(AD13,AJ13,AP13,AV13,BB13) -> 0 | BI13: =SUM(BD13:BH13) -> 0 | BO13: =SUM(BJ13:BN13) -> 0 | BU13: =SUM(BP13:BT13) -> 0 | CA13: =SUM(BV13:BZ13) -> 0 | CB13: =SUM(BJ13,BP13,BV13) -> 0 | CC13: =SUM(BK13,BQ13,BW13) -> 0 | CD13: =SUM(BL13,BR13,BX13) -> 0 | CE13: =SUM(BM13,BS13,BY13) -> 0 | CF13: =SUM(BN13,BT13,BZ13) -> 0 | CG13: =SUM(CB13:CF13) -> 0 | CN13: =SUM(CH13:CM13) -> 0 | CU13: =SUM(CO13:CT13) -> 0 | DB13: =SUM(CV13:DA13) -> 0 | DI13: =SUM(DC13:DH13) -> 0 | DJ13: =SUM(CH13,CO13,CV13,DC13) -> 0 | DK13: =SUM(CI13,CP13,CW13,DD13) -> 0 | DL13: =SUM(CJ13,CQ13,CX13,DE13) -> 0 | DM13: =SUM(CK13,CR13,CY13,DF13) -> 0 | DN13: =SUM(CL13,CS13,CZ13,DG13) -> 0 | DO13: =SUM(CM13,CT13,DA13,DH13) -> 0 | DP13: =SUM(DJ13:DO13) -> 0 | DV13: =SUM(DQ13:DU13) -> 0 | EB13: =SUM(DW13:EA13) -> 0 | EH13: =SUM(EC13:EG13) -> 0 | EN13: =SUM(EI13:EM13) -> 0 | ET13: =SUM(EO13:ES13) -> 0 | EZ13: =SUM(EU13:EY13) -> 0 | FF13: =SUM(FA13:FE13) -> 0 | FG13: =SUM(DQ13,DW13,EC13,EI13,EO13,EU13,FA13) -> 0 | FH13: =SUM(DR13,DX13,ED13,EJ13,EP13,EV13,FB13) -> 0 | FI13: =SUM(DS13,DY13,EE13,EK13,EQ13,EW13,FC13) -> 0 | FJ13: =SUM(DT13,DZ13,EF13,EL13,ER13,EX13,FD13) -> 0 | FK13: =SUM(DU13,EA13,EG13,EM13,ES13,EY13,FE13) -> 0 | FL13: =SUM(FG13:FK13) -> 0 | FR13: =SUM(FM13:FQ13) -> 0 | FX13: =SUM(FS13:FW13) -> 0 | GD13: =SUM(FY13:GC13) -> 0 | GJ13: =SUM(GE13:GI13) -> 0 | GP13: =SUM(GK13:GO13) -> 0 | GV13: =SUM(GQ13:GU13) -> 0 | HB13: =SUM(GW13:HA13) -> 0 | HH13: =SUM(HC13:HG13) -> 0 | HI13: =SUM(FM13,FS13,FY13,GE13,GK13,GQ13,GW13,HC13) -> 0 | HJ13: =SUM(FN13,FT13,FZ13,GF13,GL13,GR13,GX13,HD13) -> 0 | HK13: =SUM(HE13,GY13,GS13,GM13,GG13,GA13,FU13,FO13) -> 0 | HL13: =SUM(HF13,GZ13,GT13,GN13,GH13,GB13,FV13,FP13) -> 0 | HM13: =SUM(HG13,HA13,GU13,GO13,GI13,GC13,FW13,FQ13) -> 0 | HN13: =SUM(HI13:HM13) -> 0 | HT13: =SUM(HO13:HS13) -> 0 | HZ13: =SUM(HU13:HY13) -> 0 | IF13: =SUM(IA13:IE13) -> 0 | IG13: =SUM(HO13,HU13,IA13) -> 0 | IH13: =SUM(HP13,HV13,IB13) -> 0 | II13: =SUM(HQ13,HW13,IC13) -> 0 | IJ13: =SUM(HR13,HX13,ID13) -> 0 | IK13: =SUM(HS13,HY13,IE13) -> 0 | IL13: =SUM(IG13:IK13) -> 0 | IR13: =SUM(IM13:IQ13) -> 0 | IX13: =SUM(IS13:IW13) -> 0 | JD13: =SUM(IY13:JC13) -> 0 | JE13: =SUM(IM13,IS13,IY13) -> 0 | JF13: =SUM(IN13,IT13,IZ13) -> 0 | JG13: =SUM(IO13,IU13,JA13) -> 0 | JH13: =SUM(IP13,IV13,JB13) -> 0 | JI13: =SUM(IQ13,IW13,JC13) -> 0 | JJ13: =SUM(JE13:JI13) -> 0 | JL13: =SUM(T13,BD13,CB13,DJ13,FG13,HI13,IG13,JE13) -> 0 | JM13: =SUM(U13,BE13,CC13,DK13,FH13,HJ13,IH13,JF13) -> 0 | JN13: =SUM(V13,BF13,CD13,DL13,FI13,HK13,II13,JG13) -> 0 | JO13: =SUM(W13,BG13,CE13,DM13,FJ13,HL13,IJ13,JH13) -> 0 | JP13: =SUM(X13,BH13,CF13,DN13,FK13,HM13,IK13,JI13) -> 0 | JQ13: =SUM(DO13) -> 0 | JR13: =SUM(JL13:JQ13) -> 0
A14: IBL=Lodgepole Pine Beetle | G14: =SUM(B14:F14) -> 0 | M14: =SUM(H14:L14) -> 0 | S14: =SUM(N14:R14) -> 0 | T14: =SUM(B14,H14,N14) -> 0 | U14: =SUM(C14,I14,O14) -> 0 | V14: =SUM(D14,J14,P14) -> 0 | W14: =SUM(E14,K14,Q14) -> 0 | X14: =SUM(F14,L14,R14) -> 0 | Y14: =SUM(T14:X14) -> 0 | AE14: =SUM(Z14:AD14) -> 0 | AK14: =SUM(AF14:AJ14) -> 0 | AQ14: =SUM(AL14:AP14) -> 0 | AW14: =SUM(AR14:AV14) -> 0 | BC14: =SUM(AX14:BB14) -> 0 | BD14: =SUM(Z14,AF14,AL14,AR14,AX14) -> 0 | BE14: =SUM(AA14,AG14,AM14,AS14,AY14) -> 0 | BF14: =SUM(AB14,AH14,AN14,AT14,AZ14) -> 0 | BG14: =SUM(AC14,AI14,AO14,AU14,BA14) -> 0 | BH14: =SUM(AD14,AJ14,AP14,AV14,BB14) -> 0 | BI14: =SUM(BD14:BH14) -> 0 | BO14: =SUM(BJ14:BN14) -> 0 | BU14: =SUM(BP14:BT14) -> 0 | CA14: =SUM(BV14:BZ14) -> 0 | CB14: =SUM(BJ14,BP14,BV14) -> 0 | CC14: =SUM(BK14,BQ14,BW14) -> 0 | CD14: =SUM(BL14,BR14,BX14) -> 0 | CE14: =SUM(BM14,BS14,BY14) -> 0 | CF14: =SUM(BN14,BT14,BZ14) -> 0 | CG14: =SUM(CB14:CF14) -> 0 | CN14: =SUM(CH14:CM14) -> 0 | CU14: =SUM(CO14:CT14) -> 0 | DB14: =SUM(CV14:DA14) -> 0 | DI14: =SUM(DC14:DH14) -> 0 | DJ14: =SUM(CH14,CO14,CV14,DC14) -> 0 | DK14: =SUM(CI14,CP14,CW14,DD14) -> 0 | DL14: =SUM(CJ14,CQ14,CX14,DE14) -> 0 | DM14: =SUM(CK14,CR14,CY14,DF14) -> 0 | DN14: =SUM(CL14,CS14,CZ14,DG14) -> 0 | DO14: =SUM(CM14,CT14,DA14,DH14) -> 0 | DP14: =SUM(DJ14:DO14) -> 0 | DV14: =SUM(DQ14:DU14) -> 0 | EB14: =SUM(DW14:EA14) -> 0 | EH14: =SUM(EC14:EG14) -> 0 | EN14: =SUM(EI14:EM14) -> 0 | ET14: =SUM(EO14:ES14) -> 0 | EZ14: =SUM(EU14:EY14) -> 0 | FF14: =SUM(FA14:FE14) -> 0 | FG14: =SUM(DQ14,DW14,EC14,EI14,EO14,EU14,FA14) -> 0 | FH14: =SUM(DR14,DX14,ED14,EJ14,EP14,EV14,FB14) -> 0 | FI14: =SUM(DS14,DY14,EE14,EK14,EQ14,EW14,FC14) -> 0 | FJ14: =SUM(DT14,DZ14,EF14,EL14,ER14,EX14,FD14) -> 0 | FK14: =SUM(DU14,EA14,EG14,EM14,ES14,EY14,FE14) -> 0 | FL14: =SUM(FG14:FK14) -> 0 | FR14: =SUM(FM14:FQ14) -> 0 | FX14: =SUM(FS14:FW14) -> 0 | GD14: =SUM(FY14:GC14) -> 0 | GJ14: =SUM(GE14:GI14) -> 0 | GP14: =SUM(GK14:GO14) -> 0 | GV14: =SUM(GQ14:GU14) -> 0 | HB14: =SUM(GW14:HA14) -> 0 | HH14: =SUM(HC14:HG14) -> 0 | HI14: =SUM(FM14,FS14,FY14,GE14,GK14,GQ14,GW14,HC14) -> 0 | HJ14: =SUM(FN14,FT14,FZ14,GF14,GL14,GR14,GX14,HD14) -> 0 | HK14: =SUM(HE14,GY14,GS14,GM14,GG14,GA14,FU14,FO14) -> 0 | HL14: =SUM(HF14,GZ14,GT14,GN14,GH14,GB14,FV14,FP14) -> 0 | HM14: =SUM(HG14,HA14,GU14,GO14,GI14,GC14,FW14,FQ14) -> 0 | HN14: =SUM(HI14:HM14) -> 0 | HT14: =SUM(HO14:HS14) -> 0 | HZ14: =SUM(HU14:HY14) -> 0 | IF14: =SUM(IA14:IE14) -> 0 | IG14: =SUM(HO14,HU14,IA14) -> 0 | IH14: =SUM(HP14,HV14,IB14) -> 0 | II14: =SUM(HQ14,HW14,IC14) -> 0 | IJ14: =SUM(HR14,HX14,ID14) -> 0 | IK14: =SUM(HS14,HY14,IE14) -> 0 | IL14: =SUM(IG14:IK14) -> 0 | IR14: =SUM(IM14:IQ14) -> 0 | IX14: =SUM(IS14:IW14) -> 0 | JD14: =SUM(IY14:JC14) -> 0 | JE14: =SUM(IM14,IS14,IY14) -> 0 | JF14: =SUM(IN14,IT14,IZ14) -> 0 | JG14: =SUM(IO14,IU14,JA14) -> 0 | JH14: =SUM(IP14,IV14,JB14) -> 0 | JI14: =SUM(IQ14,IW14,JC14) -> 0 | JJ14: =SUM(JE14:JI14) -> 0 | JL14: =SUM(T14,BD14,CB14,DJ14,FG14,HI14,IG14,JE14) -> 0 | JM14: =SUM(U14,BE14,CC14,DK14,FH14,HJ14,IH14,JF14) -> 0 | JN14: =SUM(V14,BF14,CD14,DL14,FI14,HK14,II14,JG14) -> 0 | JO14: =SUM(W14,BG14,CE14,DM14,FJ14,HL14,IJ14,JH14) -> 0 | JP14: =SUM(X14,BH14,CF14,DN14,FK14,HM14,IK14,JI14) -> 0 | JQ14: =SUM(DO14) -> 0 | JR14: =SUM(JL14:JQ14) -> 0
A15: IBT=Red Turpentine Beetle | G15: =SUM(B15:F15) -> 0 | M15: =SUM(H15:L15) -> 0 | S15: =SUM(N15:R15) -> 0 | T15: =SUM(B15,H15,N15) -> 0 | U15: =SUM(C15,I15,O15) -> 0 | V15: =SUM(D15,J15,P15) -> 0 | W15: =SUM(E15,K15,Q15) -> 0 | X15: =SUM(F15,L15,R15) -> 0 | Y15: =SUM(T15:X15) -> 0 | AE15: =SUM(Z15:AD15) -> 0 | AK15: =SUM(AF15:AJ15) -> 0 | AQ15: =SUM(AL15:AP15) -> 0 | AW15: =SUM(AR15:AV15) -> 0 | BC15: =SUM(AX15:BB15) -> 0 | BD15: =SUM(Z15,AF15,AL15,AR15,AX15) -> 0 | BE15: =SUM(AA15,AG15,AM15,AS15,AY15) -> 0 | BF15: =SUM(AB15,AH15,AN15,AT15,AZ15) -> 0 | BG15: =SUM(AC15,AI15,AO15,AU15,BA15) -> 0 | BH15: =SUM(AD15,AJ15,AP15,AV15,BB15) -> 0 | BI15: =SUM(BD15:BH15) -> 0 | BO15: =SUM(BJ15:BN15) -> 0 | BU15: =SUM(BP15:BT15) -> 0 | CA15: =SUM(BV15:BZ15) -> 0 | CB15: =SUM(BJ15,BP15,BV15) -> 0 | CC15: =SUM(BK15,BQ15,BW15) -> 0 | CD15: =SUM(BL15,BR15,BX15) -> 0 | CE15: =SUM(BM15,BS15,BY15) -> 0 | CF15: =SUM(BN15,BT15,BZ15) -> 0 | CG15: =SUM(CB15:CF15) -> 0 | CN15: =SUM(CH15:CM15) -> 0 | CU15: =SUM(CO15:CT15) -> 0 | DB15: =SUM(CV15:DA15) -> 0 | DI15: =SUM(DC15:DH15) -> 0 | DJ15: =SUM(CH15,CO15,CV15,DC15) -> 0 | DK15: =SUM(CI15,CP15,CW15,DD15) -> 0 | DL15: =SUM(CJ15,CQ15,CX15,DE15) -> 0 | DM15: =SUM(CK15,CR15,CY15,DF15) -> 0 | DN15: =SUM(CL15,CS15,CZ15,DG15) -> 0 | DO15: =SUM(CM15,CT15,DA15,DH15) -> 0 | DP15: =SUM(DJ15:DO15) -> 0 | DV15: =SUM(DQ15:DU15) -> 0 | EB15: =SUM(DW15:EA15) -> 0 | EH15: =SUM(EC15:EG15) -> 0 | EN15: =SUM(EI15:EM15) -> 0 | ET15: =SUM(EO15:ES15) -> 0 | EZ15: =SUM(EU15:EY15) -> 0 | FF15: =SUM(FA15:FE15) -> 0 | FG15: =SUM(DQ15,DW15,EC15,EI15,EO15,EU15,FA15) -> 0 | FH15: =SUM(DR15,DX15,ED15,EJ15,EP15,EV15,FB15) -> 0 | FI15: =SUM(DS15,DY15,EE15,EK15,EQ15,EW15,FC15) -> 0 | FJ15: =SUM(DT15,DZ15,EF15,EL15,ER15,EX15,FD15) -> 0 | FK15: =SUM(DU15,EA15,EG15,EM15,ES15,EY15,FE15) -> 0 | FL15: =SUM(FG15:FK15) -> 0 | FR15: =SUM(FM15:FQ15) -> 0 | FX15: =SUM(FS15:FW15) -> 0 | GD15: =SUM(FY15:GC15) -> 0 | GJ15: =SUM(GE15:GI15) -> 0 | GP15: =SUM(GK15:GO15) -> 0 | GV15: =SUM(GQ15:GU15) -> 0 | HB15: =SUM(GW15:HA15) -> 0 | HH15: =SUM(HC15:HG15) -> 0 | HI15: =SUM(FM15,FS15,FY15,GE15,GK15,GQ15,GW15,HC15) -> 0 | HJ15: =SUM(FN15,FT15,FZ15,GF15,GL15,GR15,GX15,HD15) -> 0 | HK15: =SUM(HE15,GY15,GS15,GM15,GG15,GA15,FU15,FO15) -> 0 | HL15: =SUM(HF15,GZ15,GT15,GN15,GH15,GB15,FV15,FP15) -> 0 | HM15: =SUM(HG15,HA15,GU15,GO15,GI15,GC15,FW15,FQ15) -> 0 | HN15: =SUM(HI15:HM15) -> 0 | HT15: =SUM(HO15:HS15) -> 0 | HZ15: =SUM(HU15:HY15) -> 0 | IF15: =SUM(IA15:IE15) -> 0 | IG15: =SUM(HO15,HU15,IA15) -> 0 | IH15: =SUM(HP15,HV15,IB15) -> 0 | II15: =SUM(HQ15,HW15,IC15) -> 0 | IJ15: =SUM(HR15,HX15,ID15) -> 0 | IK15: =SUM(HS15,HY15,IE15) -> 0 | IL15: =SUM(IG15:IK15) -> 0 | IR15: =SUM(IM15:IQ15) -> 0 | IX15: =SUM(IS15:IW15) -> 0 | JD15: =SUM(IY15:JC15) -> 0 | JE15: =SUM(IM15,IS15,IY15) -> 0 | JF15: =SUM(IN15,IT15,IZ15) -> 0 | JG15: =SUM(IO15,IU15,JA15) -> 0 | JH15: =SUM(IP15,IV15,JB15) -> 0 | JI15: =SUM(IQ15,IW15,JC15) -> 0 | JJ15: =SUM(JE15:JI15) -> 0 | JL15: =SUM(T15,BD15,CB15,DJ15,FG15,HI15,IG15,JE15) -> 0 | JM15: =SUM(U15,BE15,CC15,DK15,FH15,HJ15,IH15,JF15) -> 0 | JN15: =SUM(V15,BF15,CD15,DL15,FI15,HK15,II15,JG15) -> 0 | JO15: =SUM(W15,BG15,CE15,DM15,FJ15,HL15,IJ15,JH15) -> 0 | JP15: =SUM(X15,BH15,CF15,DN15,FK15,HM15,IK15,JI15) -> 0 | JQ15: =SUM(DO15) -> 0 | JR15: =SUM(JL15:JQ15) -> 0
A16: I?B=Young pine mortality unknown | G16: =SUM(B16:F16) -> 0 | M16: =SUM(H16:L16) -> 0 | S16: =SUM(N16:R16) -> 0 | T16: =SUM(B16,H16,N16) -> 0 | U16: =SUM(C16,I16,O16) -> 0 | V16: =SUM(D16,J16,P16) -> 0 | W16: =SUM(E16,K16,Q16) -> 0 | X16: =SUM(F16,L16,R16) -> 0 | Y16: =SUM(T16:X16) -> 0 | AE16: =SUM(Z16:AD16) -> 0 | AK16: =SUM(AF16:AJ16) -> 0 | AQ16: =SUM(AL16:AP16) -> 0 | AW16: =SUM(AR16:AV16) -> 0 | BC16: =SUM(AX16:BB16) -> 0 | BD16: =SUM(Z16,AF16,AL16,AR16,AX16) -> 0 | BE16: =SUM(AA16,AG16,AM16,AS16,AY16) -> 0 | BF16: =SUM(AB16,AH16,AN16,AT16,AZ16) -> 0 | BG16: =SUM(AC16,AI16,AO16,AU16,BA16) -> 0 | BH16: =SUM(AD16,AJ16,AP16,AV16,BB16) -> 0 | BI16: =SUM(BD16:BH16) -> 0 | BK16: 437.72638 | BM16: 77.007002 | BO16: =SUM(BJ16:BN16) -> 514.73338 | BU16: =SUM(BP16:BT16) -> 0 | BV16: 12.486828 | BW16: 44.011623 | CA16: =SUM(BV16:BZ16) -> 56.49845 | CB16: =SUM(BJ16,BP16,BV16) -> 12.486828 | CC16: =SUM(BK16,BQ16,BW16) -> 481.738 | CD16: =SUM(BL16,BR16,BX16) -> 0 | CE16: =SUM(BM16,BS16,BY16) -> 77.007002 | CF16: =SUM(BN16,BT16,BZ16) -> 0 | CG16: =SUM(CB16:CF16) -> 571.23183 | CN16: =SUM(CH16:CM16) -> 0 | CU16: =SUM(CO16:CT16) -> 0 | DB16: =SUM(CV16:DA16) -> 0 | DI16: =SUM(DC16:DH16) -> 0 | DJ16: =SUM(CH16,CO16,CV16,DC16) -> 0 | DK16: =SUM(CI16,CP16,CW16,DD16) -> 0 | DL16: =SUM(CJ16,CQ16,CX16,DE16) -> 0 | DM16: =SUM(CK16,CR16,CY16,DF16) -> 0 | DN16: =SUM(CL16,CS16,CZ16,DG16) -> 0 | DO16: =SUM(CM16,CT16,DA16,DH16) -> 0 | DP16: =SUM(DJ16:DO16) -> 0 | DV16: =SUM(DQ16:DU16) -> 0 | EB16: =SUM(DW16:EA16) -> 0 | EH16: =SUM(EC16:EG16) -> 0 | EN16: =SUM(EI16:EM16) -> 0 | ET16: =SUM(EO16:ES16) -> 0 | EZ16: =SUM(EU16:EY16) -> 0 | FF16: =SUM(FA16:FE16) -> 0 | FG16: =SUM(DQ16,DW16,EC16,EI16,EO16,EU16,FA16) -> 0 | FH16: =SUM(DR16,DX16,ED16,EJ16,EP16,EV16,FB16) -> 0 | FI16: =SUM(DS16,DY16,EE16,EK16,EQ16,EW16,FC16) -> 0 | FJ16: =SUM(DT16,DZ16,EF16,EL16,ER16,EX16,FD16) -> 0 | FK16: =SUM(DU16,EA16,EG16,EM16,ES16,EY16,FE16) -> 0 | FL16: =SUM(FG16:FK16) -> 0 | FM16: 1007.3769 | FN16: 76.127932 | FR16: =SUM(FM16:FQ16) -> 1083.5048 | FX16: =SUM(FS16:FW16) -> 0 | GD16: =SUM(FY16:GC16) -> 0 | GJ16: =SUM(GE16:GI16) -> 0 | GK16: 1869.7753 | GL16: 187.51016 | GN16: 9.5 | GP16: =SUM(GK16:GO16) -> 2066.7855 | GQ16: 1021.7519 | GR16: 50.864882 | GS16: 66.861407 | GT16: 16.879871 | GV16: =SUM(GQ16:GU16) -> 1156.3581 | HB16: =SUM(GW16:HA16) -> 0 | HH16: =SUM(HC16:HG16) -> 0 | HI16: =SUM(FM16,FS16,FY16,GE16,GK16,GQ16,GW16,HC16) -> 3898.9041 | HJ16: =SUM(FN16,FT16,FZ16,GF16,GL16,GR16,GX16,HD16) -> 314.50297 | HK16: =SUM(HE16,GY16,GS16,GM16,GG16,GA16,FU16,FO16) -> 66.861407 | HL16: =SUM(HF16,GZ16,GT16,GN16,GH16,GB16,FV16,FP16) -> 26.379871 | HM16: =SUM(HG16,HA16,GU16,GO16,GI16,GC16,FW16,FQ16) -> 0 | HN16: =SUM(HI16:HM16) -> 4306.6484 | HT16: =SUM(HO16:HS16) -> 0 | HZ16: =SUM(HU16:HY16) -> 0 | IB16: 74.088286 | ID16: 39.142354 | IF16: =SUM(IA16:IE16) -> 113.23064 | IG16: =SUM(HO16,HU16,IA16) -> 0 | IH16: =SUM(HP16,HV16,IB16) -> 74.088286 | II16: =SUM(HQ16,HW16,IC16) -> 0 | IJ16: =SUM(HR16,HX16,ID16) -> 39.142354 | IK16: =SUM(HS16,HY16,IE16) -> 0 | IL16: =SUM(IG16:IK16) -> 113.23064 | IR16: =SUM(IM16:IQ16) -> 0 | IX16: =SUM(IS16:IW16) -> 0 | JD16: =SUM(IY16:JC16) -> 0 | JE16: =SUM(IM16,IS16,IY16) -> 0 | JF16: =SUM(IN16,IT16,IZ16) -> 0 | JG16: =SUM(IO16,IU16,JA16) -> 0 | JH16: =SUM(IP16,IV16,JB16) -> 0 | JI16: =SUM(IQ16,IW16,JC16) -> 0 | JJ16: =SUM(JE16:JI16) -> 0 | JL16: =SUM(T16,BD16,CB16,DJ16,FG16,HI16,IG16,JE16) -> 3911.3909 | JM16: =SUM(U16,BE16,CC16,DK16,FH16,HJ16,IH16,JF16) -> 870.32926 | JN16: =SUM(V16,BF16,CD16,DL16,FI16,HK16,II16,JG16) -> 66.861407 | JO16: =SUM(W16,BG16,CE16,DM16,FJ16,HL16,IJ16,JH16) -> 142.52923 | JP16: =SUM(X16,BH16,CF16,DN16,FK16,HM16,IK16,JI16) -> 0 | JQ16: =SUM(DO16) -> 0 | JR16: =SUM(JL16:JQ16) -> 4991.1108
